BEGIN:VCALENDAR
VERSION:2.0
PRODID:-//UCSF - Universidad Católica de Santa Fe - ECPv5.14.2.1//NONSGML v1.0//EN
CALSCALE:GREGORIAN
METHOD:PUBLISH
X-WR-CALNAME:UCSF - Universidad Católica de Santa Fe
X-ORIGINAL-URL:https://www.ucsf.edu.ar
X-WR-CALDESC:Events for UCSF - Universidad Católica de Santa Fe
REFRESH-INTERVAL;VALUE=DURATION:PT1H
X-Robots-Tag:noindex
X-PUBLISHED-TTL:PT1H
BEGIN:VTIMEZONE
TZID:America/Sao_Paulo
BEGIN:STANDARD
TZOFFSETFROM:-0200
TZOFFSETTO:-0300
TZNAME:-03
DTSTART:20180218T020000
END:STANDARD
BEGIN:DAYLIGHT
TZOFFSETFROM:-0300
TZOFFSETTO:-0200
TZNAME:-02
DTSTART:20181104T030000
END:DAYLIGHT
END:VTIMEZONE
BEGIN:VEVENT
DTSTART;TZID=America/Sao_Paulo:20180608T140000
DTEND;TZID=America/Sao_Paulo:20180608T170000
DTSTAMP:20260424T011130
CREATED:20180425T133705Z
LAST-MODIFIED:20180425T133705Z
UID:41383-1528466400-1528477200@www.ucsf.edu.ar
SUMMARY:Salud en Rafaela: Primeros Auxilios y RCP. Aprende a Salvar Vidas!
DESCRIPTION:  \nSUMATE A SALVAR VIDAS! \nPrimeras Capacitacitación en resucitación cardiopulmonar (RCP) y Primeros Auxilios Básicos. \nTe esperamos!
URL:https://www.ucsf.edu.ar/evento/salud-en-rafaela-primeros-auxilios-y-rcp-2/
CATEGORIES:Facultades,PUA, Programa Universidad Abierta,Ciencias de la Salud,Rafaela,Sedes,IEHDS Instituto de Ecología Humana y Desarrollo Sustentable,Institutos,Licenciatura en Obstetricia,Licenciatura en Terapia Ocupacional
END:VEVENT
BEGIN:VEVENT
DTSTART;TZID=America/Sao_Paulo:20180608T140000
DTEND;TZID=America/Sao_Paulo:20180608T170000
DTSTAMP:20260424T011130
CREATED:20180425T133705Z
LAST-MODIFIED:20180604T113043Z
UID:16074-1528466400-1528477200@www.ucsf.edu.ar
SUMMARY:Salud en Rafaela: Primeros Auxilios y RCP. Aprende a Salvar Vidas!
DESCRIPTION:  \nSUMATE A SALVAR VIDAS! \nPrimeras Capacitacitación en resucitación cardiopulmonar (RCP) y Primeros Auxilios Básicos. \nTe esperamos!
URL:https://www.ucsf.edu.ar/evento/salud-en-rafaela-primeros-auxilios-y-rcp/
CATEGORIES:Facultades,PUA, Programa Universidad Abierta,Ciencias de la Salud,Rafaela,Sedes,IEHDS Instituto de Ecología Humana y Desarrollo Sustentable,Institutos,Licenciatura en Obstetricia,Licenciatura en Terapia Ocupacional
END:VEVENT
END:VCALENDAR