BEGIN:VCALENDAR
VERSION:2.0
PRODID:-//UCSF - Universidad Católica de Santa Fe - ECPv5.14.2.1//NONSGML v1.0//EN
CALSCALE:GREGORIAN
METHOD:PUBLISH
X-WR-CALNAME:UCSF - Universidad Católica de Santa Fe
X-ORIGINAL-URL:https://www.ucsf.edu.ar
X-WR-CALDESC:Events for UCSF - Universidad Católica de Santa Fe
REFRESH-INTERVAL;VALUE=DURATION:PT1H
X-Robots-Tag:noindex
X-PUBLISHED-TTL:PT1H
BEGIN:VTIMEZONE
TZID:America/Sao_Paulo
BEGIN:STANDARD
TZOFFSETFROM:-0200
TZOFFSETTO:-0300
TZNAME:-03
DTSTART:20180218T020000
END:STANDARD
BEGIN:DAYLIGHT
TZOFFSETFROM:-0300
TZOFFSETTO:-0200
TZNAME:-02
DTSTART:20181104T030000
END:DAYLIGHT
END:VTIMEZONE
BEGIN:VEVENT
DTSTART;TZID=America/Sao_Paulo:20180707T090000
DTEND;TZID=America/Sao_Paulo:20180707T120000
DTSTAMP:20260423T235213
CREATED:20180309T214210Z
LAST-MODIFIED:20180309T214210Z
UID:15285-1530954000-1530964800@www.ucsf.edu.ar
SUMMARY:Seminario abierto: Tolkien\, entre las palabras y la palabra
DESCRIPTION:Dictado por el Lic. Alexis Louvet.\nEste seminario se propone explorar la obra del célebre autor J.R.R. Tolkien tanto en sus aspectos literarios como ideológicos\, resaltando su profunda significación para la formación humanística.
URL:https://www.ucsf.edu.ar/evento/seminario-abierto-tolkien-entre-las-palabras-y-la-palabra-4/
LOCATION:UCSF Santa Fe\, Echagüe 7151\, Santa Fe\, Santa Fe\, Argentina
CATEGORIES:Santa Fe,Facultades,Sedes
GEO:-31.6069451;-60.6709418
X-APPLE-STRUCTURED-LOCATION;VALUE=URI;X-ADDRESS=UCSF Santa Fe Echagüe 7151 Santa Fe Santa Fe Argentina;X-APPLE-RADIUS=500;X-TITLE=Echagüe 7151:geo:-60.6709418,-31.6069451
END:VEVENT
BEGIN:VEVENT
DTSTART;TZID=America/Sao_Paulo:20180707T090000
DTEND;TZID=America/Sao_Paulo:20180707T120000
DTSTAMP:20260423T235213
CREATED:20180309T214210Z
LAST-MODIFIED:20180309T214210Z
UID:41372-1530954000-1530964800@www.ucsf.edu.ar
SUMMARY:Seminario abierto: Tolkien\, entre las palabras y la palabra
DESCRIPTION:Dictado por el Lic. Alexis Louvet.\nEste seminario se propone explorar la obra del célebre autor J.R.R. Tolkien tanto en sus aspectos literarios como ideológicos\, resaltando su profunda significación para la formación humanística.
URL:https://www.ucsf.edu.ar/evento/seminario-abierto-tolkien-entre-las-palabras-y-la-palabra-4-2/
LOCATION:UCSF Santa Fe\, Echagüe 7151\, Santa Fe\, Santa Fe\, Argentina
CATEGORIES:Santa Fe,Facultades,Sedes
GEO:-31.6069451;-60.6709418
X-APPLE-STRUCTURED-LOCATION;VALUE=URI;X-ADDRESS=UCSF Santa Fe Echagüe 7151 Santa Fe Santa Fe Argentina;X-APPLE-RADIUS=500;X-TITLE=Echagüe 7151:geo:-60.6709418,-31.6069451
END:VEVENT
END:VCALENDAR