BEGIN:VCALENDAR
VERSION:2.0
PRODID:-//UCSF - Universidad Católica de Santa Fe - ECPv5.14.2.1//NONSGML v1.0//EN
CALSCALE:GREGORIAN
METHOD:PUBLISH
X-WR-CALNAME:UCSF - Universidad Católica de Santa Fe
X-ORIGINAL-URL:https://www.ucsf.edu.ar
X-WR-CALDESC:Events for UCSF - Universidad Católica de Santa Fe
REFRESH-INTERVAL;VALUE=DURATION:PT1H
X-Robots-Tag:noindex
X-PUBLISHED-TTL:PT1H
BEGIN:VTIMEZONE
TZID:America/Sao_Paulo
BEGIN:STANDARD
TZOFFSETFROM:-0200
TZOFFSETTO:-0300
TZNAME:-03
DTSTART:20180218T020000
END:STANDARD
BEGIN:DAYLIGHT
TZOFFSETFROM:-0300
TZOFFSETTO:-0200
TZNAME:-02
DTSTART:20181104T030000
END:DAYLIGHT
END:VTIMEZONE
BEGIN:VEVENT
DTSTART;TZID=America/Sao_Paulo:20180914T130000
DTEND;TZID=America/Sao_Paulo:20180915T190000
DTSTAMP:20260423T224848
CREATED:20180814T101435Z
LAST-MODIFIED:20181008T202151Z
UID:17339-1536930000-1537038000@www.ucsf.edu.ar
SUMMARY:I Congreso Internacional en Bioimágenes
DESCRIPTION:  \nAprobado por \nResolución del Rectorado Nro. 10312 (18 de junio del 2018) \nLa UCSF será sede del I Congreso Internacional para Técnicos y Licenciados en Bioimágenes\, enmarcando a la III Jornada Interuniversitaria de Estudiantes y el II Encuentro de Docentes Universitarios de Bioimágenes. El encuentro\, organizado por la Lic. en Bioimágenes de la Universidad\, tendrá lugar el 14 y 15 de septiembre\, en el aula 1.28 de la UCSF (Echagüe 7151\, Santa Fe). \nLas jornadas contarán con profesionales docentes expertos en diferentes áreas del diagnóstico por imágenes de Argentina\, Chile\, México\, Perú\, Colombia y Ecuador\, que disertarán sobre Radiología Pediátrica\, Resonancia Magnética\, Hemodinamia\, Radioprotección\, Tomografía Computada y Medicina Nuclear. \nmas arriba a la derecha: Url del evento. \nEste evento fue realizado gracias al apoyo del Gobierno de la Provincia de Santa Fe. \n 
URL:https://www.ucsf.edu.ar/evento/i-congreso-internacional-en-bioimagenes/
LOCATION:UCSF Santa Fe\, Echagüe 7151\, Santa Fe\, Santa Fe\, Argentina
CATEGORIES:Facultades,PUA, Programa Universidad Abierta,Santa Fe,Carreras de Grado,Licenciatura en Bioimágenes,Licenciatura en Gerontología (CCC),Licenciatura en Enfermería,Rafaela,Sedes,Licenciatura en Fonoaudiología,IEHDS Instituto de Ecología Humana y Desarrollo Sustentable,Institutos,Licenciatura en Kinesiología y Fisioterapia,Licenciatura en Nutrición,Licenciatura en Obstetricia,Licenciatura en Terapia Ocupacional,IIFCS Instituto de Investigación de la Facultad de Ciencias de la Salud
GEO:-31.6069451;-60.6709418
X-APPLE-STRUCTURED-LOCATION;VALUE=URI;X-ADDRESS=UCSF Santa Fe Echagüe 7151 Santa Fe Santa Fe Argentina;X-APPLE-RADIUS=500;X-TITLE=Echagüe 7151:geo:-60.6709418,-31.6069451
END:VEVENT
BEGIN:VEVENT
DTSTART;TZID=America/Sao_Paulo:20180914T130000
DTEND;TZID=America/Sao_Paulo:20180915T190000
DTSTAMP:20260423T224848
CREATED:20180814T101435Z
LAST-MODIFIED:20180814T101435Z
UID:41425-1536930000-1537038000@www.ucsf.edu.ar
SUMMARY:I Congreso Internacional en Bioimágenes
DESCRIPTION:  \nAprobado por \nResolución del Rectorado Nro. 10312 (18 de junio del 2018) \nLa UCSF será sede del I Congreso Internacional para Técnicos y Licenciados en Bioimágenes\, enmarcando a la III Jornada Interuniversitaria de Estudiantes y el II Encuentro de Docentes Universitarios de Bioimágenes. El encuentro\, organizado por la Lic. en Bioimágenes de la Universidad\, tendrá lugar el 14 y 15 de septiembre\, en el aula 1.28 de la UCSF (Echagüe 7151\, Santa Fe). \nLas jornadas contarán con profesionales docentes expertos en diferentes áreas del diagnóstico por imágenes de Argentina\, Chile\, México\, Perú\, Colombia y Ecuador\, que disertarán sobre Radiología Pediátrica\, Resonancia Magnética\, Hemodinamia\, Radioprotección\, Tomografía Computada y Medicina Nuclear. \nmas arriba a la derecha: Url del evento. \nEste evento fue realizado gracias al apoyo del Gobierno de la Provincia de Santa Fe. \n 
URL:https://www.ucsf.edu.ar/evento/i-congreso-internacional-en-bioimagenes-2/
LOCATION:UCSF Santa Fe\, Echagüe 7151\, Santa Fe\, Santa Fe\, Argentina
CATEGORIES:Facultades,PUA, Programa Universidad Abierta,Santa Fe,Carreras de Grado,Licenciatura en Bioimágenes,Licenciatura en Gerontología (CCC),Licenciatura en Enfermería,Rafaela,Sedes,Licenciatura en Fonoaudiología,IEHDS Instituto de Ecología Humana y Desarrollo Sustentable,Institutos,Licenciatura en Kinesiología y Fisioterapia,Licenciatura en Nutrición,Licenciatura en Obstetricia,Licenciatura en Terapia Ocupacional,IIFCS Instituto de Investigación de la Facultad de Ciencias de la Salud
GEO:-31.6069451;-60.6709418
X-APPLE-STRUCTURED-LOCATION;VALUE=URI;X-ADDRESS=UCSF Santa Fe Echagüe 7151 Santa Fe Santa Fe Argentina;X-APPLE-RADIUS=500;X-TITLE=Echagüe 7151:geo:-60.6709418,-31.6069451
END:VEVENT
END:VCALENDAR