BEGIN:VCALENDAR
VERSION:2.0
PRODID:-//UCSF - Universidad Católica de Santa Fe - ECPv5.14.2.1//NONSGML v1.0//EN
CALSCALE:GREGORIAN
METHOD:PUBLISH
X-WR-CALNAME:UCSF - Universidad Católica de Santa Fe
X-ORIGINAL-URL:https://www.ucsf.edu.ar
X-WR-CALDESC:Events for UCSF - Universidad Católica de Santa Fe
REFRESH-INTERVAL;VALUE=DURATION:PT1H
X-Robots-Tag:noindex
X-PUBLISHED-TTL:PT1H
BEGIN:VTIMEZONE
TZID:America/Sao_Paulo
BEGIN:STANDARD
TZOFFSETFROM:-0200
TZOFFSETTO:-0300
TZNAME:-03
DTSTART:20180218T020000
END:STANDARD
BEGIN:DAYLIGHT
TZOFFSETFROM:-0300
TZOFFSETTO:-0200
TZNAME:-02
DTSTART:20181104T030000
END:DAYLIGHT
END:VTIMEZONE
BEGIN:VEVENT
DTSTART;TZID=America/Sao_Paulo:20180924T160000
DTEND;TZID=America/Sao_Paulo:20180924T170000
DTSTAMP:20260423T224850
CREATED:20180907T154645Z
LAST-MODIFIED:20180907T154734Z
UID:17809-1537804800-1537808400@www.ucsf.edu.ar
SUMMARY:Círculo de Lecturas - Justicia autosubversiva
DESCRIPTION:Justicia autosubversiva: ¿Fórmula de contingencia o de trascendencia del derecho? Teubner\, G. (2010). Anales de La Cátedra Francisco Suárez\, 44\, 217–	248.\nPresenta: Esteban Piva
URL:https://www.ucsf.edu.ar/evento/circulo-de-lecturas-justicia-autosubversiva/
LOCATION:Untitled\, Argentina
CATEGORIES:Home principal,Santa Fe,Facultades,Derecho y Ciencia Política,Sedes
END:VEVENT
BEGIN:VEVENT
DTSTART;TZID=America/Sao_Paulo:20180924T160000
DTEND;TZID=America/Sao_Paulo:20180924T170000
DTSTAMP:20260423T224850
CREATED:20180907T154645Z
LAST-MODIFIED:20180907T154645Z
UID:41439-1537804800-1537808400@www.ucsf.edu.ar
SUMMARY:Círculo de Lecturas - Justicia autosubversiva
DESCRIPTION:Justicia autosubversiva: ¿Fórmula de contingencia o de trascendencia del derecho? Teubner\, G. (2010). Anales de La Cátedra Francisco Suárez\, 44\, 217–	248.\nPresenta: Esteban Piva
URL:https://www.ucsf.edu.ar/evento/circulo-de-lecturas-justicia-autosubversiva-2/
LOCATION:Untitled\, Argentina
CATEGORIES:Home principal,Santa Fe,Facultades,Sedes
END:VEVENT
BEGIN:VEVENT
DTSTART;TZID=America/Sao_Paulo:20180924T170000
DTEND;TZID=America/Sao_Paulo:20180924T190000
DTSTAMP:20260423T224850
CREATED:20180905T230904Z
LAST-MODIFIED:20180905T230904Z
UID:17787-1537808400-1537815600@www.ucsf.edu.ar
SUMMARY:Jornada Cuidadores de la Casa Común
DESCRIPTION:El encuentro se centrará en experiencias prácticas de Laudato si’\, en particular se expondrá el proyecto Cuidadores de la Casa Común\, que fue presentado por monseñor Lugones al pontífice en 2016\, tiene como motivación principal la apuesta por superar la cultura del descarte desde los propios “descartados y descartadas”\, al reconocer –como afirma el Papa- la relación íntima entre los pobres y la fragilidad del planeta y la convicción de que en el mundo todo está conectado.
URL:https://www.ucsf.edu.ar/evento/jornada-cuidadores-de-la-casa-comun/
LOCATION:UCSF Santa Fe\, Echagüe 7151\, Santa Fe\, Santa Fe\, Argentina
CATEGORIES:Home principal,Santa Fe,Facultades,Vicerrectorado de Formación,Sedes
ORGANIZER;CN="Instituto%20de%20Doctrina%20Social%20de%20la%20Iglesia":MAILTO:institutodsi@ucsf.edu.ar
GEO:-31.6069451;-60.6709418
X-APPLE-STRUCTURED-LOCATION;VALUE=URI;X-ADDRESS=UCSF Santa Fe Echagüe 7151 Santa Fe Santa Fe Argentina;X-APPLE-RADIUS=500;X-TITLE=Echagüe 7151:geo:-60.6709418,-31.6069451
END:VEVENT
BEGIN:VEVENT
DTSTART;TZID=America/Sao_Paulo:20180924T170000
DTEND;TZID=America/Sao_Paulo:20180924T190000
DTSTAMP:20260423T224850
CREATED:20180905T230904Z
LAST-MODIFIED:20180905T230904Z
UID:41435-1537808400-1537815600@www.ucsf.edu.ar
SUMMARY:Jornada Cuidadores de la Casa Común
DESCRIPTION:El encuentro se centrará en experiencias prácticas de Laudato si’\, en particular se expondrá el proyecto Cuidadores de la Casa Común\, que fue presentado por monseñor Lugones al pontífice en 2016\, tiene como motivación principal la apuesta por superar la cultura del descarte desde los propios “descartados y descartadas”\, al reconocer –como afirma el Papa- la relación íntima entre los pobres y la fragilidad del planeta y la convicción de que en el mundo todo está conectado.
URL:https://www.ucsf.edu.ar/evento/jornada-cuidadores-de-la-casa-comun-2/
LOCATION:UCSF Santa Fe\, Echagüe 7151\, Santa Fe\, Santa Fe\, Argentina
CATEGORIES:Home principal,Santa Fe,Facultades,Vicerrectorado de Formación,Sedes
ORGANIZER;CN="Instituto%20de%20Doctrina%20Social%20de%20la%20Iglesia":MAILTO:institutodsi@ucsf.edu.ar
GEO:-31.6069451;-60.6709418
X-APPLE-STRUCTURED-LOCATION;VALUE=URI;X-ADDRESS=UCSF Santa Fe Echagüe 7151 Santa Fe Santa Fe Argentina;X-APPLE-RADIUS=500;X-TITLE=Echagüe 7151:geo:-60.6709418,-31.6069451
END:VEVENT
END:VCALENDAR