BEGIN:VCALENDAR
VERSION:2.0
PRODID:-//UCSF - Universidad Católica de Santa Fe - ECPv5.14.2.1//NONSGML v1.0//EN
CALSCALE:GREGORIAN
METHOD:PUBLISH
X-WR-CALNAME:UCSF - Universidad Católica de Santa Fe
X-ORIGINAL-URL:https://www.ucsf.edu.ar
X-WR-CALDESC:Events for UCSF - Universidad Católica de Santa Fe
REFRESH-INTERVAL;VALUE=DURATION:PT1H
X-Robots-Tag:noindex
X-PUBLISHED-TTL:PT1H
BEGIN:VTIMEZONE
TZID:America/Sao_Paulo
BEGIN:STANDARD
TZOFFSETFROM:-0200
TZOFFSETTO:-0300
TZNAME:-03
DTSTART:20180218T020000
END:STANDARD
BEGIN:DAYLIGHT
TZOFFSETFROM:-0300
TZOFFSETTO:-0200
TZNAME:-02
DTSTART:20181104T030000
END:DAYLIGHT
END:VTIMEZONE
BEGIN:VEVENT
DTSTART;TZID=America/Sao_Paulo:20181003T150000
DTEND;TZID=America/Sao_Paulo:20181003T160000
DTSTAMP:20260423T212744
CREATED:20180910T162541Z
LAST-MODIFIED:20180918T153423Z
UID:17842-1538578800-1538582400@www.ucsf.edu.ar
SUMMARY:WEBINARS – Seminarios online de la Lic. en Terapia Ocupacional
DESCRIPTION:  \nEl miércoles 3 de octubre de 15 a 16 hs. se llevará a cabo el Webinar Onine: “El Terapeuta Ocupacional y el paciente: cómo construir una alianza terapéutica”\, a cargo de la TO Marta Rucci. \nCV: \n\nLicenciada en Terapia Ocupacional. UNL.\nTerapeuta en Intervención y Estimulación Temprana. UNL.\nDocente de la carrera de Lic. en Terapia Ocupacional. UCSF.\n\nObjetivos del Webinar: \n\nValorar determinadas actitudes personales que propician el vínculo con el paciente y con su familia.\nIdentificar las instancias de aprendizaje en la carrera de Terapia Ocupacional\, de la UCSF\, donde se fortalecen las habilidades de comunicación e interacción del terapeuta\, en relación al trato con su paciente.\n\nPara más información escribí a salud@ucsf.edu.ar o llamá al 0342 4603030 interno 185
URL:https://www.ucsf.edu.ar/evento/webinars-seminarios-online-de-la-lic-en-terapia-ocupacional-2/
LOCATION:UCSF Santa Fe\, Echagüe 7151\, Santa Fe\, Santa Fe\, Argentina
CATEGORIES:Santa Fe,Facultades,Ciencias de la Salud,Carreras de Grado,Licenciatura en Bioimágenes,Licenciatura en Gerontología (CCC),Rafaela,Sedes,Licenciatura en Kinesiología y Fisioterapia,Licenciatura en Nutrición,Licenciatura en Obstetricia,Licenciatura en Terapia Ocupacional
GEO:-31.6069451;-60.6709418
X-APPLE-STRUCTURED-LOCATION;VALUE=URI;X-ADDRESS=UCSF Santa Fe Echagüe 7151 Santa Fe Santa Fe Argentina;X-APPLE-RADIUS=500;X-TITLE=Echagüe 7151:geo:-60.6709418,-31.6069451
END:VEVENT
BEGIN:VEVENT
DTSTART;TZID=America/Sao_Paulo:20181003T150000
DTEND;TZID=America/Sao_Paulo:20181003T160000
DTSTAMP:20260423T212744
CREATED:20180910T162541Z
LAST-MODIFIED:20180910T162541Z
UID:41445-1538578800-1538582400@www.ucsf.edu.ar
SUMMARY:WEBINARS – Seminarios online de la Lic. en Terapia Ocupacional
DESCRIPTION:  \nEl miércoles 3 de octubre de 15 a 16 hs. se llevará a cabo el Webinar Onine: “El Terapeuta Ocupacional y el paciente: cómo construir una alianza terapéutica”\, a cargo de la TO Marta Rucci. \nCV: \n\nLicenciada en Terapia Ocupacional. UNL.\nTerapeuta en Intervención y Estimulación Temprana. UNL.\nDocente de la carrera de Lic. en Terapia Ocupacional. UCSF.\n\nObjetivos del Webinar: \n\nValorar determinadas actitudes personales que propician el vínculo con el paciente y con su familia.\nIdentificar las instancias de aprendizaje en la carrera de Terapia Ocupacional\, de la UCSF\, donde se fortalecen las habilidades de comunicación e interacción del terapeuta\, en relación al trato con su paciente.\n\nPara más información escribí a salud@ucsf.edu.ar o llamá al 0342 4603030 interno 185
URL:https://www.ucsf.edu.ar/evento/webinars-seminarios-online-de-la-lic-en-terapia-ocupacional-2-2/
LOCATION:UCSF Santa Fe\, Echagüe 7151\, Santa Fe\, Santa Fe\, Argentina
CATEGORIES:Santa Fe,Facultades,Ciencias de la Salud,Carreras de Grado,Licenciatura en Bioimágenes,Licenciatura en Gerontología (CCC),Rafaela,Sedes,Licenciatura en Kinesiología y Fisioterapia,Licenciatura en Nutrición,Licenciatura en Obstetricia,Licenciatura en Terapia Ocupacional
GEO:-31.6069451;-60.6709418
X-APPLE-STRUCTURED-LOCATION;VALUE=URI;X-ADDRESS=UCSF Santa Fe Echagüe 7151 Santa Fe Santa Fe Argentina;X-APPLE-RADIUS=500;X-TITLE=Echagüe 7151:geo:-60.6709418,-31.6069451
END:VEVENT
END:VCALENDAR