BEGIN:VCALENDAR
VERSION:2.0
PRODID:-//UCSF - Universidad Católica de Santa Fe - ECPv5.14.2.1//NONSGML v1.0//EN
CALSCALE:GREGORIAN
METHOD:PUBLISH
X-WR-CALNAME:UCSF - Universidad Católica de Santa Fe
X-ORIGINAL-URL:https://www.ucsf.edu.ar
X-WR-CALDESC:Events for UCSF - Universidad Católica de Santa Fe
REFRESH-INTERVAL;VALUE=DURATION:PT1H
X-Robots-Tag:noindex
X-PUBLISHED-TTL:PT1H
BEGIN:VTIMEZONE
TZID:America/Sao_Paulo
BEGIN:STANDARD
TZOFFSETFROM:-0200
TZOFFSETTO:-0300
TZNAME:-03
DTSTART:20180218T020000
END:STANDARD
BEGIN:DAYLIGHT
TZOFFSETFROM:-0300
TZOFFSETTO:-0200
TZNAME:-02
DTSTART:20181104T030000
END:DAYLIGHT
END:VTIMEZONE
BEGIN:VEVENT
DTSTART;TZID=America/Sao_Paulo:20181012T140000
DTEND;TZID=America/Sao_Paulo:20181012T190000
DTSTAMP:20260423T200252
CREATED:20180509T155019Z
LAST-MODIFIED:20180509T155019Z
UID:41397-1539352800-1539370800@www.ucsf.edu.ar
SUMMARY:Diplomatura en Abordaje clínico y social de la Discapacidad
DESCRIPTION:La intención de la presente Diplomatura es generar una postura crítica sobre estos saberes\, interrogando y reconstruyendo sus fundamentos para llegar a una verdad: “la que viven de forma cotidiana el colectivo de personas con discapacidad”. De esta manera\, será posible delimitar desde un lugar ético la función y el rol del profesional que actúe en este campo.\nEstamos presentes ante un nuevo contexto de la discapacidad\, el cual nos muestra un cambio en cuanto a las conceptualizaciones y abordajes a realizar\, por lo tanto\, será preciso revisar las prácticas clínicas-terapéuticas y sociales que se desplieguen en este campo. Esta será nuestra apuesta.
URL:https://www.ucsf.edu.ar/evento/diplomatura-discapacidad-5-2/
LOCATION:UCSF Santa Fe\, Echagüe 7151\, Santa Fe\, Santa Fe\, Argentina
CATEGORIES:Facultades
GEO:-31.6069451;-60.6709418
X-APPLE-STRUCTURED-LOCATION;VALUE=URI;X-ADDRESS=UCSF Santa Fe Echagüe 7151 Santa Fe Santa Fe Argentina;X-APPLE-RADIUS=500;X-TITLE=Echagüe 7151:geo:-60.6709418,-31.6069451
END:VEVENT
BEGIN:VEVENT
DTSTART;TZID=America/Sao_Paulo:20181012T140000
DTEND;TZID=America/Sao_Paulo:20181012T190000
DTSTAMP:20260423T200252
CREATED:20180509T155019Z
LAST-MODIFIED:20180509T155019Z
UID:16210-1539352800-1539370800@www.ucsf.edu.ar
SUMMARY:Diplomatura en Abordaje clínico y social de la Discapacidad
DESCRIPTION:La intención de la presente Diplomatura es generar una postura crítica sobre estos saberes\, interrogando y reconstruyendo sus fundamentos para llegar a una verdad: “la que viven de forma cotidiana el colectivo de personas con discapacidad”. De esta manera\, será posible delimitar desde un lugar ético la función y el rol del profesional que actúe en este campo.\nEstamos presentes ante un nuevo contexto de la discapacidad\, el cual nos muestra un cambio en cuanto a las conceptualizaciones y abordajes a realizar\, por lo tanto\, será preciso revisar las prácticas clínicas-terapéuticas y sociales que se desplieguen en este campo. Esta será nuestra apuesta.
URL:https://www.ucsf.edu.ar/evento/diplomatura-discapacidad-5/
LOCATION:UCSF Santa Fe\, Echagüe 7151\, Santa Fe\, Santa Fe\, Argentina
CATEGORIES:Facultades
GEO:-31.6069451;-60.6709418
X-APPLE-STRUCTURED-LOCATION;VALUE=URI;X-ADDRESS=UCSF Santa Fe Echagüe 7151 Santa Fe Santa Fe Argentina;X-APPLE-RADIUS=500;X-TITLE=Echagüe 7151:geo:-60.6709418,-31.6069451
END:VEVENT
END:VCALENDAR