BEGIN:VCALENDAR
VERSION:2.0
PRODID:-//UCSF - Universidad Católica de Santa Fe - ECPv5.14.2.1//NONSGML v1.0//EN
CALSCALE:GREGORIAN
METHOD:PUBLISH
X-WR-CALNAME:UCSF - Universidad Católica de Santa Fe
X-ORIGINAL-URL:https://www.ucsf.edu.ar
X-WR-CALDESC:Events for UCSF - Universidad Católica de Santa Fe
REFRESH-INTERVAL;VALUE=DURATION:PT1H
X-Robots-Tag:noindex
X-PUBLISHED-TTL:PT1H
BEGIN:VTIMEZONE
TZID:America/Sao_Paulo
BEGIN:STANDARD
TZOFFSETFROM:-0200
TZOFFSETTO:-0300
TZNAME:-03
DTSTART:20180218T020000
END:STANDARD
BEGIN:DAYLIGHT
TZOFFSETFROM:-0300
TZOFFSETTO:-0200
TZNAME:-02
DTSTART:20181104T030000
END:DAYLIGHT
END:VTIMEZONE
BEGIN:VEVENT
DTSTART;TZID=America/Sao_Paulo:20181018T140000
DTEND;TZID=America/Sao_Paulo:20181018T160000
DTSTAMP:20260423T200238
CREATED:20180907T155536Z
LAST-MODIFIED:20180907T155558Z
UID:17812-1539871200-1539878400@www.ucsf.edu.ar
SUMMARY:Seminario del Dr. Alex Valle (Ecuador): “El rol de la Corte Interamericana de 	Derechos Humanos
DESCRIPTION:Seminario Dr. Alex Valle (Ecuador) sobre “El rol de la Corte Interamericana de Derechos Humanos en la justiciabilidad de los derechos sociales en países de América de Sur: logros y retos actuales”.\nConsultas: abonet@ucsf.edu.ar
URL:https://www.ucsf.edu.ar/evento/seminario-del-dr-alex-valle-ecuador-el-rol-de-la-corte-interamericana-de-derechos-humanos/
LOCATION:UCSF Santa Fe\, Echagüe 7151\, Santa Fe\, Santa Fe\, Argentina
CATEGORIES:Home principal,Santa Fe,Facultades,Derecho y Ciencia Política,Sedes
GEO:-31.6069451;-60.6709418
X-APPLE-STRUCTURED-LOCATION;VALUE=URI;X-ADDRESS=UCSF Santa Fe Echagüe 7151 Santa Fe Santa Fe Argentina;X-APPLE-RADIUS=500;X-TITLE=Echagüe 7151:geo:-60.6709418,-31.6069451
END:VEVENT
BEGIN:VEVENT
DTSTART;TZID=America/Sao_Paulo:20181018T140000
DTEND;TZID=America/Sao_Paulo:20181018T160000
DTSTAMP:20260423T200238
CREATED:20180907T155536Z
LAST-MODIFIED:20180907T155536Z
UID:41441-1539871200-1539878400@www.ucsf.edu.ar
SUMMARY:Seminario del Dr. Alex Valle (Ecuador): “El rol de la Corte Interamericana de 	Derechos Humanos
DESCRIPTION:Seminario Dr. Alex Valle (Ecuador) sobre “El rol de la Corte Interamericana de Derechos Humanos en la justiciabilidad de los derechos sociales en países de América de Sur: logros y retos actuales”.\nConsultas: abonet@ucsf.edu.ar
URL:https://www.ucsf.edu.ar/evento/seminario-del-dr-alex-valle-ecuador-el-rol-de-la-corte-interamericana-de-derechos-humanos-2/
LOCATION:UCSF Santa Fe\, Echagüe 7151\, Santa Fe\, Santa Fe\, Argentina
CATEGORIES:Home principal,Santa Fe,Facultades,Sedes
GEO:-31.6069451;-60.6709418
X-APPLE-STRUCTURED-LOCATION;VALUE=URI;X-ADDRESS=UCSF Santa Fe Echagüe 7151 Santa Fe Santa Fe Argentina;X-APPLE-RADIUS=500;X-TITLE=Echagüe 7151:geo:-60.6709418,-31.6069451
END:VEVENT
END:VCALENDAR