BEGIN:VCALENDAR
VERSION:2.0
PRODID:-//UCSF - Universidad Católica de Santa Fe - ECPv5.14.2.1//NONSGML v1.0//EN
CALSCALE:GREGORIAN
METHOD:PUBLISH
X-WR-CALNAME:UCSF - Universidad Católica de Santa Fe
X-ORIGINAL-URL:https://www.ucsf.edu.ar
X-WR-CALDESC:Events for UCSF - Universidad Católica de Santa Fe
REFRESH-INTERVAL;VALUE=DURATION:PT1H
X-Robots-Tag:noindex
X-PUBLISHED-TTL:PT1H
BEGIN:VTIMEZONE
TZID:America/Sao_Paulo
BEGIN:STANDARD
TZOFFSETFROM:-0200
TZOFFSETTO:-0300
TZNAME:-03
DTSTART:20180218T020000
END:STANDARD
BEGIN:DAYLIGHT
TZOFFSETFROM:-0300
TZOFFSETTO:-0200
TZNAME:-02
DTSTART:20181104T030000
END:DAYLIGHT
END:VTIMEZONE
BEGIN:VEVENT
DTSTART;TZID=America/Sao_Paulo:20181019T083000
DTEND;TZID=America/Sao_Paulo:20181019T113000
DTSTAMP:20260423T235821
CREATED:20180926T195608Z
LAST-MODIFIED:20180926T195608Z
UID:18114-1539937800-1539948600@www.ucsf.edu.ar
SUMMARY:Cátedra abierta - American Psycho de Bret Easton Ellis
DESCRIPTION:Actividad de extensión de la cátedra de Seminario de Literatura Americana de la Licenciatura en Letras – Ciclo de Lic. \nProf. Ricardo Barberis
URL:https://www.ucsf.edu.ar/evento/catedra-abierta-american-psycho-de-bret-easton-ellis/
LOCATION:UCSF Santa Fe\, Echagüe 7151\, Santa Fe\, Santa Fe\, Argentina
CATEGORIES:Santa Fe,Facultades,Sedes
GEO:-31.6069451;-60.6709418
X-APPLE-STRUCTURED-LOCATION;VALUE=URI;X-ADDRESS=UCSF Santa Fe Echagüe 7151 Santa Fe Santa Fe Argentina;X-APPLE-RADIUS=500;X-TITLE=Echagüe 7151:geo:-60.6709418,-31.6069451
END:VEVENT
BEGIN:VEVENT
DTSTART;TZID=America/Sao_Paulo:20181019T083000
DTEND;TZID=America/Sao_Paulo:20181019T113000
DTSTAMP:20260423T235821
CREATED:20180926T195608Z
LAST-MODIFIED:20180926T195608Z
UID:41450-1539937800-1539948600@www.ucsf.edu.ar
SUMMARY:Cátedra abierta - American Psycho de Bret Easton Ellis
DESCRIPTION:Actividad de extensión de la cátedra de Seminario de Literatura Americana de la Licenciatura en Letras – Ciclo de Lic. \nProf. Ricardo Barberis
URL:https://www.ucsf.edu.ar/evento/catedra-abierta-american-psycho-de-bret-easton-ellis-2/
LOCATION:UCSF Santa Fe\, Echagüe 7151\, Santa Fe\, Santa Fe\, Argentina
CATEGORIES:Santa Fe,Facultades,Sedes
GEO:-31.6069451;-60.6709418
X-APPLE-STRUCTURED-LOCATION;VALUE=URI;X-ADDRESS=UCSF Santa Fe Echagüe 7151 Santa Fe Santa Fe Argentina;X-APPLE-RADIUS=500;X-TITLE=Echagüe 7151:geo:-60.6709418,-31.6069451
END:VEVENT
BEGIN:VEVENT
DTSTART;TZID=America/Sao_Paulo:20181019T163000
DTEND;TZID=America/Sao_Paulo:20181019T200000
DTSTAMP:20260423T235821
CREATED:20180830T153356Z
LAST-MODIFIED:20180830T153425Z
UID:17508-1539966600-1539979200@www.ucsf.edu.ar
SUMMARY:Cátedra abierta de Dibujo Bidimensional y Tridimensional
DESCRIPTION:
URL:https://www.ucsf.edu.ar/evento/dibujo-3/
LOCATION:UCSF Santa Fe\, Echagüe 7151\, Santa Fe\, Santa Fe\, Argentina
CATEGORIES:Facultades
GEO:-31.6069451;-60.6709418
X-APPLE-STRUCTURED-LOCATION;VALUE=URI;X-ADDRESS=UCSF Santa Fe Echagüe 7151 Santa Fe Santa Fe Argentina;X-APPLE-RADIUS=500;X-TITLE=Echagüe 7151:geo:-60.6709418,-31.6069451
END:VEVENT
BEGIN:VEVENT
DTSTART;TZID=America/Sao_Paulo:20181019T163000
DTEND;TZID=America/Sao_Paulo:20181019T200000
DTSTAMP:20260423T235821
CREATED:20180830T153356Z
LAST-MODIFIED:20180830T153356Z
UID:41431-1539966600-1539979200@www.ucsf.edu.ar
SUMMARY:Cátedra abierta de Dibujo Bidimensional y Tridimensional
DESCRIPTION:
URL:https://www.ucsf.edu.ar/evento/dibujo-3-2/
LOCATION:UCSF Santa Fe\, Echagüe 7151\, Santa Fe\, Santa Fe\, Argentina
CATEGORIES:Facultades
GEO:-31.6069451;-60.6709418
X-APPLE-STRUCTURED-LOCATION;VALUE=URI;X-ADDRESS=UCSF Santa Fe Echagüe 7151 Santa Fe Santa Fe Argentina;X-APPLE-RADIUS=500;X-TITLE=Echagüe 7151:geo:-60.6709418,-31.6069451
END:VEVENT
BEGIN:VEVENT
DTSTART;TZID=America/Sao_Paulo:20181019T180000
DTEND;TZID=America/Sao_Paulo:20181019T200000
DTSTAMP:20260423T235821
CREATED:20180305T140748Z
LAST-MODIFIED:20181004T153045Z
UID:15191-1539972000-1539979200@www.ucsf.edu.ar
SUMMARY:Acto de Bodas de Oro y Plata Santa Fe
DESCRIPTION:
URL:https://www.ucsf.edu.ar/evento/acto-de-bodas-de-oro-y-plata-santa-fe/
LOCATION:UCSF Santa Fe\, Echagüe 7151\, Santa Fe\, Santa Fe\, Argentina
CATEGORIES:Home principal,Santa Fe,Sedes
GEO:-31.6069451;-60.6709418
X-APPLE-STRUCTURED-LOCATION;VALUE=URI;X-ADDRESS=UCSF Santa Fe Echagüe 7151 Santa Fe Santa Fe Argentina;X-APPLE-RADIUS=500;X-TITLE=Echagüe 7151:geo:-60.6709418,-31.6069451
END:VEVENT
BEGIN:VEVENT
DTSTART;TZID=America/Sao_Paulo:20181019T180000
DTEND;TZID=America/Sao_Paulo:20181019T200000
DTSTAMP:20260423T235821
CREATED:20180305T140748Z
LAST-MODIFIED:20180305T140748Z
UID:41365-1539972000-1539979200@www.ucsf.edu.ar
SUMMARY:Acto de Bodas de Oro y Plata Santa Fe
DESCRIPTION:
URL:https://www.ucsf.edu.ar/evento/acto-de-bodas-de-oro-y-plata-santa-fe-2/
LOCATION:UCSF Santa Fe\, Echagüe 7151\, Santa Fe\, Santa Fe\, Argentina
CATEGORIES:Home principal,Santa Fe,Sedes
GEO:-31.6069451;-60.6709418
X-APPLE-STRUCTURED-LOCATION;VALUE=URI;X-ADDRESS=UCSF Santa Fe Echagüe 7151 Santa Fe Santa Fe Argentina;X-APPLE-RADIUS=500;X-TITLE=Echagüe 7151:geo:-60.6709418,-31.6069451
END:VEVENT
END:VCALENDAR