BEGIN:VCALENDAR
VERSION:2.0
PRODID:-//UCSF - Universidad Católica de Santa Fe - ECPv5.14.2.1//NONSGML v1.0//EN
CALSCALE:GREGORIAN
METHOD:PUBLISH
X-WR-CALNAME:UCSF - Universidad Católica de Santa Fe
X-ORIGINAL-URL:https://www.ucsf.edu.ar
X-WR-CALDESC:Events for UCSF - Universidad Católica de Santa Fe
REFRESH-INTERVAL;VALUE=DURATION:PT1H
X-Robots-Tag:noindex
X-PUBLISHED-TTL:PT1H
BEGIN:VTIMEZONE
TZID:America/Sao_Paulo
BEGIN:STANDARD
TZOFFSETFROM:-0200
TZOFFSETTO:-0300
TZNAME:-03
DTSTART:20180218T020000
END:STANDARD
BEGIN:DAYLIGHT
TZOFFSETFROM:-0300
TZOFFSETTO:-0200
TZNAME:-02
DTSTART:20181104T030000
END:DAYLIGHT
END:VTIMEZONE
BEGIN:VEVENT
DTSTART;TZID=America/Sao_Paulo:20181102T160000
DTEND;TZID=America/Sao_Paulo:20181102T170000
DTSTAMP:20260423T184819
CREATED:20180907T160026Z
LAST-MODIFIED:20180907T160026Z
UID:17818-1541174400-1541178000@www.ucsf.edu.ar
SUMMARY:Círculo de Lecturas - El origen de la propiedad y su legitimación
DESCRIPTION:El origen de la propiedad y su legitimación: Un recuento histórico\,  Luhmann\, 	Niklas. (2015). Revista Mad\, vol. 33\, pp. 1 17.\nPresenta: María José Álvarez Tremea\nConsultas: abonet@ucsf.edu.ar
URL:https://www.ucsf.edu.ar/evento/circulo-de-lecturas-el-origen-de-la-propiedad-y-su-legitimacion/
LOCATION:Untitled\, Argentina
CATEGORIES:Home principal,Santa Fe,Facultades,Derecho y Ciencia Política,Sedes
END:VEVENT
BEGIN:VEVENT
DTSTART;TZID=America/Sao_Paulo:20181102T160000
DTEND;TZID=America/Sao_Paulo:20181102T170000
DTSTAMP:20260423T184819
CREATED:20180907T160026Z
LAST-MODIFIED:20180907T160026Z
UID:41443-1541174400-1541178000@www.ucsf.edu.ar
SUMMARY:Círculo de Lecturas - El origen de la propiedad y su legitimación
DESCRIPTION:El origen de la propiedad y su legitimación: Un recuento histórico\,  Luhmann\, 	Niklas. (2015). Revista Mad\, vol. 33\, pp. 1 17.\nPresenta: María José Álvarez Tremea\nConsultas: abonet@ucsf.edu.ar
URL:https://www.ucsf.edu.ar/evento/circulo-de-lecturas-el-origen-de-la-propiedad-y-su-legitimacion-2/
LOCATION:Untitled\, Argentina
CATEGORIES:Home principal,Santa Fe,Facultades,Sedes
END:VEVENT
END:VCALENDAR