BEGIN:VCALENDAR
VERSION:2.0
PRODID:-//UCSF - Universidad Católica de Santa Fe - ECPv5.14.2.1//NONSGML v1.0//EN
CALSCALE:GREGORIAN
METHOD:PUBLISH
X-WR-CALNAME:UCSF - Universidad Católica de Santa Fe
X-ORIGINAL-URL:https://www.ucsf.edu.ar
X-WR-CALDESC:Events for UCSF - Universidad Católica de Santa Fe
REFRESH-INTERVAL;VALUE=DURATION:PT1H
X-Robots-Tag:noindex
X-PUBLISHED-TTL:PT1H
BEGIN:VTIMEZONE
TZID:America/Sao_Paulo
BEGIN:STANDARD
TZOFFSETFROM:-0200
TZOFFSETTO:-0300
TZNAME:-03
DTSTART:20180218T020000
END:STANDARD
BEGIN:DAYLIGHT
TZOFFSETFROM:-0300
TZOFFSETTO:-0200
TZNAME:-02
DTSTART:20181104T030000
END:DAYLIGHT
END:VTIMEZONE
BEGIN:VEVENT
DTSTART;TZID=America/Sao_Paulo:20181107T160000
DTEND;TZID=America/Sao_Paulo:20181107T170000
DTSTAMP:20260423T183356
CREATED:20181027T143416Z
LAST-MODIFIED:20181102T150442Z
UID:18607-1541606400-1541610000@www.ucsf.edu.ar
SUMMARY:Charla presentación de PwC Argentina
DESCRIPTION:El contenido de la charla será el siguiente: \n• Presentación de la firma \n• Oportunidades de carrera \n– Práctica de verano 2019.\n– Oportunidades para jóvenes profesionales.\n– Ofertas laborales vigentes. \n• Espacio abierto para consultas
URL:https://www.ucsf.edu.ar/evento/charla-presentacion-de-price-waterhouse-coopers-pwc/
LOCATION:UCSF Santa Fe\, Echagüe 7151\, Santa Fe\, Santa Fe\, Argentina
GEO:-31.6069451;-60.6709418
X-APPLE-STRUCTURED-LOCATION;VALUE=URI;X-ADDRESS=UCSF Santa Fe Echagüe 7151 Santa Fe Santa Fe Argentina;X-APPLE-RADIUS=500;X-TITLE=Echagüe 7151:geo:-60.6709418,-31.6069451
END:VEVENT
BEGIN:VEVENT
DTSTART;TZID=America/Sao_Paulo:20181107T160000
DTEND;TZID=America/Sao_Paulo:20181107T170000
DTSTAMP:20260423T183356
CREATED:20181027T143416Z
LAST-MODIFIED:20181027T143416Z
UID:41459-1541606400-1541610000@www.ucsf.edu.ar
SUMMARY:Charla presentación de PwC Argentina
DESCRIPTION:El contenido de la charla será el siguiente: \n• Presentación de la firma \n• Oportunidades de carrera \n– Práctica de verano 2019.\n– Oportunidades para jóvenes profesionales.\n– Ofertas laborales vigentes. \n• Espacio abierto para consultas
URL:https://www.ucsf.edu.ar/evento/charla-presentacion-de-price-waterhouse-coopers-pwc-2/
LOCATION:UCSF Santa Fe\, Echagüe 7151\, Santa Fe\, Santa Fe\, Argentina
GEO:-31.6069451;-60.6709418
X-APPLE-STRUCTURED-LOCATION;VALUE=URI;X-ADDRESS=UCSF Santa Fe Echagüe 7151 Santa Fe Santa Fe Argentina;X-APPLE-RADIUS=500;X-TITLE=Echagüe 7151:geo:-60.6709418,-31.6069451
END:VEVENT
END:VCALENDAR