BEGIN:VCALENDAR
VERSION:2.0
PRODID:-//UCSF - Universidad Católica de Santa Fe - ECPv5.14.2.1//NONSGML v1.0//EN
CALSCALE:GREGORIAN
METHOD:PUBLISH
X-WR-CALNAME:UCSF - Universidad Católica de Santa Fe
X-ORIGINAL-URL:https://www.ucsf.edu.ar
X-WR-CALDESC:Events for UCSF - Universidad Católica de Santa Fe
REFRESH-INTERVAL;VALUE=DURATION:PT1H
X-Robots-Tag:noindex
X-PUBLISHED-TTL:PT1H
BEGIN:VTIMEZONE
TZID:America/Sao_Paulo
BEGIN:STANDARD
TZOFFSETFROM:-0200
TZOFFSETTO:-0300
TZNAME:-03
DTSTART:20180218T020000
END:STANDARD
BEGIN:DAYLIGHT
TZOFFSETFROM:-0300
TZOFFSETTO:-0200
TZNAME:-02
DTSTART:20181104T030000
END:DAYLIGHT
END:VTIMEZONE
BEGIN:VEVENT
DTSTART;TZID=America/Sao_Paulo:20181113T140000
DTEND;TZID=America/Sao_Paulo:20181113T150000
DTSTAMP:20260423T183434
CREATED:20181018T101955Z
LAST-MODIFIED:20181030T124717Z
UID:18370-1542117600-1542121200@www.ucsf.edu.ar
SUMMARY:“Nutrición embarazo y microbiota”
DESCRIPTION:Las Licenciaturas en Obstetricia y en Nutrición de la Facultad de Ciencias de la Salud proponen 2 seminarios online para todos los interesados en la temática\, gratuitos para los alumnos de la Facultad de Ciencias de la Salud y carreras afines\, de la UCSF. \nLa Lic. Sandra Maximino estará a cargo de los dos webinars: “Embarazo y programación fetal” y “Nutrición embarazo y microbiota”. \nSandra es Mgter. en Salud Materno Infantil\, Lic. en Nutrición. Además realizó el postgrado en Nutrición y Neurodesarrollo. Es investigadora y docente en Licenciatura en Nutrición y en la Licenciatura en Obstetricia. \nAmbas actividades están dirigidas a médicos\, ginecólogos\, obstetras\, nutricionistas\, enfermeros\, parteras\, doulas\, estudiantes avanzados de estas carreras y agentes de salud en general. \nmás información en donde dice Url del evento\, arriba a la derecha.
URL:https://www.ucsf.edu.ar/evento/nutricion-embarazo-y-microbiota/
LOCATION:UCSF Santa Fe\, Echagüe 7151\, Santa Fe\, Santa Fe\, Argentina
CATEGORIES:PUA, Programa Universidad Abierta,Santa Fe,Facultades,Ciencias de la Salud,Carreras de Grado,Rafaela,Sedes,IEHDS Instituto de Ecología Humana y Desarrollo Sustentable,Institutos,Licenciatura en Nutrición,Licenciatura en Obstetricia,IIFCS Instituto de Investigación de la Facultad de Ciencias de la Salud
GEO:-31.6069451;-60.6709418
X-APPLE-STRUCTURED-LOCATION;VALUE=URI;X-ADDRESS=UCSF Santa Fe Echagüe 7151 Santa Fe Santa Fe Argentina;X-APPLE-RADIUS=500;X-TITLE=Echagüe 7151:geo:-60.6709418,-31.6069451
END:VEVENT
BEGIN:VEVENT
DTSTART;TZID=America/Sao_Paulo:20181113T140000
DTEND;TZID=America/Sao_Paulo:20181113T150000
DTSTAMP:20260423T183434
CREATED:20181018T101955Z
LAST-MODIFIED:20181018T101955Z
UID:41457-1542117600-1542121200@www.ucsf.edu.ar
SUMMARY:“Nutrición embarazo y microbiota”
DESCRIPTION:Las Licenciaturas en Obstetricia y en Nutrición de la Facultad de Ciencias de la Salud proponen 2 seminarios online para todos los interesados en la temática\, gratuitos para los alumnos de la Facultad de Ciencias de la Salud y carreras afines\, de la UCSF. \nLa Lic. Sandra Maximino estará a cargo de los dos webinars: “Embarazo y programación fetal” y “Nutrición embarazo y microbiota”. \nSandra es Mgter. en Salud Materno Infantil\, Lic. en Nutrición. Además realizó el postgrado en Nutrición y Neurodesarrollo. Es investigadora y docente en Licenciatura en Nutrición y en la Licenciatura en Obstetricia. \nAmbas actividades están dirigidas a médicos\, ginecólogos\, obstetras\, nutricionistas\, enfermeros\, parteras\, doulas\, estudiantes avanzados de estas carreras y agentes de salud en general. \nmás información en donde dice Url del evento\, arriba a la derecha.
URL:https://www.ucsf.edu.ar/evento/nutricion-embarazo-y-microbiota-2/
LOCATION:UCSF Santa Fe\, Echagüe 7151\, Santa Fe\, Santa Fe\, Argentina
CATEGORIES:PUA, Programa Universidad Abierta,Santa Fe,Facultades,Ciencias de la Salud,Carreras de Grado,Rafaela,Sedes,IEHDS Instituto de Ecología Humana y Desarrollo Sustentable,Institutos,Licenciatura en Nutrición,Licenciatura en Obstetricia,IIFCS Instituto de Investigación de la Facultad de Ciencias de la Salud
GEO:-31.6069451;-60.6709418
X-APPLE-STRUCTURED-LOCATION;VALUE=URI;X-ADDRESS=UCSF Santa Fe Echagüe 7151 Santa Fe Santa Fe Argentina;X-APPLE-RADIUS=500;X-TITLE=Echagüe 7151:geo:-60.6709418,-31.6069451
END:VEVENT
END:VCALENDAR