BEGIN:VCALENDAR
VERSION:2.0
PRODID:-//UCSF - Universidad Católica de Santa Fe - ECPv5.14.2.1//NONSGML v1.0//EN
CALSCALE:GREGORIAN
METHOD:PUBLISH
X-WR-CALNAME:UCSF - Universidad Católica de Santa Fe
X-ORIGINAL-URL:https://www.ucsf.edu.ar
X-WR-CALDESC:Events for UCSF - Universidad Católica de Santa Fe
REFRESH-INTERVAL;VALUE=DURATION:PT1H
X-Robots-Tag:noindex
X-PUBLISHED-TTL:PT1H
BEGIN:VTIMEZONE
TZID:America/Sao_Paulo
BEGIN:STANDARD
TZOFFSETFROM:-0200
TZOFFSETTO:-0300
TZNAME:-03
DTSTART:20190217T020000
END:STANDARD
END:VTIMEZONE
BEGIN:VEVENT
DTSTART;TZID=America/Sao_Paulo:20190222T080000
DTEND;TZID=America/Sao_Paulo:20190225T220000
DTSTAMP:20260423T160417
CREATED:20190214T192744Z
LAST-MODIFIED:20190214T192747Z
UID:21560-1550822400-1551132000@www.ucsf.edu.ar
SUMMARY:CURSO de Formación en gestión\, producción y administración cultural
DESCRIPTION:CURSO de Formación en gestión\, producción y administración cultural: “Fortaleciendo líderes locales a través del Patrimonio y el Turismo”
URL:https://www.ucsf.edu.ar/evento/curso-de-formacion-en-gestion-produccion-y-administracion-cultural/
CATEGORIES:Arquitectura y Diseño,Facultades,Arquitectura,Santa Fe,Carreras de Grado,Rosario,Posadas,Carreras de Posgrado,Especialización en Gestión Integral del Hábitat,Rafaela,Sedes,Licenciatura en Diseño Industrial
END:VEVENT
BEGIN:VEVENT
DTSTART;TZID=America/Sao_Paulo:20190222T080000
DTEND;TZID=America/Sao_Paulo:20190225T220000
DTSTAMP:20260423T160417
CREATED:20190214T192744Z
LAST-MODIFIED:20190214T192744Z
UID:41472-1550822400-1551132000@www.ucsf.edu.ar
SUMMARY:CURSO de Formación en gestión\, producción y administración cultural
DESCRIPTION:CURSO de Formación en gestión\, producción y administración cultural: “Fortaleciendo líderes locales a través del Patrimonio y el Turismo”
URL:https://www.ucsf.edu.ar/evento/curso-de-formacion-en-gestion-produccion-y-administracion-cultural-2/
CATEGORIES:Arquitectura y Diseño,Facultades,Arquitectura,Santa Fe,Carreras de Grado,Rosario,Posadas,Carreras de Posgrado,Especialización en Gestión Integral del Hábitat,Rafaela,Sedes,Licenciatura en Diseño Industrial
END:VEVENT
END:VCALENDAR