BEGIN:VCALENDAR
VERSION:2.0
PRODID:-//UCSF - Universidad Católica de Santa Fe - ECPv5.14.2.1//NONSGML v1.0//EN
CALSCALE:GREGORIAN
METHOD:PUBLISH
X-WR-CALNAME:UCSF - Universidad Católica de Santa Fe
X-ORIGINAL-URL:https://www.ucsf.edu.ar
X-WR-CALDESC:Events for UCSF - Universidad Católica de Santa Fe
REFRESH-INTERVAL;VALUE=DURATION:PT1H
X-Robots-Tag:noindex
X-PUBLISHED-TTL:PT1H
BEGIN:VTIMEZONE
TZID:America/Sao_Paulo
BEGIN:STANDARD
TZOFFSETFROM:-0200
TZOFFSETTO:-0300
TZNAME:-03
DTSTART:20190217T020000
END:STANDARD
END:VTIMEZONE
BEGIN:VEVENT
DTSTART;TZID=America/Sao_Paulo:20190405T170000
DTEND;TZID=America/Sao_Paulo:20190405T180000
DTSTAMP:20260423T112349
CREATED:20190405T103653Z
LAST-MODIFIED:20190405T103840Z
UID:23218-1554483600-1554487200@www.ucsf.edu.ar
SUMMARY:Hoy Virtual: LEGITIMACIÓN DE LAS INSTITUCIONES DE LA SOCIEDAD CIVIL EN LA DEFENSA Y PROMOCIÓN DE LA VIDA HUMANA
DESCRIPTION:Ciclo de Conferencias de Promoción y Protección de la Vida Humana desde la Concepción \n \nAbog: Elisabet A. Vidal\nAbogada (UCSF)\, Doctorando en Derecho (UCA)\, Diplomada en Bioética (CAECE)\, Diplomada en Derechos Humanos (UCSF)\, Secretaria Instituto de Bioética (UCSF)\, Secretaria Instituto Ecología Humana y Desarrollo Sustentable (FCS-UCSF)\, Prof. de Deontología y Bioética aplicada a la Obstetricia (FCS-UCSF). \n \nObjetivos generales:\n1) Promover el compromiso social.\n2) Impulsar acciones para la promoción y defensa del derecho a la vida.\n3) Instar a la participación en instituciones que persigan estos fines. \nDirigido:  \nAlumnos\, Jóvenes\, Docentes primario\, secundario y Universitarios. Movimientos pastorales\, Movimiento Universitario. Agentes pastorales.  Comunidad Universitaria de la UCSF en todas sus Sedes. Público en general\, interesado en la temática. \nOrganiza: \nFacultad de Ciencias de la Salud de la Universidad Católica de Santa Fe. \nEquipo por la Vida de la Arquidiócesis de Santa Fe. \nInstituto de Bioética J Lejeune. \nInstituto para el Matrimonio y la Familia de la UCSF. \nInstituto de Bioética J Lejeune. \nGrávida Santa Fe. \n  \nSe otorgan certificados de asistencia.  \n 
URL:https://www.ucsf.edu.ar/evento/legitimacion-de-las-instituciones-de-la-sociedad-civil-en-la-defensa-y-promocion-de-la-vida-humana/
LOCATION:UCSF Santa Fe\, Echagüe 7151\, Santa Fe\, Santa Fe\, Argentina
CATEGORIES:PUA, Programa Universidad Abierta,Santa Fe,Facultades,Licenciatura en Gerontología (CCC),Ciencias de la Salud,Carreras de Grado,Licenciatura en Bioimágenes,Licenciatura en Enfermería,Rafaela,Sedes,Licenciatura en Fonoaudiología,IEHDS Instituto de Ecología Humana y Desarrollo Sustentable,Institutos,Licenciatura en Kinesiología y Fisioterapia,Licenciatura en Nutrición,Licenciatura en Obstetricia,Licenciatura en Terapia Ocupacional,IIFCS Instituto de Investigación de la Facultad de Ciencias de la Salud
GEO:-31.6069451;-60.6709418
X-APPLE-STRUCTURED-LOCATION;VALUE=URI;X-ADDRESS=UCSF Santa Fe Echagüe 7151 Santa Fe Santa Fe Argentina;X-APPLE-RADIUS=500;X-TITLE=Echagüe 7151:geo:-60.6709418,-31.6069451
END:VEVENT
BEGIN:VEVENT
DTSTART;TZID=America/Sao_Paulo:20190405T170000
DTEND;TZID=America/Sao_Paulo:20190405T180000
DTSTAMP:20260423T112349
CREATED:20190405T103653Z
LAST-MODIFIED:20190405T103653Z
UID:41499-1554483600-1554487200@www.ucsf.edu.ar
SUMMARY:Hoy Virtual: LEGITIMACIÓN DE LAS INSTITUCIONES DE LA SOCIEDAD CIVIL EN LA DEFENSA Y PROMOCIÓN DE LA VIDA HUMANA
DESCRIPTION:Ciclo de Conferencias de Promoción y Protección de la Vida Humana desde la Concepción \n \nAbog: Elisabet A. Vidal\nAbogada (UCSF)\, Doctorando en Derecho (UCA)\, Diplomada en Bioética (CAECE)\, Diplomada en Derechos Humanos (UCSF)\, Secretaria Instituto de Bioética (UCSF)\, Secretaria Instituto Ecología Humana y Desarrollo Sustentable (FCS-UCSF)\, Prof. de Deontología y Bioética aplicada a la Obstetricia (FCS-UCSF). \n \nObjetivos generales:\n1) Promover el compromiso social.\n2) Impulsar acciones para la promoción y defensa del derecho a la vida.\n3) Instar a la participación en instituciones que persigan estos fines. \nDirigido:  \nAlumnos\, Jóvenes\, Docentes primario\, secundario y Universitarios. Movimientos pastorales\, Movimiento Universitario. Agentes pastorales.  Comunidad Universitaria de la UCSF en todas sus Sedes. Público en general\, interesado en la temática. \nOrganiza: \nFacultad de Ciencias de la Salud de la Universidad Católica de Santa Fe. \nEquipo por la Vida de la Arquidiócesis de Santa Fe. \nInstituto de Bioética J Lejeune. \nInstituto para el Matrimonio y la Familia de la UCSF. \nInstituto de Bioética J Lejeune. \nGrávida Santa Fe. \n  \nSe otorgan certificados de asistencia.  \n 
URL:https://www.ucsf.edu.ar/evento/legitimacion-de-las-instituciones-de-la-sociedad-civil-en-la-defensa-y-promocion-de-la-vida-humana-2/
LOCATION:UCSF Santa Fe\, Echagüe 7151\, Santa Fe\, Santa Fe\, Argentina
CATEGORIES:PUA, Programa Universidad Abierta,Santa Fe,Facultades,Licenciatura en Gerontología (CCC),Ciencias de la Salud,Carreras de Grado,Licenciatura en Bioimágenes,Licenciatura en Enfermería,Rafaela,Sedes,Licenciatura en Fonoaudiología,IEHDS Instituto de Ecología Humana y Desarrollo Sustentable,Institutos,Licenciatura en Kinesiología y Fisioterapia,Licenciatura en Nutrición,Licenciatura en Obstetricia,Licenciatura en Terapia Ocupacional,IIFCS Instituto de Investigación de la Facultad de Ciencias de la Salud
GEO:-31.6069451;-60.6709418
X-APPLE-STRUCTURED-LOCATION;VALUE=URI;X-ADDRESS=UCSF Santa Fe Echagüe 7151 Santa Fe Santa Fe Argentina;X-APPLE-RADIUS=500;X-TITLE=Echagüe 7151:geo:-60.6709418,-31.6069451
END:VEVENT
END:VCALENDAR