BEGIN:VCALENDAR
VERSION:2.0
PRODID:-//UCSF - Universidad Católica de Santa Fe - ECPv5.14.2.1//NONSGML v1.0//EN
CALSCALE:GREGORIAN
METHOD:PUBLISH
X-WR-CALNAME:UCSF - Universidad Católica de Santa Fe
X-ORIGINAL-URL:https://www.ucsf.edu.ar
X-WR-CALDESC:Events for UCSF - Universidad Católica de Santa Fe
REFRESH-INTERVAL;VALUE=DURATION:PT1H
X-Robots-Tag:noindex
X-PUBLISHED-TTL:PT1H
BEGIN:VTIMEZONE
TZID:America/Sao_Paulo
BEGIN:STANDARD
TZOFFSETFROM:-0200
TZOFFSETTO:-0300
TZNAME:-03
DTSTART:20190217T020000
END:STANDARD
END:VTIMEZONE
BEGIN:VEVENT
DTSTART;TZID=America/Sao_Paulo:20190408T170000
DTEND;TZID=America/Sao_Paulo:20190408T190000
DTSTAMP:20260423T112146
CREATED:20190312T103901Z
LAST-MODIFIED:20190312T103901Z
UID:41487-1554742800-1554750000@www.ucsf.edu.ar
SUMMARY:PUAM:  "Nuevas Tecnologías al alcance de tu mano"
DESCRIPTION:  \n \n  \n  \n “Nuevas Tecnologías al alcance de tu mano”  \nAula Abierta\, Libre y Gratuita. \nTodas las Propuestas del Programa de Adultos Mayores de la Católica de Santa Fe. (PUAM) \nhttps://www.ucsf.edu.ar/inscripciones-a-los-talleres-del-puam/ \n  \n  \nEl horario de atención al público es de lunes a jueves de 16 a 19 hs. en la oficina del PUAM\,
URL:https://www.ucsf.edu.ar/evento/puam-nuevas-tecnologias-al-alcance-de-tu-mano-2/
LOCATION:UCSF Santa Fe\, Echagüe 7151\, Santa Fe\, Santa Fe\, Argentina
CATEGORIES:Santa Fe,Facultades,PUA, Programa Universidad Abierta,Ciencias de la Salud,Carreras de Grado,Rafaela,Sedes
GEO:-31.6069451;-60.6709418
X-APPLE-STRUCTURED-LOCATION;VALUE=URI;X-ADDRESS=UCSF Santa Fe Echagüe 7151 Santa Fe Santa Fe Argentina;X-APPLE-RADIUS=500;X-TITLE=Echagüe 7151:geo:-60.6709418,-31.6069451
END:VEVENT
BEGIN:VEVENT
DTSTART;TZID=America/Sao_Paulo:20190408T170000
DTEND;TZID=America/Sao_Paulo:20190408T190000
DTSTAMP:20260423T112146
CREATED:20190312T103901Z
LAST-MODIFIED:20190319T113555Z
UID:22428-1554742800-1554750000@www.ucsf.edu.ar
SUMMARY:PUAM:  "Nuevas Tecnologías al alcance de tu mano"
DESCRIPTION:  \n \n  \n  \n “Nuevas Tecnologías al alcance de tu mano”  \nAula Abierta\, Libre y Gratuita. \nTodas las Propuestas del Programa de Adultos Mayores de la Católica de Santa Fe. (PUAM) \nhttps://www.ucsf.edu.ar/inscripciones-a-los-talleres-del-puam/ \n  \n  \nEl horario de atención al público es de lunes a jueves de 16 a 19 hs. en la oficina del PUAM\,
URL:https://www.ucsf.edu.ar/evento/puam-nuevas-tecnologias-al-alcance-de-tu-mano/
LOCATION:UCSF Santa Fe\, Echagüe 7151\, Santa Fe\, Santa Fe\, Argentina
CATEGORIES:Santa Fe,Facultades,PUA, Programa Universidad Abierta,Ciencias de la Salud,Carreras de Grado,Rafaela,Sedes
GEO:-31.6069451;-60.6709418
X-APPLE-STRUCTURED-LOCATION;VALUE=URI;X-ADDRESS=UCSF Santa Fe Echagüe 7151 Santa Fe Santa Fe Argentina;X-APPLE-RADIUS=500;X-TITLE=Echagüe 7151:geo:-60.6709418,-31.6069451
END:VEVENT
END:VCALENDAR