BEGIN:VCALENDAR
VERSION:2.0
PRODID:-//UCSF - Universidad Católica de Santa Fe - ECPv5.14.2.1//NONSGML v1.0//EN
CALSCALE:GREGORIAN
METHOD:PUBLISH
X-WR-CALNAME:UCSF - Universidad Católica de Santa Fe
X-ORIGINAL-URL:https://www.ucsf.edu.ar
X-WR-CALDESC:Events for UCSF - Universidad Católica de Santa Fe
REFRESH-INTERVAL;VALUE=DURATION:PT1H
X-Robots-Tag:noindex
X-PUBLISHED-TTL:PT1H
BEGIN:VTIMEZONE
TZID:America/Sao_Paulo
BEGIN:STANDARD
TZOFFSETFROM:-0200
TZOFFSETTO:-0300
TZNAME:-03
DTSTART:20190217T020000
END:STANDARD
END:VTIMEZONE
BEGIN:VEVENT
DTSTART;TZID=America/Sao_Paulo:20190411T160000
DTEND;TZID=America/Sao_Paulo:20190411T190000
DTSTAMP:20260423T113126
CREATED:20190404T113955Z
LAST-MODIFIED:20190404T113955Z
UID:41497-1554998400-1555009200@www.ucsf.edu.ar
SUMMARY:Taller para la elaboración de programas de las asignaturas – Facultad Ciencias Económicas
DESCRIPTION:En la enseñanza resulta fundamental organizar el saber y el modo de enseñarlo\, considerando todas las variables que implica. Esto puede explicitarse en la planificación anual\, que estará dirigida a evidenciar la intencionalidad pedagógica y de ese modo guiará al estudiante en su proceso de aprendizaje.\nEn este contexto\, la Asesoría Pedagógica propone el Taller para la elaboración de programas de asignaturas destinado a todos los docentes de la UCSF. Los componentes curriculares que aparecen como ejes temáticos del mismo\, intentan conformarse en herramientas para pensar y sistematizar la propuesta de enseñanza.
URL:https://www.ucsf.edu.ar/evento/taller-para-la-elaboracion-de-programas-de-las-asignaturas-facultad-ciencias-economicas-2/
LOCATION:UCSF Santa Fe\, Echagüe 7151\, Santa Fe\, Santa Fe\, Argentina
CATEGORIES:Asesoría Pedagógica,Home principal,Santa Fe,Facultades,LA UCSF,Sedes
GEO:-31.6069451;-60.6709418
X-APPLE-STRUCTURED-LOCATION;VALUE=URI;X-ADDRESS=UCSF Santa Fe Echagüe 7151 Santa Fe Santa Fe Argentina;X-APPLE-RADIUS=500;X-TITLE=Echagüe 7151:geo:-60.6709418,-31.6069451
END:VEVENT
BEGIN:VEVENT
DTSTART;TZID=America/Sao_Paulo:20190411T160000
DTEND;TZID=America/Sao_Paulo:20190411T190000
DTSTAMP:20260423T113126
CREATED:20190404T113955Z
LAST-MODIFIED:20190404T113955Z
UID:23191-1554998400-1555009200@www.ucsf.edu.ar
SUMMARY:Taller para la elaboración de programas de las asignaturas – Facultad Ciencias Económicas
DESCRIPTION:En la enseñanza resulta fundamental organizar el saber y el modo de enseñarlo\, considerando todas las variables que implica. Esto puede explicitarse en la planificación anual\, que estará dirigida a evidenciar la intencionalidad pedagógica y de ese modo guiará al estudiante en su proceso de aprendizaje.\nEn este contexto\, la Asesoría Pedagógica propone el Taller para la elaboración de programas de asignaturas destinado a todos los docentes de la UCSF. Los componentes curriculares que aparecen como ejes temáticos del mismo\, intentan conformarse en herramientas para pensar y sistematizar la propuesta de enseñanza.
URL:https://www.ucsf.edu.ar/evento/taller-para-la-elaboracion-de-programas-de-las-asignaturas-facultad-ciencias-economicas/
LOCATION:UCSF Santa Fe\, Echagüe 7151\, Santa Fe\, Santa Fe\, Argentina
CATEGORIES:Asesoría Pedagógica,Home principal,Santa Fe,Facultades,LA UCSF,Sedes
GEO:-31.6069451;-60.6709418
X-APPLE-STRUCTURED-LOCATION;VALUE=URI;X-ADDRESS=UCSF Santa Fe Echagüe 7151 Santa Fe Santa Fe Argentina;X-APPLE-RADIUS=500;X-TITLE=Echagüe 7151:geo:-60.6709418,-31.6069451
END:VEVENT
BEGIN:VEVENT
DTSTART;TZID=America/Sao_Paulo:20190411T163000
DTEND;TZID=America/Sao_Paulo:20190411T183000
DTSTAMP:20260423T113126
CREATED:20190318T231924Z
LAST-MODIFIED:20190319T101827Z
UID:22698-1555000200-1555007400@www.ucsf.edu.ar
SUMMARY:PUAM: ¿Cómo entrenar la Memoria y demás Funciones Cognitivas?
DESCRIPTION:Charla ¿Cómo entrenar la Memoria y demás Funciones Cognitivas? \nEl Programa Universidad de los Adultos Mayores (PUAM) tiene el agrado de invitarlos a la charla: \n¿Cómo entrenar la Memoria y demás Funciones Cognitivas? \nSi bien los olvidos y el declive cognitivo son frecuentes en los adultos mayores\, podemos entrenar nuestro cerebro estimulando estas funciones\, haciendo que el paso de los años nos encuentre saludables e independientes. \nSi te animas\, podes hacer una AUTOEVALUACIÓN para conocer cómo están tus funciones cognitivas. \nLa charla es absolutamente gratuita \nDía jueves 11 de abril a las 16:30 hs. Aula 2.53 \nPara consultas e inscripciones comunicarse al 4603030 interno 122 o 180 o vía E-mail a nsturla@ucsf.edu.ar\nDías de atención al público de lunes a jueves de 16 a 19 hs. (Oficina PUAM\, planta alta)
URL:https://www.ucsf.edu.ar/evento/charla-como-entrenar-la-memoria-y-demas-funciones-cognitivas/
LOCATION:UCSF Santa Fe\, Echagüe 7151\, Santa Fe\, Santa Fe\, Argentina
CATEGORIES:Santa Fe,Facultades,PUA, Programa Universidad Abierta,Ciencias de la Salud,Licenciatura en Gerontología (CCC),Rafaela,Sedes,IEHDS Instituto de Ecología Humana y Desarrollo Sustentable,Institutos,Licenciatura en Nutrición,Licenciatura en Terapia Ocupacional
GEO:-31.6069451;-60.6709418
X-APPLE-STRUCTURED-LOCATION;VALUE=URI;X-ADDRESS=UCSF Santa Fe Echagüe 7151 Santa Fe Santa Fe Argentina;X-APPLE-RADIUS=500;X-TITLE=Echagüe 7151:geo:-60.6709418,-31.6069451
END:VEVENT
BEGIN:VEVENT
DTSTART;TZID=America/Sao_Paulo:20190411T163000
DTEND;TZID=America/Sao_Paulo:20190411T183000
DTSTAMP:20260423T113126
CREATED:20190318T231924Z
LAST-MODIFIED:20190318T231924Z
UID:41489-1555000200-1555007400@www.ucsf.edu.ar
SUMMARY:PUAM: ¿Cómo entrenar la Memoria y demás Funciones Cognitivas?
DESCRIPTION:Charla ¿Cómo entrenar la Memoria y demás Funciones Cognitivas? \nEl Programa Universidad de los Adultos Mayores (PUAM) tiene el agrado de invitarlos a la charla: \n¿Cómo entrenar la Memoria y demás Funciones Cognitivas? \nSi bien los olvidos y el declive cognitivo son frecuentes en los adultos mayores\, podemos entrenar nuestro cerebro estimulando estas funciones\, haciendo que el paso de los años nos encuentre saludables e independientes. \nSi te animas\, podes hacer una AUTOEVALUACIÓN para conocer cómo están tus funciones cognitivas. \nLa charla es absolutamente gratuita \nDía jueves 11 de abril a las 16:30 hs. Aula 2.53 \nPara consultas e inscripciones comunicarse al 4603030 interno 122 o 180 o vía E-mail a nsturla@ucsf.edu.ar\nDías de atención al público de lunes a jueves de 16 a 19 hs. (Oficina PUAM\, planta alta)
URL:https://www.ucsf.edu.ar/evento/charla-como-entrenar-la-memoria-y-demas-funciones-cognitivas-2/
LOCATION:UCSF Santa Fe\, Echagüe 7151\, Santa Fe\, Santa Fe\, Argentina
CATEGORIES:Santa Fe,Facultades,PUA, Programa Universidad Abierta,Ciencias de la Salud,Licenciatura en Gerontología (CCC),Rafaela,Sedes,IEHDS Instituto de Ecología Humana y Desarrollo Sustentable,Institutos,Licenciatura en Nutrición,Licenciatura en Terapia Ocupacional
GEO:-31.6069451;-60.6709418
X-APPLE-STRUCTURED-LOCATION;VALUE=URI;X-ADDRESS=UCSF Santa Fe Echagüe 7151 Santa Fe Santa Fe Argentina;X-APPLE-RADIUS=500;X-TITLE=Echagüe 7151:geo:-60.6709418,-31.6069451
END:VEVENT
END:VCALENDAR