BEGIN:VCALENDAR
VERSION:2.0
PRODID:-//UCSF - Universidad Católica de Santa Fe - ECPv5.14.2.1//NONSGML v1.0//EN
CALSCALE:GREGORIAN
METHOD:PUBLISH
X-WR-CALNAME:UCSF - Universidad Católica de Santa Fe
X-ORIGINAL-URL:https://www.ucsf.edu.ar
X-WR-CALDESC:Events for UCSF - Universidad Católica de Santa Fe
REFRESH-INTERVAL;VALUE=DURATION:PT1H
X-Robots-Tag:noindex
X-PUBLISHED-TTL:PT1H
BEGIN:VTIMEZONE
TZID:America/Sao_Paulo
BEGIN:STANDARD
TZOFFSETFROM:-0200
TZOFFSETTO:-0300
TZNAME:-03
DTSTART:20190217T020000
END:STANDARD
END:VTIMEZONE
BEGIN:VEVENT
DTSTART;TZID=America/Sao_Paulo:20190422T090000
DTEND;TZID=America/Sao_Paulo:20190426T200000
DTSTAMP:20260423T112146
CREATED:20190419T114914Z
LAST-MODIFIED:20190419T114914Z
UID:23532-1555923600-1556308800@www.ucsf.edu.ar
SUMMARY:WORKSHOP UCSF-ENSAN: “Nuevas construcciones modulares en madera”
DESCRIPTION:Más información
URL:https://www.ucsf.edu.ar/evento/workshop-ucsf-ensan-nuevas-construcciones-modulares-en-madera/
LOCATION:UCSF Sede Rosario\, Moreno 1056\, Rosario\, Santa Fe\, 2000\, Argentina
CATEGORIES:Arquitectura y Diseño,Facultades,Arquitectura,Santa Fe,Rosario,Carreras de Grado,Posadas,Rafaela,Sedes,Licenciatura en Diseño Industrial
ORGANIZER;CN="Facultad%20de%20Arquitectura%20y%20Dise%C3%B1o%20-%20Sede%20Rosario":MAILTO:gstivala@ucsf.edu.ar
GEO:-32.9491666;-60.6519119
X-APPLE-STRUCTURED-LOCATION;VALUE=URI;X-ADDRESS=UCSF Sede Rosario Moreno 1056 Rosario Santa Fe 2000 Argentina;X-APPLE-RADIUS=500;X-TITLE=Moreno 1056:geo:-60.6519119,-32.9491666
END:VEVENT
BEGIN:VEVENT
DTSTART;TZID=America/Sao_Paulo:20190422T090000
DTEND;TZID=America/Sao_Paulo:20190426T200000
DTSTAMP:20260423T112146
CREATED:20190419T114914Z
LAST-MODIFIED:20190419T114914Z
UID:41506-1555923600-1556308800@www.ucsf.edu.ar
SUMMARY:WORKSHOP UCSF-ENSAN: “Nuevas construcciones modulares en madera”
DESCRIPTION:Más información
URL:https://www.ucsf.edu.ar/evento/workshop-ucsf-ensan-nuevas-construcciones-modulares-en-madera-2/
LOCATION:UCSF Sede Rosario\, Moreno 1056\, Rosario\, Santa Fe\, 2000\, Argentina
CATEGORIES:Arquitectura y Diseño,Facultades,Arquitectura,Santa Fe,Rosario,Carreras de Grado,Posadas,Rafaela,Sedes,Licenciatura en Diseño Industrial
ORGANIZER;CN="Facultad%20de%20Arquitectura%20y%20Dise%C3%B1o%20-%20Sede%20Rosario":MAILTO:gstivala@ucsf.edu.ar
GEO:-32.9491666;-60.6519119
X-APPLE-STRUCTURED-LOCATION;VALUE=URI;X-ADDRESS=UCSF Sede Rosario Moreno 1056 Rosario Santa Fe 2000 Argentina;X-APPLE-RADIUS=500;X-TITLE=Moreno 1056:geo:-60.6519119,-32.9491666
END:VEVENT
BEGIN:VEVENT
DTSTART;TZID=America/Sao_Paulo:20190422T180000
DTEND;TZID=America/Sao_Paulo:20190422T220000
DTSTAMP:20260423T112146
CREATED:20190403T142922Z
LAST-MODIFIED:20190403T142922Z
UID:41495-1555956000-1555970400@www.ucsf.edu.ar
SUMMARY:Diplomatura en Integralidad de la Educación Sexual
DESCRIPTION:La Diplomatura se desarrollará los días lunes\, desde el lunes 22 de abril hasta el\n29 de julio de 2019\, en un total de doce clases.\nHorarios: módulos de cuatro horas diarias.\nCarga horaria total: 78 hs.\nModalidad: Presencial\nDestinatarios: Directivos\, Psicopedagogos y docentes de todos los niveles de\nenseñanza\, estudiantes universitarios\, agentes pastorales y padres de familia.\nOrganiza:\nInstituto para el Matrimonio y la Familia\nVicerrectorado de Formación\nInstituto de Bioética Jerôme Lejeune\nJunta Arquidiocesana de Educación (JAE)\nInstituto Superior San Juan de Ávila\nInstituto Superior Particular Incorporado Fray Francisco de Paula Castañeda.
URL:https://www.ucsf.edu.ar/evento/diplomatura-en-integralidad-de-la-educacion-sexual-3/
LOCATION:Biblioteca del Magisterio Católico\, San Martín 1621\, Santa Fe\, 3000
CATEGORIES:Santa Fe,Rafaela,Sedes,IMF Instituto para el Matrimonio y la Familia
END:VEVENT
BEGIN:VEVENT
DTSTART;TZID=America/Sao_Paulo:20190422T180000
DTEND;TZID=America/Sao_Paulo:20190422T220000
DTSTAMP:20260423T112146
CREATED:20190403T142922Z
LAST-MODIFIED:20190403T144434Z
UID:23159-1555956000-1555970400@www.ucsf.edu.ar
SUMMARY:Diplomatura en Integralidad de la Educación Sexual
DESCRIPTION:La Diplomatura se desarrollará los días lunes\, desde el lunes 22 de abril hasta el\n29 de julio de 2019\, en un total de doce clases.\nHorarios: módulos de cuatro horas diarias.\nCarga horaria total: 78 hs.\nModalidad: Presencial\nDestinatarios: Directivos\, Psicopedagogos y docentes de todos los niveles de\nenseñanza\, estudiantes universitarios\, agentes pastorales y padres de familia.\nOrganiza:\nInstituto para el Matrimonio y la Familia\nVicerrectorado de Formación\nInstituto de Bioética Jerôme Lejeune\nJunta Arquidiocesana de Educación (JAE)\nInstituto Superior San Juan de Ávila\nInstituto Superior Particular Incorporado Fray Francisco de Paula Castañeda.
URL:https://www.ucsf.edu.ar/evento/diplomatura-en-integralidad-de-la-educacion-sexual/
LOCATION:Biblioteca del Magisterio Católico\, San Martín 1621\, Santa Fe\, 3000
CATEGORIES:Santa Fe,Rafaela,Sedes,IMF Instituto para el Matrimonio y la Familia
END:VEVENT
END:VCALENDAR