BEGIN:VCALENDAR
VERSION:2.0
PRODID:-//UCSF - Universidad Católica de Santa Fe - ECPv5.14.2.1//NONSGML v1.0//EN
CALSCALE:GREGORIAN
METHOD:PUBLISH
X-WR-CALNAME:UCSF - Universidad Católica de Santa Fe
X-ORIGINAL-URL:https://www.ucsf.edu.ar
X-WR-CALDESC:Events for UCSF - Universidad Católica de Santa Fe
REFRESH-INTERVAL;VALUE=DURATION:PT1H
X-Robots-Tag:noindex
X-PUBLISHED-TTL:PT1H
BEGIN:VTIMEZONE
TZID:America/Sao_Paulo
BEGIN:STANDARD
TZOFFSETFROM:-0200
TZOFFSETTO:-0300
TZNAME:-03
DTSTART:20190217T020000
END:STANDARD
END:VTIMEZONE
BEGIN:VEVENT
DTSTART;TZID=America/Sao_Paulo:20190422T090000
DTEND;TZID=America/Sao_Paulo:20190426T200000
DTSTAMP:20260423T111223
CREATED:20190419T114914Z
LAST-MODIFIED:20190419T114914Z
UID:23532-1555923600-1556308800@www.ucsf.edu.ar
SUMMARY:WORKSHOP UCSF-ENSAN: “Nuevas construcciones modulares en madera”
DESCRIPTION:Más información
URL:https://www.ucsf.edu.ar/evento/workshop-ucsf-ensan-nuevas-construcciones-modulares-en-madera/
LOCATION:UCSF Sede Rosario\, Moreno 1056\, Rosario\, Santa Fe\, 2000\, Argentina
CATEGORIES:Arquitectura y Diseño,Facultades,Arquitectura,Santa Fe,Rosario,Carreras de Grado,Posadas,Rafaela,Sedes,Licenciatura en Diseño Industrial
ORGANIZER;CN="Facultad%20de%20Arquitectura%20y%20Dise%C3%B1o%20-%20Sede%20Rosario":MAILTO:gstivala@ucsf.edu.ar
GEO:-32.9491666;-60.6519119
X-APPLE-STRUCTURED-LOCATION;VALUE=URI;X-ADDRESS=UCSF Sede Rosario Moreno 1056 Rosario Santa Fe 2000 Argentina;X-APPLE-RADIUS=500;X-TITLE=Moreno 1056:geo:-60.6519119,-32.9491666
END:VEVENT
BEGIN:VEVENT
DTSTART;TZID=America/Sao_Paulo:20190422T090000
DTEND;TZID=America/Sao_Paulo:20190426T200000
DTSTAMP:20260423T111223
CREATED:20190419T114914Z
LAST-MODIFIED:20190419T114914Z
UID:41506-1555923600-1556308800@www.ucsf.edu.ar
SUMMARY:WORKSHOP UCSF-ENSAN: “Nuevas construcciones modulares en madera”
DESCRIPTION:Más información
URL:https://www.ucsf.edu.ar/evento/workshop-ucsf-ensan-nuevas-construcciones-modulares-en-madera-2/
LOCATION:UCSF Sede Rosario\, Moreno 1056\, Rosario\, Santa Fe\, 2000\, Argentina
CATEGORIES:Arquitectura y Diseño,Facultades,Arquitectura,Santa Fe,Rosario,Carreras de Grado,Posadas,Rafaela,Sedes,Licenciatura en Diseño Industrial
ORGANIZER;CN="Facultad%20de%20Arquitectura%20y%20Dise%C3%B1o%20-%20Sede%20Rosario":MAILTO:gstivala@ucsf.edu.ar
GEO:-32.9491666;-60.6519119
X-APPLE-STRUCTURED-LOCATION;VALUE=URI;X-ADDRESS=UCSF Sede Rosario Moreno 1056 Rosario Santa Fe 2000 Argentina;X-APPLE-RADIUS=500;X-TITLE=Moreno 1056:geo:-60.6519119,-32.9491666
END:VEVENT
BEGIN:VEVENT
DTSTART;TZID=America/Sao_Paulo:20190426T090000
DTEND;TZID=America/Sao_Paulo:20190426T130000
DTSTAMP:20260423T111223
CREATED:20190412T205215Z
LAST-MODIFIED:20190412T205215Z
UID:41500-1556269200-1556283600@www.ucsf.edu.ar
SUMMARY:JORNADA “REFLEXIONES SOBRE EL USO DE LA VOZ EN EL DOCENTE”
DESCRIPTION:  \nJORNADA “REFLEXIONES SOBRE EL USO DE LA VOZ EN EL DOCENTE” \nCONSEJO SUPERIOR \nAnexo de la Resolución Nº 6624 \nFundamentación \nEl día 16 de abril\, se celebra el Dia Mundial de la Voz. Desde hace seis años\, la Lic. en Fonoaudiología de la UCSF participa de esta campaña que tiene como objetivo\, concientizar a la población sobre la necesidad de prevenir y/o tratar los problemas relacionados con la salud vocal y disminuir las tasas de morbimortalidad por patología laríngea (cáncer y otras)\, a través de su detección temprana. \nLa Campaña a nivel nacional se enfoca en cada edición\, en una población particular de usuarios vocales\, este año el foco esta puesto en usuarios ocupacionales de la voz que incluye a todos aquellos trabajadores que usan su voz como herramienta o instrumento de trabajo pero que no han recibido una formación específica sobre el tema. Es por eso que\, dentro del marco de las cátedras Eufonía y Alteraciones vocales-Intervención Fonoaudiológica\, se realizará una Jornada de reflexión sobre el cuidado de la voz en el docente\, principal usuario ocupacional de la voz. \nEsta instancia de difusión y formación no solo para los asistentes sino también para los alumnos de la carrera\, constituye una oportunidad extraordinaria de conocer medidas concretas de cuidado y educación vocal. \n  \nmas información arriba  a la derecha: Url del evento. \n 
URL:https://www.ucsf.edu.ar/evento/jornada-reflexiones-sobre-el-uso-de-la-voz-en-el-docente-2/
LOCATION:UCSF Santa Fe\, Echagüe 7151\, Santa Fe\, Santa Fe\, Argentina
CATEGORIES:Facultades,Santa Fe,Ciencias de la Salud,Carreras de Grado,Rafaela,Sedes,Licenciatura en Fonoaudiología
GEO:-31.6069451;-60.6709418
X-APPLE-STRUCTURED-LOCATION;VALUE=URI;X-ADDRESS=UCSF Santa Fe Echagüe 7151 Santa Fe Santa Fe Argentina;X-APPLE-RADIUS=500;X-TITLE=Echagüe 7151:geo:-60.6709418,-31.6069451
END:VEVENT
BEGIN:VEVENT
DTSTART;TZID=America/Sao_Paulo:20190426T090000
DTEND;TZID=America/Sao_Paulo:20190426T130000
DTSTAMP:20260423T111223
CREATED:20190412T205215Z
LAST-MODIFIED:20190414T222645Z
UID:23415-1556269200-1556283600@www.ucsf.edu.ar
SUMMARY:JORNADA “REFLEXIONES SOBRE EL USO DE LA VOZ EN EL DOCENTE”
DESCRIPTION:  \nJORNADA “REFLEXIONES SOBRE EL USO DE LA VOZ EN EL DOCENTE” \nCONSEJO SUPERIOR \nAnexo de la Resolución Nº 6624 \nFundamentación \nEl día 16 de abril\, se celebra el Dia Mundial de la Voz. Desde hace seis años\, la Lic. en Fonoaudiología de la UCSF participa de esta campaña que tiene como objetivo\, concientizar a la población sobre la necesidad de prevenir y/o tratar los problemas relacionados con la salud vocal y disminuir las tasas de morbimortalidad por patología laríngea (cáncer y otras)\, a través de su detección temprana. \nLa Campaña a nivel nacional se enfoca en cada edición\, en una población particular de usuarios vocales\, este año el foco esta puesto en usuarios ocupacionales de la voz que incluye a todos aquellos trabajadores que usan su voz como herramienta o instrumento de trabajo pero que no han recibido una formación específica sobre el tema. Es por eso que\, dentro del marco de las cátedras Eufonía y Alteraciones vocales-Intervención Fonoaudiológica\, se realizará una Jornada de reflexión sobre el cuidado de la voz en el docente\, principal usuario ocupacional de la voz. \nEsta instancia de difusión y formación no solo para los asistentes sino también para los alumnos de la carrera\, constituye una oportunidad extraordinaria de conocer medidas concretas de cuidado y educación vocal. \n  \nmas información arriba  a la derecha: Url del evento. \n 
URL:https://www.ucsf.edu.ar/evento/jornada-reflexiones-sobre-el-uso-de-la-voz-en-el-docente/
LOCATION:UCSF Santa Fe\, Echagüe 7151\, Santa Fe\, Santa Fe\, Argentina
CATEGORIES:Facultades,Santa Fe,Ciencias de la Salud,Carreras de Grado,Rafaela,Sedes,Licenciatura en Fonoaudiología
GEO:-31.6069451;-60.6709418
X-APPLE-STRUCTURED-LOCATION;VALUE=URI;X-ADDRESS=UCSF Santa Fe Echagüe 7151 Santa Fe Santa Fe Argentina;X-APPLE-RADIUS=500;X-TITLE=Echagüe 7151:geo:-60.6709418,-31.6069451
END:VEVENT
BEGIN:VEVENT
DTSTART;TZID=America/Sao_Paulo:20190426T170000
DTEND;TZID=America/Sao_Paulo:20190426T170000
DTSTAMP:20260423T111223
CREATED:20190424T102208Z
LAST-MODIFIED:20190424T103536Z
UID:23680-1556298000-1556298000@www.ucsf.edu.ar
SUMMARY:Este Viernes: Gravida: “ESTRATEGIAS DE ABORDAJE: LA MAMÁ EN CONFLICTO CON SU EMBARAZO”
DESCRIPTION:Ciclo de Conferencias de Promoción y Protección de la Vida Humana desde la Concepción (Virtual) \nInscripciones on line abajo \n“ESTRATEGIAS DE ABORDAJE: LA MAMÁ EN CONFLICTO CON SU EMBARAZO”\n Viernes 26 de abril. \nEmilio Perizzotti. \nEncargado del Área de Atención de Casos de Grávida Santa Fe. \n \nObjetivos Generales: \n1) Diferentes estrategias de abordaje cuando una mamá está en conflicto con su embarazo. \n2) Testimonio de una Madre.
URL:https://www.ucsf.edu.ar/evento/gravida-estrategias-de-abordaje-la-mama-en-conflicto-con-su-embarazo/
LOCATION:UCSF Santa Fe\, Echagüe 7151\, Santa Fe\, Santa Fe\, Argentina
CATEGORIES:Facultades,Santa Fe,Ciencias de la Salud,Rafaela,Sedes
GEO:-31.6069451;-60.6709418
X-APPLE-STRUCTURED-LOCATION;VALUE=URI;X-ADDRESS=UCSF Santa Fe Echagüe 7151 Santa Fe Santa Fe Argentina;X-APPLE-RADIUS=500;X-TITLE=Echagüe 7151:geo:-60.6709418,-31.6069451
END:VEVENT
BEGIN:VEVENT
DTSTART;TZID=America/Sao_Paulo:20190426T170000
DTEND;TZID=America/Sao_Paulo:20190426T170000
DTSTAMP:20260423T111223
CREATED:20190424T102208Z
LAST-MODIFIED:20190424T102208Z
UID:41508-1556298000-1556298000@www.ucsf.edu.ar
SUMMARY:Este Viernes: Gravida: “ESTRATEGIAS DE ABORDAJE: LA MAMÁ EN CONFLICTO CON SU EMBARAZO”
DESCRIPTION:Ciclo de Conferencias de Promoción y Protección de la Vida Humana desde la Concepción (Virtual) \nInscripciones on line abajo \n“ESTRATEGIAS DE ABORDAJE: LA MAMÁ EN CONFLICTO CON SU EMBARAZO”\n Viernes 26 de abril. \nEmilio Perizzotti. \nEncargado del Área de Atención de Casos de Grávida Santa Fe. \n \nObjetivos Generales: \n1) Diferentes estrategias de abordaje cuando una mamá está en conflicto con su embarazo. \n2) Testimonio de una Madre.
URL:https://www.ucsf.edu.ar/evento/gravida-estrategias-de-abordaje-la-mama-en-conflicto-con-su-embarazo-2/
LOCATION:UCSF Santa Fe\, Echagüe 7151\, Santa Fe\, Santa Fe\, Argentina
CATEGORIES:Facultades,Santa Fe,Ciencias de la Salud,Rafaela,Sedes
GEO:-31.6069451;-60.6709418
X-APPLE-STRUCTURED-LOCATION;VALUE=URI;X-ADDRESS=UCSF Santa Fe Echagüe 7151 Santa Fe Santa Fe Argentina;X-APPLE-RADIUS=500;X-TITLE=Echagüe 7151:geo:-60.6709418,-31.6069451
END:VEVENT
END:VCALENDAR