BEGIN:VCALENDAR
VERSION:2.0
PRODID:-//UCSF - Universidad Católica de Santa Fe - ECPv5.14.2.1//NONSGML v1.0//EN
CALSCALE:GREGORIAN
METHOD:PUBLISH
X-WR-CALNAME:UCSF - Universidad Católica de Santa Fe
X-ORIGINAL-URL:https://www.ucsf.edu.ar
X-WR-CALDESC:Events for UCSF - Universidad Católica de Santa Fe
REFRESH-INTERVAL;VALUE=DURATION:PT1H
X-Robots-Tag:noindex
X-PUBLISHED-TTL:PT1H
BEGIN:VTIMEZONE
TZID:America/Sao_Paulo
BEGIN:STANDARD
TZOFFSETFROM:-0200
TZOFFSETTO:-0300
TZNAME:-03
DTSTART:20190217T020000
END:STANDARD
END:VTIMEZONE
BEGIN:VEVENT
DTSTART;TZID=America/Sao_Paulo:20190614T090000
DTEND;TZID=America/Sao_Paulo:20190615T130000
DTSTAMP:20260423T080246
CREATED:20190511T215844Z
LAST-MODIFIED:20190511T224038Z
UID:24165-1560502800-1560603600@www.ucsf.edu.ar
SUMMARY:CURSO DE ACTUALIZACIÓN: POLÍTICAS PÚBLICAS COMPARADAS EN SEGURIDAD ALIMENTARIA
DESCRIPTION:  \nInscripciones on line abajo. \n  \n \n  \nConforme la definición de FAO (1996) respecto de la Seguridad Alimentaria\, entendida como la existencia del acceso físico y económico de todas las personas a suficientes alimentos inocuos y nutritivos para satisfacer sus necesidades alimenticias y a los efectos de llevar una vida activa y sana\, este seminario pretende reconocer la importancia de la Seguridad Alimentaria no como una mera enunciación …declaratoria de su condición de derecho humano. Esto se contradice en la praxis con una insuficiente proyección y ejecución tanto de los organismos internacionales como de los aparatos estatales\, lo cual se revela en las estadísticas de pobreza\, malnutrición e indigencia\, según se analicen países y continentes… \ntodo el programa: aquí
URL:https://www.ucsf.edu.ar/evento/curso-de-actualizacion-politicas-publicas-comparadas-en-seguridad-alimentaria/
LOCATION:UCSF Santa Fe\, Echagüe 7151\, Santa Fe\, Santa Fe\, Argentina
CATEGORIES:Santa Fe,Ciencias de la Salud,Carreras de Grado,Rafaela,Sedes,Licenciatura en Nutrición
GEO:-31.6069451;-60.6709418
X-APPLE-STRUCTURED-LOCATION;VALUE=URI;X-ADDRESS=UCSF Santa Fe Echagüe 7151 Santa Fe Santa Fe Argentina;X-APPLE-RADIUS=500;X-TITLE=Echagüe 7151:geo:-60.6709418,-31.6069451
END:VEVENT
BEGIN:VEVENT
DTSTART;TZID=America/Sao_Paulo:20190614T090000
DTEND;TZID=America/Sao_Paulo:20190615T130000
DTSTAMP:20260423T080246
CREATED:20190511T215844Z
LAST-MODIFIED:20190511T215844Z
UID:41517-1560502800-1560603600@www.ucsf.edu.ar
SUMMARY:CURSO DE ACTUALIZACIÓN: POLÍTICAS PÚBLICAS COMPARADAS EN SEGURIDAD ALIMENTARIA
DESCRIPTION:  \nInscripciones on line abajo. \n  \n \n  \nConforme la definición de FAO (1996) respecto de la Seguridad Alimentaria\, entendida como la existencia del acceso físico y económico de todas las personas a suficientes alimentos inocuos y nutritivos para satisfacer sus necesidades alimenticias y a los efectos de llevar una vida activa y sana\, este seminario pretende reconocer la importancia de la Seguridad Alimentaria no como una mera enunciación …declaratoria de su condición de derecho humano. Esto se contradice en la praxis con una insuficiente proyección y ejecución tanto de los organismos internacionales como de los aparatos estatales\, lo cual se revela en las estadísticas de pobreza\, malnutrición e indigencia\, según se analicen países y continentes… \ntodo el programa: aquí
URL:https://www.ucsf.edu.ar/evento/curso-de-actualizacion-politicas-publicas-comparadas-en-seguridad-alimentaria-2/
LOCATION:UCSF Santa Fe\, Echagüe 7151\, Santa Fe\, Santa Fe\, Argentina
CATEGORIES:Santa Fe,Ciencias de la Salud,Carreras de Grado,Rafaela,Sedes,Licenciatura en Nutrición
GEO:-31.6069451;-60.6709418
X-APPLE-STRUCTURED-LOCATION;VALUE=URI;X-ADDRESS=UCSF Santa Fe Echagüe 7151 Santa Fe Santa Fe Argentina;X-APPLE-RADIUS=500;X-TITLE=Echagüe 7151:geo:-60.6709418,-31.6069451
END:VEVENT
END:VCALENDAR