BEGIN:VCALENDAR
VERSION:2.0
PRODID:-//UCSF - Universidad Católica de Santa Fe - ECPv5.14.2.1//NONSGML v1.0//EN
CALSCALE:GREGORIAN
METHOD:PUBLISH
X-WR-CALNAME:UCSF - Universidad Católica de Santa Fe
X-ORIGINAL-URL:https://www.ucsf.edu.ar
X-WR-CALDESC:Events for UCSF - Universidad Católica de Santa Fe
REFRESH-INTERVAL;VALUE=DURATION:PT1H
X-Robots-Tag:noindex
X-PUBLISHED-TTL:PT1H
BEGIN:VTIMEZONE
TZID:America/Sao_Paulo
BEGIN:STANDARD
TZOFFSETFROM:-0200
TZOFFSETTO:-0300
TZNAME:-03
DTSTART:20190217T020000
END:STANDARD
END:VTIMEZONE
BEGIN:VEVENT
DTSTART;TZID=America/Sao_Paulo:20190809T160000
DTEND;TZID=America/Sao_Paulo:20190809T210000
DTSTAMP:20260423T045637
CREATED:20190801T143522Z
LAST-MODIFIED:20190801T143522Z
UID:41527-1565366400-1565384400@www.ucsf.edu.ar
SUMMARY:Diplomatura en Filosofía y Diálogo Interdisciplinar: Imagen y Literatura
DESCRIPTION:“Imagen y literatura como contradiscurso. Brecht. Sebald. Haneke. Didi-Huberman.” \nLic. Ayelén Poggi – Dra. Adriana Cid
URL:https://www.ucsf.edu.ar/evento/diplomatura-en-filosofia-y-dialogo-interdisciplinar-imagen-y-literatura-2/
LOCATION:Santa Fe
CATEGORIES:Facultades,Licenciatura en Ciencias de la Comunicación
END:VEVENT
BEGIN:VEVENT
DTSTART;TZID=America/Sao_Paulo:20190809T160000
DTEND;TZID=America/Sao_Paulo:20190809T210000
DTSTAMP:20260423T045637
CREATED:20190801T143522Z
LAST-MODIFIED:20190801T143522Z
UID:26135-1565366400-1565384400@www.ucsf.edu.ar
SUMMARY:Diplomatura en Filosofía y Diálogo Interdisciplinar: Imagen y Literatura
DESCRIPTION:“Imagen y literatura como contradiscurso. Brecht. Sebald. Haneke. Didi-Huberman.” \nLic. Ayelén Poggi – Dra. Adriana Cid
URL:https://www.ucsf.edu.ar/evento/diplomatura-en-filosofia-y-dialogo-interdisciplinar-imagen-y-literatura/
LOCATION:Santa Fe
CATEGORIES:Facultades,Licenciatura en Ciencias de la Comunicación
END:VEVENT
BEGIN:VEVENT
DTSTART;TZID=America/Sao_Paulo:20190809T170000
DTEND;TZID=America/Sao_Paulo:20190809T190000
DTSTAMP:20260423T045637
CREATED:20190709T154341Z
LAST-MODIFIED:20190731T124614Z
UID:25470-1565370000-1565377200@www.ucsf.edu.ar
SUMMARY:Seminario: “Consumo Responsable y tradiciones religiosas: aliados para la sostenibilidad”
DESCRIPTION:  \nSeminario: “Consumo Responsable y tradiciones religiosas: aliados para la sostenibilidad” \nIng. Orellano\, Anabel Rocío \nFundamentación \nExiste amplio consenso en afirmar que la crisis ambiental global va más allá de la problemática ecológica (Bauman\, 2000; Berry\, 2000; Mies & Shiva\, 2014; Schumacher\, 1973). En última -o primer- instancia\, remite a una dimensión cultural subyacente que tiene que ver con la forma de pensar y de relacionarse con el mundo (Chandra\, 2016). Las características multidimensionales de esta crisis hacen necesaria la suma de  aliados en todos los frentes. La  Organización de las Naciones Unidas  en  su Agenda  2030  insta\,  entre  otros  objetivos\,  a  revertir  esta  crisis fomentando la  educación en el Consumo consciente  y  sostenible (ODS Nº12). \n  \nmás arriba a la derecha: Url del evento. \nSi querés conocer más sobre consumo sostenible\, visitá Claves del Consumo Sostenible
URL:https://www.ucsf.edu.ar/evento/seminario-consumo-responsable-y-tradiciones-religiosas-aliados-para-la-sostenibilidad/
LOCATION:UCSF Santa Fe\, Echagüe 7151\, Santa Fe\, Santa Fe\, Argentina
CATEGORIES:PUA, Programa Universidad Abierta,Santa Fe,Facultades,Ciencias de la Salud,Licenciatura en Bioimágenes,Rafaela,Licenciatura en Enfermería,Sedes,IEHDS Instituto de Ecología Humana y Desarrollo Sustentable,Institutos,IIFCS Instituto de Investigación de la Facultad de Ciencias de la Salud
GEO:-31.6069451;-60.6709418
X-APPLE-STRUCTURED-LOCATION;VALUE=URI;X-ADDRESS=UCSF Santa Fe Echagüe 7151 Santa Fe Santa Fe Argentina;X-APPLE-RADIUS=500;X-TITLE=Echagüe 7151:geo:-60.6709418,-31.6069451
END:VEVENT
BEGIN:VEVENT
DTSTART;TZID=America/Sao_Paulo:20190809T170000
DTEND;TZID=America/Sao_Paulo:20190809T190000
DTSTAMP:20260423T045637
CREATED:20190709T154341Z
LAST-MODIFIED:20190709T154341Z
UID:41524-1565370000-1565377200@www.ucsf.edu.ar
SUMMARY:Seminario: “Consumo Responsable y tradiciones religiosas: aliados para la sostenibilidad”
DESCRIPTION:  \nSeminario: “Consumo Responsable y tradiciones religiosas: aliados para la sostenibilidad” \nIng. Orellano\, Anabel Rocío \nFundamentación \nExiste amplio consenso en afirmar que la crisis ambiental global va más allá de la problemática ecológica (Bauman\, 2000; Berry\, 2000; Mies & Shiva\, 2014; Schumacher\, 1973). En última -o primer- instancia\, remite a una dimensión cultural subyacente que tiene que ver con la forma de pensar y de relacionarse con el mundo (Chandra\, 2016). Las características multidimensionales de esta crisis hacen necesaria la suma de  aliados en todos los frentes. La  Organización de las Naciones Unidas  en  su Agenda  2030  insta\,  entre  otros  objetivos\,  a  revertir  esta  crisis fomentando la  educación en el Consumo consciente  y  sostenible (ODS Nº12). \n  \nmás arriba a la derecha: Url del evento. \nSi querés conocer más sobre consumo sostenible\, visitá Claves del Consumo Sostenible
URL:https://www.ucsf.edu.ar/evento/seminario-consumo-responsable-y-tradiciones-religiosas-aliados-para-la-sostenibilidad-2/
LOCATION:UCSF Santa Fe\, Echagüe 7151\, Santa Fe\, Santa Fe\, Argentina
CATEGORIES:PUA, Programa Universidad Abierta,Santa Fe,Facultades,Ciencias de la Salud,Licenciatura en Bioimágenes,Rafaela,Licenciatura en Enfermería,Sedes,IEHDS Instituto de Ecología Humana y Desarrollo Sustentable,Institutos,IIFCS Instituto de Investigación de la Facultad de Ciencias de la Salud
GEO:-31.6069451;-60.6709418
X-APPLE-STRUCTURED-LOCATION;VALUE=URI;X-ADDRESS=UCSF Santa Fe Echagüe 7151 Santa Fe Santa Fe Argentina;X-APPLE-RADIUS=500;X-TITLE=Echagüe 7151:geo:-60.6709418,-31.6069451
END:VEVENT
END:VCALENDAR