BEGIN:VCALENDAR
VERSION:2.0
PRODID:-//UCSF - Universidad Católica de Santa Fe - ECPv5.14.2.1//NONSGML v1.0//EN
CALSCALE:GREGORIAN
METHOD:PUBLISH
X-WR-CALNAME:UCSF - Universidad Católica de Santa Fe
X-ORIGINAL-URL:https://www.ucsf.edu.ar
X-WR-CALDESC:Events for UCSF - Universidad Católica de Santa Fe
REFRESH-INTERVAL;VALUE=DURATION:PT1H
X-Robots-Tag:noindex
X-PUBLISHED-TTL:PT1H
BEGIN:VTIMEZONE
TZID:America/Sao_Paulo
BEGIN:STANDARD
TZOFFSETFROM:-0200
TZOFFSETTO:-0300
TZNAME:-03
DTSTART:20190217T020000
END:STANDARD
END:VTIMEZONE
BEGIN:VEVENT
DTSTART;TZID=America/Sao_Paulo:20190810T090000
DTEND;TZID=America/Sao_Paulo:20190810T120000
DTSTAMP:20260423T050427
CREATED:20190713T211812Z
LAST-MODIFIED:20190713T211812Z
UID:25563-1565427600-1565438400@www.ucsf.edu.ar
SUMMARY:CURSO DE CAPACITACION Y PERFECCIONAMIENTO EN MAMOGRAFIA
DESCRIPTION:  \nDirectora \nLic. Liliana Irazuegui. \nColaboradores:  \nDra. Fernanda Mondino \nLic. Andrea Romina Justet. \nDurante las dos últimas décadas\, los Servicios de Diagnóstico por Imágenes\, alrededor del mundo han realizado cambios significativos en sus aplicaciones ya que van de la mano en el camino con los avances tecnológicos\, sus pasos agigantados dan lugar al cambio en el campo profesional dentro y fuera de la Imagenología. Por  lo que se reconoce la gran importancia adquirida en la salud con la interpretación de las imágenes de alta calidad que provienen de un acertado criterio de quienes la producen. \nPrograma: en el vinculo arriba a  la derecha: Url del evento.
URL:https://www.ucsf.edu.ar/evento/curso-de-capacitacion-y-perfeccionamiento-en-mamografia/
LOCATION:UCSF Santa Fe\, Echagüe 7151\, Santa Fe\, Santa Fe\, Argentina
CATEGORIES:Santa Fe,Facultades,Ciencias de la Salud,Carreras de Grado,Licenciatura en Bioimágenes,Rafaela,Sedes,Institutos
GEO:-31.6069451;-60.6709418
X-APPLE-STRUCTURED-LOCATION;VALUE=URI;X-ADDRESS=UCSF Santa Fe Echagüe 7151 Santa Fe Santa Fe Argentina;X-APPLE-RADIUS=500;X-TITLE=Echagüe 7151:geo:-60.6709418,-31.6069451
END:VEVENT
BEGIN:VEVENT
DTSTART;TZID=America/Sao_Paulo:20190810T090000
DTEND;TZID=America/Sao_Paulo:20190810T120000
DTSTAMP:20260423T050427
CREATED:20190713T211812Z
LAST-MODIFIED:20190713T211812Z
UID:41525-1565427600-1565438400@www.ucsf.edu.ar
SUMMARY:CURSO DE CAPACITACION Y PERFECCIONAMIENTO EN MAMOGRAFIA
DESCRIPTION:  \nDirectora \nLic. Liliana Irazuegui. \nColaboradores:  \nDra. Fernanda Mondino \nLic. Andrea Romina Justet. \nDurante las dos últimas décadas\, los Servicios de Diagnóstico por Imágenes\, alrededor del mundo han realizado cambios significativos en sus aplicaciones ya que van de la mano en el camino con los avances tecnológicos\, sus pasos agigantados dan lugar al cambio en el campo profesional dentro y fuera de la Imagenología. Por  lo que se reconoce la gran importancia adquirida en la salud con la interpretación de las imágenes de alta calidad que provienen de un acertado criterio de quienes la producen. \nPrograma: en el vinculo arriba a  la derecha: Url del evento.
URL:https://www.ucsf.edu.ar/evento/curso-de-capacitacion-y-perfeccionamiento-en-mamografia-2/
LOCATION:UCSF Santa Fe\, Echagüe 7151\, Santa Fe\, Santa Fe\, Argentina
CATEGORIES:Santa Fe,Facultades,Ciencias de la Salud,Carreras de Grado,Licenciatura en Bioimágenes,Rafaela,Sedes,Institutos
GEO:-31.6069451;-60.6709418
X-APPLE-STRUCTURED-LOCATION;VALUE=URI;X-ADDRESS=UCSF Santa Fe Echagüe 7151 Santa Fe Santa Fe Argentina;X-APPLE-RADIUS=500;X-TITLE=Echagüe 7151:geo:-60.6709418,-31.6069451
END:VEVENT
END:VCALENDAR