BEGIN:VCALENDAR
VERSION:2.0
PRODID:-//UCSF - Universidad Católica de Santa Fe - ECPv5.14.2.1//NONSGML v1.0//EN
CALSCALE:GREGORIAN
METHOD:PUBLISH
X-WR-CALNAME:UCSF - Universidad Católica de Santa Fe
X-ORIGINAL-URL:https://www.ucsf.edu.ar
X-WR-CALDESC:Events for UCSF - Universidad Católica de Santa Fe
REFRESH-INTERVAL;VALUE=DURATION:PT1H
X-Robots-Tag:noindex
X-PUBLISHED-TTL:PT1H
BEGIN:VTIMEZONE
TZID:America/Sao_Paulo
BEGIN:STANDARD
TZOFFSETFROM:-0200
TZOFFSETTO:-0300
TZNAME:-03
DTSTART:20190217T020000
END:STANDARD
END:VTIMEZONE
BEGIN:VEVENT
DTSTART;TZID=America/Sao_Paulo:20190822T080000
DTEND;TZID=America/Sao_Paulo:20190824T170000
DTSTAMP:20260423T050911
CREATED:20190130T153831Z
LAST-MODIFIED:20190206T172844Z
UID:20917-1566460800-1566666000@www.ucsf.edu.ar
SUMMARY:V Congreso Iberoamericano de Personalismo
DESCRIPTION:Se es persona desde el comienzo de la vida humana pero\, de algún modo\, también es necesario convertirse en persona a través de la formación\, la autorrealización y el conocimiento e internalización de los valores. \nEl presente Congreso quiere explorar cómo el personalismo entiende y propone estos itinerarios formativos\, constructivos y educativos tanto en sus grandes clásicos como en nuevas propuestas que apliquen el pensamiento personalista a los nuevos mecanismos personales y sociales de creación de identidad y a los nuevos modelos educativos. \nAdemás\, y de acuerdo con su praxis habitual\, el Congreso está abierto a toda investigación realizada en el marco del pensamiento personalista. \nConferencia Inaugural \nMauricio Beuchot (UNAM\, México)\, Personalismo analógico y formación de valores \nConferencia de clausura \nJuan Manuel Burgos (Universidad CEU-San Pablo\, España)\, Aplicaciones educativas de la experiencia integral \n 
URL:https://www.ucsf.edu.ar/evento/v-congreso-iberoamericano-de-personalismo/
LOCATION:UCSF Santa Fe\, Echagüe 7151\, Santa Fe\, Santa Fe\, Argentina
CATEGORIES:Home principal,Arquitectura y Diseño,Ciencias Agropecuarias,Santa Fe,Facultades,Rosario,Ciencias de la Salud,Posadas,Ciencias Económicas,Derecho y Ciencia Política,Reconquista,Rafaela,Psicología,Vicerrectorado de Formación,Gualeguaychú,Sedes
GEO:-31.6069451;-60.6709418
X-APPLE-STRUCTURED-LOCATION;VALUE=URI;X-ADDRESS=UCSF Santa Fe Echagüe 7151 Santa Fe Santa Fe Argentina;X-APPLE-RADIUS=500;X-TITLE=Echagüe 7151:geo:-60.6709418,-31.6069451
END:VEVENT
BEGIN:VEVENT
DTSTART;TZID=America/Sao_Paulo:20190822T080000
DTEND;TZID=America/Sao_Paulo:20190824T170000
DTSTAMP:20260423T050911
CREATED:20190130T153831Z
LAST-MODIFIED:20190130T153831Z
UID:41468-1566460800-1566666000@www.ucsf.edu.ar
SUMMARY:V Congreso Iberoamericano de Personalismo
DESCRIPTION:Se es persona desde el comienzo de la vida humana pero\, de algún modo\, también es necesario convertirse en persona a través de la formación\, la autorrealización y el conocimiento e internalización de los valores. \nEl presente Congreso quiere explorar cómo el personalismo entiende y propone estos itinerarios formativos\, constructivos y educativos tanto en sus grandes clásicos como en nuevas propuestas que apliquen el pensamiento personalista a los nuevos mecanismos personales y sociales de creación de identidad y a los nuevos modelos educativos. \nAdemás\, y de acuerdo con su praxis habitual\, el Congreso está abierto a toda investigación realizada en el marco del pensamiento personalista. \nConferencia Inaugural \nMauricio Beuchot (UNAM\, México)\, Personalismo analógico y formación de valores \nConferencia de clausura \nJuan Manuel Burgos (Universidad CEU-San Pablo\, España)\, Aplicaciones educativas de la experiencia integral \n 
URL:https://www.ucsf.edu.ar/evento/v-congreso-iberoamericano-de-personalismo-2/
LOCATION:UCSF Santa Fe\, Echagüe 7151\, Santa Fe\, Santa Fe\, Argentina
CATEGORIES:Home principal,Arquitectura y Diseño,Ciencias Agropecuarias,Santa Fe,Facultades,Rosario,Ciencias de la Salud,Posadas,Ciencias Económicas,Reconquista,Rafaela,Psicología,Vicerrectorado de Formación,Gualeguaychú,Sedes
GEO:-31.6069451;-60.6709418
X-APPLE-STRUCTURED-LOCATION;VALUE=URI;X-ADDRESS=UCSF Santa Fe Echagüe 7151 Santa Fe Santa Fe Argentina;X-APPLE-RADIUS=500;X-TITLE=Echagüe 7151:geo:-60.6709418,-31.6069451
END:VEVENT
END:VCALENDAR