BEGIN:VCALENDAR
VERSION:2.0
PRODID:-//UCSF - Universidad Católica de Santa Fe - ECPv5.14.2.1//NONSGML v1.0//EN
CALSCALE:GREGORIAN
METHOD:PUBLISH
X-WR-CALNAME:UCSF - Universidad Católica de Santa Fe
X-ORIGINAL-URL:https://www.ucsf.edu.ar
X-WR-CALDESC:Events for UCSF - Universidad Católica de Santa Fe
REFRESH-INTERVAL;VALUE=DURATION:PT1H
X-Robots-Tag:noindex
X-PUBLISHED-TTL:PT1H
BEGIN:VTIMEZONE
TZID:America/Argentina/Buenos_Aires
BEGIN:STANDARD
TZOFFSETFROM:-0300
TZOFFSETTO:-0300
TZNAME:-03
DTSTART:20190101T000000
END:STANDARD
END:VTIMEZONE
BEGIN:VEVENT
DTSTART;TZID=America/Argentina/Buenos_Aires:20190923T150000
DTEND;TZID=America/Argentina/Buenos_Aires:20190923T163000
DTSTAMP:20260423T015047
CREATED:20190918T145051Z
LAST-MODIFIED:20190919T180036Z
UID:27632-1569250800-1569256200@www.ucsf.edu.ar
SUMMARY:En el 2020: Estudia Obstetricia en Rosario! Clase abierta. Te esperamos.
DESCRIPTION: 
URL:https://www.ucsf.edu.ar/evento/estudia-obstetricia-en-rosario/
LOCATION:UCSF Sede Rosario\, Moreno 1056\, Rosario\, Santa Fe\, 2000\, Argentina
CATEGORIES:Facultades,Ciencias de la Salud,Carreras de Grado,Licenciatura en Obstetricia
GEO:-32.9491666;-60.6519119
X-APPLE-STRUCTURED-LOCATION;VALUE=URI;X-ADDRESS=UCSF Sede Rosario Moreno 1056 Rosario Santa Fe 2000 Argentina;X-APPLE-RADIUS=500;X-TITLE=Moreno 1056:geo:-60.6519119,-32.9491666
END:VEVENT
BEGIN:VEVENT
DTSTART;TZID=America/Argentina/Buenos_Aires:20190923T150000
DTEND;TZID=America/Argentina/Buenos_Aires:20190923T163000
DTSTAMP:20260423T015047
CREATED:20190918T145051Z
LAST-MODIFIED:20190918T145051Z
UID:41540-1569250800-1569256200@www.ucsf.edu.ar
SUMMARY:En el 2020: Estudia Obstetricia en Rosario! Clase abierta. Te esperamos.
DESCRIPTION: 
URL:https://www.ucsf.edu.ar/evento/estudia-obstetricia-en-rosario-2/
LOCATION:UCSF Sede Rosario\, Moreno 1056\, Rosario\, Santa Fe\, 2000\, Argentina
CATEGORIES:Facultades,Ciencias de la Salud,Carreras de Grado,Licenciatura en Obstetricia
GEO:-32.9491666;-60.6519119
X-APPLE-STRUCTURED-LOCATION;VALUE=URI;X-ADDRESS=UCSF Sede Rosario Moreno 1056 Rosario Santa Fe 2000 Argentina;X-APPLE-RADIUS=500;X-TITLE=Moreno 1056:geo:-60.6519119,-32.9491666
END:VEVENT
END:VCALENDAR