BEGIN:VCALENDAR
VERSION:2.0
PRODID:-//UCSF - Universidad Católica de Santa Fe - ECPv5.14.2.1//NONSGML v1.0//EN
CALSCALE:GREGORIAN
METHOD:PUBLISH
X-WR-CALNAME:UCSF - Universidad Católica de Santa Fe
X-ORIGINAL-URL:https://www.ucsf.edu.ar
X-WR-CALDESC:Events for UCSF - Universidad Católica de Santa Fe
REFRESH-INTERVAL;VALUE=DURATION:PT1H
X-Robots-Tag:noindex
X-PUBLISHED-TTL:PT1H
BEGIN:VTIMEZONE
TZID:America/Argentina/Buenos_Aires
BEGIN:STANDARD
TZOFFSETFROM:-0300
TZOFFSETTO:-0300
TZNAME:-03
DTSTART:20190101T000000
END:STANDARD
END:VTIMEZONE
BEGIN:VEVENT
DTSTART;TZID=America/Argentina/Buenos_Aires:20190925T180000
DTEND;TZID=America/Argentina/Buenos_Aires:20190925T180000
DTSTAMP:20260423T015100
CREATED:20190922T194327Z
LAST-MODIFIED:20190922T195149Z
UID:27772-1569434400-1569434400@www.ucsf.edu.ar
SUMMARY:Estudia Terapia Ocupacional en Santa Fe! Te esperamos!
DESCRIPTION:  \n \nTítulo:\nLicenciado en Terapia Ocupacional \nResolución Ministerial 4345-17 \nDuración:\n4 años y medio \nTítulos intermedios:\nAcompañante Terapéutico Ocupacional (3 años) \nSedes donde cursar:\nSanta Fe\nRafaela\nReconquista
URL:https://www.ucsf.edu.ar/evento/estudia-terapia-ocupacional-en-santa-fe-te-esperamos/
LOCATION:Santa Fe
CATEGORIES:Santa Fe,Facultades,Carreras de Grado,Ciencias de la Salud,Sedes,Licenciatura en Terapia Ocupacional
END:VEVENT
BEGIN:VEVENT
DTSTART;TZID=America/Argentina/Buenos_Aires:20190925T180000
DTEND;TZID=America/Argentina/Buenos_Aires:20190925T180000
DTSTAMP:20260423T015100
CREATED:20190922T194327Z
LAST-MODIFIED:20190922T194327Z
UID:41542-1569434400-1569434400@www.ucsf.edu.ar
SUMMARY:Estudia Terapia Ocupacional en Santa Fe! Te esperamos!
DESCRIPTION:  \n \nTítulo:\nLicenciado en Terapia Ocupacional \nResolución Ministerial 4345-17 \nDuración:\n4 años y medio \nTítulos intermedios:\nAcompañante Terapéutico Ocupacional (3 años) \nSedes donde cursar:\nSanta Fe\nRafaela\nReconquista
URL:https://www.ucsf.edu.ar/evento/estudia-terapia-ocupacional-en-santa-fe-te-esperamos-2/
LOCATION:Santa Fe
CATEGORIES:Santa Fe,Facultades,Carreras de Grado,Ciencias de la Salud,Sedes,Licenciatura en Terapia Ocupacional
END:VEVENT
END:VCALENDAR