BEGIN:VCALENDAR
VERSION:2.0
PRODID:-//UCSF - Universidad Católica de Santa Fe - ECPv5.14.2.1//NONSGML v1.0//EN
CALSCALE:GREGORIAN
METHOD:PUBLISH
X-WR-CALNAME:UCSF - Universidad Católica de Santa Fe
X-ORIGINAL-URL:https://www.ucsf.edu.ar
X-WR-CALDESC:Events for UCSF - Universidad Católica de Santa Fe
REFRESH-INTERVAL;VALUE=DURATION:PT1H
X-Robots-Tag:noindex
X-PUBLISHED-TTL:PT1H
BEGIN:VTIMEZONE
TZID:America/Argentina/Buenos_Aires
BEGIN:STANDARD
TZOFFSETFROM:-0300
TZOFFSETTO:-0300
TZNAME:-03
DTSTART:20190101T000000
END:STANDARD
END:VTIMEZONE
BEGIN:VEVENT
DTSTART;VALUE=DATE:20191008
DTEND;VALUE=DATE:20191011
DTSTAMP:20260423T015612
CREATED:20191004T181550Z
LAST-MODIFIED:20191004T181550Z
UID:28322-1570492800-1570751999@www.ucsf.edu.ar
SUMMARY:I Jornadas Internacionales de Educación Ambiental y espiritualidad ecológica
DESCRIPTION:Del 8 al 10 de Octubre de 2019\, se desarrollarán en las Ciudades de Posadas y  Encarnación las “Primeras Jornadas Internacionales de Educación Ambiental y Espiritualidad Ecológica”\, organizadas por la Facultad de Derecho y Ciencia Política de la UCSF\, a través de su Instituto de Derecho Ambiental\, Forestal y Federal Y la Red de Educación Ambiental de Encarnación. \nEl objetivo de las Jornadas es abordar la educación ambiental desde las orientaciones de espiritualidad contenidas en la Encíclica “Laudato Sí” del Papa Francisco y contarán con la presencia de Monseñor Lucio Adrián Ruiz\, Secretario del Dicasterio de la Comunicación de la Santa Sede.
URL:https://www.ucsf.edu.ar/evento/i-jornadas-internacionales-de-educacion-ambiental-y-espiritualidad-ecologica/
LOCATION:Santa Fe
ORGANIZER;CN="Facultad%20de%20Derecho%20y%20Ciencia%20Pol%C3%ADtica%20-%20Sede%20Posadas":MAILTO:posadas@ucsf.edu.ar
END:VEVENT
BEGIN:VEVENT
DTSTART;VALUE=DATE:20191008
DTEND;VALUE=DATE:20191011
DTSTAMP:20260423T015612
CREATED:20191004T181550Z
LAST-MODIFIED:20191004T181550Z
UID:41554-1570492800-1570751999@www.ucsf.edu.ar
SUMMARY:I Jornadas Internacionales de Educación Ambiental y espiritualidad ecológica
DESCRIPTION:Del 8 al 10 de Octubre de 2019\, se desarrollarán en las Ciudades de Posadas y  Encarnación las “Primeras Jornadas Internacionales de Educación Ambiental y Espiritualidad Ecológica”\, organizadas por la Facultad de Derecho y Ciencia Política de la UCSF\, a través de su Instituto de Derecho Ambiental\, Forestal y Federal Y la Red de Educación Ambiental de Encarnación. \nEl objetivo de las Jornadas es abordar la educación ambiental desde las orientaciones de espiritualidad contenidas en la Encíclica “Laudato Sí” del Papa Francisco y contarán con la presencia de Monseñor Lucio Adrián Ruiz\, Secretario del Dicasterio de la Comunicación de la Santa Sede.
URL:https://www.ucsf.edu.ar/evento/i-jornadas-internacionales-de-educacion-ambiental-y-espiritualidad-ecologica-2/
LOCATION:Santa Fe
ORGANIZER;CN="Facultad%20de%20Derecho%20y%20Ciencia%20Pol%C3%ADtica%20-%20Sede%20Posadas":MAILTO:posadas@ucsf.edu.ar
END:VEVENT
END:VCALENDAR