BEGIN:VCALENDAR
VERSION:2.0
PRODID:-//UCSF - Universidad Católica de Santa Fe - ECPv5.14.2.1//NONSGML v1.0//EN
CALSCALE:GREGORIAN
METHOD:PUBLISH
X-WR-CALNAME:UCSF - Universidad Católica de Santa Fe
X-ORIGINAL-URL:https://www.ucsf.edu.ar
X-WR-CALDESC:Events for UCSF - Universidad Católica de Santa Fe
REFRESH-INTERVAL;VALUE=DURATION:PT1H
X-Robots-Tag:noindex
X-PUBLISHED-TTL:PT1H
BEGIN:VTIMEZONE
TZID:America/Argentina/Buenos_Aires
BEGIN:STANDARD
TZOFFSETFROM:-0300
TZOFFSETTO:-0300
TZNAME:-03
DTSTART:20190101T000000
END:STANDARD
END:VTIMEZONE
BEGIN:VEVENT
DTSTART;TZID=America/Argentina/Buenos_Aires:20191017T190000
DTEND;TZID=America/Argentina/Buenos_Aires:20191017T203000
DTSTAMP:20260423T002049
CREATED:20191007T203518Z
LAST-MODIFIED:20191007T212101Z
UID:28393-1571338800-1571344200@www.ucsf.edu.ar
SUMMARY:Familias y empresas aliadas construyendo una sociedad más equitativa
DESCRIPTION:“Lo que se está haciendo y todavía se puede hacer para equilibrar el tiempo del trabajo con el tiempo para la familia.”\nDisertación a cargo de la Dra. Paola Del Bosco.\nActividad organizada por la Bolsa de Comercio de Santa Fe y el Instituto para el Matrimonio y la Familia de la Universidad Católica de Santa Fe.\nEntrada libre. Cupos limitados.
URL:https://www.ucsf.edu.ar/evento/familias-y-empresas-aliadas-construyendo-una-sociedad-mas-equitativa/
LOCATION:Santa Fe
CATEGORIES:Santa Fe,Rafaela,Sedes,IMF Instituto para el Matrimonio y la Familia
END:VEVENT
BEGIN:VEVENT
DTSTART;TZID=America/Argentina/Buenos_Aires:20191017T190000
DTEND;TZID=America/Argentina/Buenos_Aires:20191017T203000
DTSTAMP:20260423T002049
CREATED:20191007T203518Z
LAST-MODIFIED:20191007T203518Z
UID:41557-1571338800-1571344200@www.ucsf.edu.ar
SUMMARY:Familias y empresas aliadas construyendo una sociedad más equitativa
DESCRIPTION:“Lo que se está haciendo y todavía se puede hacer para equilibrar el tiempo del trabajo con el tiempo para la familia.”\nDisertación a cargo de la Dra. Paola Del Bosco.\nActividad organizada por la Bolsa de Comercio de Santa Fe y el Instituto para el Matrimonio y la Familia de la Universidad Católica de Santa Fe.\nEntrada libre. Cupos limitados.
URL:https://www.ucsf.edu.ar/evento/familias-y-empresas-aliadas-construyendo-una-sociedad-mas-equitativa-2/
LOCATION:Santa Fe
CATEGORIES:Santa Fe,Rafaela,Sedes,IMF Instituto para el Matrimonio y la Familia
END:VEVENT
END:VCALENDAR