BEGIN:VCALENDAR
VERSION:2.0
PRODID:-//UCSF - Universidad Católica de Santa Fe - ECPv5.14.2.1//NONSGML v1.0//EN
CALSCALE:GREGORIAN
METHOD:PUBLISH
X-WR-CALNAME:UCSF - Universidad Católica de Santa Fe
X-ORIGINAL-URL:https://www.ucsf.edu.ar
X-WR-CALDESC:Events for UCSF - Universidad Católica de Santa Fe
REFRESH-INTERVAL;VALUE=DURATION:PT1H
X-Robots-Tag:noindex
X-PUBLISHED-TTL:PT1H
BEGIN:VTIMEZONE
TZID:America/Argentina/Buenos_Aires
BEGIN:STANDARD
TZOFFSETFROM:-0300
TZOFFSETTO:-0300
TZNAME:-03
DTSTART:20200101T000000
END:STANDARD
END:VTIMEZONE
BEGIN:VEVENT
DTSTART;TZID=America/Argentina/Buenos_Aires:20200803T190000
DTEND;TZID=America/Argentina/Buenos_Aires:20200803T200000
DTSTAMP:20260422T065714
CREATED:20200726T234136Z
LAST-MODIFIED:20200726T234321Z
UID:36580-1596481200-1596484800@www.ucsf.edu.ar
SUMMARY:Ciclo Virtual sobre Psicomotricidad.
DESCRIPTION:“FORMACIÓN CORPORAL DE PSICOMOTRICISTAS Y ABORDAJE PSICOMOTOR DE ADULTOS. \nALEJANDRA PAPANDREA \nmás información: \nCiclo Virtual sobre Psicomotricidad
URL:https://www.ucsf.edu.ar/evento/ciclo-virtual-sobre-psicomotricidad/
LOCATION:Santa Fe
CATEGORIES:Santa Fe,Facultades,Carreras de Grado,Rosario,Ciencias de la Salud,Posadas,Reconquista,Rafaela,Gualeguaychú,Sedes,Licenciatura en Terapia Ocupacional
END:VEVENT
BEGIN:VEVENT
DTSTART;TZID=America/Argentina/Buenos_Aires:20200803T190000
DTEND;TZID=America/Argentina/Buenos_Aires:20200803T200000
DTSTAMP:20260422T065714
CREATED:20200726T234136Z
LAST-MODIFIED:20200726T234136Z
UID:41586-1596481200-1596484800@www.ucsf.edu.ar
SUMMARY:Ciclo Virtual sobre Psicomotricidad.
DESCRIPTION:“FORMACIÓN CORPORAL DE PSICOMOTRICISTAS Y ABORDAJE PSICOMOTOR DE ADULTOS. \nALEJANDRA PAPANDREA \nmás información: \nCiclo Virtual sobre Psicomotricidad
URL:https://www.ucsf.edu.ar/evento/ciclo-virtual-sobre-psicomotricidad-5/
LOCATION:Santa Fe
CATEGORIES:Santa Fe,Facultades,Carreras de Grado,Rosario,Ciencias de la Salud,Posadas,Reconquista,Rafaela,Gualeguaychú,Sedes,Licenciatura en Terapia Ocupacional
END:VEVENT
END:VCALENDAR