BEGIN:VCALENDAR
VERSION:2.0
PRODID:-//UCSF - Universidad Católica de Santa Fe - ECPv5.14.2.1//NONSGML v1.0//EN
CALSCALE:GREGORIAN
METHOD:PUBLISH
X-WR-CALNAME:UCSF - Universidad Católica de Santa Fe
X-ORIGINAL-URL:https://www.ucsf.edu.ar
X-WR-CALDESC:Events for UCSF - Universidad Católica de Santa Fe
REFRESH-INTERVAL;VALUE=DURATION:PT1H
X-Robots-Tag:noindex
X-PUBLISHED-TTL:PT1H
BEGIN:VTIMEZONE
TZID:America/Argentina/Buenos_Aires
BEGIN:STANDARD
TZOFFSETFROM:-0300
TZOFFSETTO:-0300
TZNAME:-03
DTSTART:20200101T000000
END:STANDARD
END:VTIMEZONE
BEGIN:VEVENT
DTSTART;TZID=America/Argentina/Buenos_Aires:20200818T190000
DTEND;TZID=America/Argentina/Buenos_Aires:20200818T200000
DTSTAMP:20260422T065718
CREATED:20200727T000006Z
LAST-MODIFIED:20200810T225058Z
UID:36593-1597777200-1597780800@www.ucsf.edu.ar
SUMMARY:Ciclo Virtual sobre Psicomotricidad.
DESCRIPTION:Seminario de Psicomotricidad. \nTemática: \n\nPorque y para que ofrecer un taller de psicomotricidad?\nComo abrir la convocatoria? Por donde empezar?\nComo armar el dispositivo de trabajo grupal?\nQue se necesita y como gestionarlo?\n\nEl deseo e intereses propios como impulso. \nMargarita Dominguez \nmas información \nhttps://www.ucsf.edu.ar/ciclo-virtual-sobre-psicomotricidad/ \n 
URL:https://www.ucsf.edu.ar/evento/36593/
LOCATION:Untitled\, Santa Fe\, Argentina
CATEGORIES:Santa Fe,Facultades,Rosario,Ciencias de la Salud,Carreras de Grado,Posadas,Reconquista,Rafaela,Gualeguaychú,Sedes,Licenciatura en Kinesiología y Fisioterapia
END:VEVENT
BEGIN:VEVENT
DTSTART;TZID=America/Argentina/Buenos_Aires:20200818T190000
DTEND;TZID=America/Argentina/Buenos_Aires:20200818T200000
DTSTAMP:20260422T065718
CREATED:20200727T000006Z
LAST-MODIFIED:20200727T000006Z
UID:41589-1597777200-1597780800@www.ucsf.edu.ar
SUMMARY:Ciclo Virtual sobre Psicomotricidad.
DESCRIPTION:Seminario de Psicomotricidad. \nTemática: \n\nPorque y para que ofrecer un taller de psicomotricidad?\nComo abrir la convocatoria? Por donde empezar?\nComo armar el dispositivo de trabajo grupal?\nQue se necesita y como gestionarlo?\n\nEl deseo e intereses propios como impulso. \nMargarita Dominguez \nmas información \nhttps://www.ucsf.edu.ar/ciclo-virtual-sobre-psicomotricidad/ \n 
URL:https://www.ucsf.edu.ar/evento/36593-2/
LOCATION:Untitled\, Santa Fe\, Argentina
CATEGORIES:Santa Fe,Facultades,Rosario,Ciencias de la Salud,Carreras de Grado,Posadas,Reconquista,Rafaela,Gualeguaychú,Sedes,Licenciatura en Kinesiología y Fisioterapia
END:VEVENT
END:VCALENDAR