BEGIN:VCALENDAR
VERSION:2.0
PRODID:-//UCSF - Universidad Católica de Santa Fe - ECPv5.14.2.1//NONSGML v1.0//EN
CALSCALE:GREGORIAN
METHOD:PUBLISH
X-WR-CALNAME:UCSF - Universidad Católica de Santa Fe
X-ORIGINAL-URL:https://www.ucsf.edu.ar
X-WR-CALDESC:Events for UCSF - Universidad Católica de Santa Fe
REFRESH-INTERVAL;VALUE=DURATION:PT1H
X-Robots-Tag:noindex
X-PUBLISHED-TTL:PT1H
BEGIN:VTIMEZONE
TZID:America/Argentina/Buenos_Aires
BEGIN:STANDARD
TZOFFSETFROM:-0300
TZOFFSETTO:-0300
TZNAME:-03
DTSTART:20200101T000000
END:STANDARD
END:VTIMEZONE
BEGIN:VEVENT
DTSTART;TZID=America/Argentina/Buenos_Aires:20200909T190000
DTEND;TZID=America/Argentina/Buenos_Aires:20201105T190000
DTSTAMP:20260422T023320
CREATED:20200903T204626Z
LAST-MODIFIED:20210301T194305Z
UID:37377-1599678000-1604602800@www.ucsf.edu.ar
SUMMARY:Ciclo de encuentros sobre Derechos Humanos
DESCRIPTION:  \nEl próximo miércoles 9 de septiembre a las 19 horas se dará inicio al Ciclo de Encuentros sobre Derechos Humanos. En el primer encuentro\, la Dra. Guadalupe Martino\, dará una conferencia titulada “Economía y Derechos Humanos: aportes desde la economía de Francisco”. El enlace de acceso a la conferencia puede solicitarse al siguiente correo electrónico: abonet@ucsf.edu.ar \nEste ciclo busca generar un espacio de diálogo y debate entre académicos de diferentes universidades y se enmarca en la Cátedra Abierta sobre Derechos Humanos\, surgida a partir del proyecto denominado “Derechos humanos y Economía. Relaciones y tensiones entre los derechos sociales y ambientales y el orden jurídico-económico transnacional” de la UCSF. \nEsta cátedra surge ante la necesidad de encontrar un espacio donde canalizar los resultados y avances de las investigaciones\, pero\, además\, como un ámbito propicio para estrechar y consolidar lazos personales e institucionales. Será un espacio que permita desarrollar acciones que promuevan el intercambio de perspectivas y miradas con actores de otros sectores\, además del estrictamente académico: la política\, la economía\, la práctica jurídica\, etc. Es así como una propuesta que surge de un ámbito académico – en este caso\, de la UCSF -\, procura articular saberes\, tanto con impacto eco-social como en relación con los Derechos Humanos. \nA su vez\, la Cátedra busca consolidar una red de cooperación académica entre académicos locales y extranjeros\, con los cuales se comparte una perspectiva crítico-reflexiva de los Derechos Humanos y un horizonte común de justicia eco-social. \nEste tipo de iniciativas promueven la investigación y la internacionalización de la educación superior\, entendidas ambas como funciones esenciales en toda universidad\, más aún si se trata de cuestiones que fomentan el diálogo entre disciplinas y actores esenciales con miras a la cooperación internacional al desarrollo. \nDescargar folleto \nDetalle de los encuentros: \n\n9/9/2020\, 19 hs. “Economía y Derechos Humanos. Aportes desde la Economía de Francisco” – Dra. Guadalupe Martino – Argentina\n11/9/2020\, 15 hs.- “Derechos Humanos y Pueblos andinos” – Dr. Alex Valle Franco\, IAEN – Ecuador.\n8/10/2020\, 14 hs. “OMC\, Covid y Derechos humanos” – Dra. Marlene Pinheiro\, Facultade Ari de Sa – Brasil\n29/10 – “Migraciones y Derechos Humanos” – Dr. Alex Valle Franco\, IAEN – Ecuador\n5/11 – 14 hs. “Litigio de interés público” – Mg. María Cristina Alé – Universität Erlangen-Nüremberg\, Alemania
URL:https://www.ucsf.edu.ar/evento/ciclo-de-encuentros-sobre-derechos-humanos/
LOCATION:Santa Fe
CATEGORIES:Home principal,Santa Fe,Facultades,Posadas,Reconquista,Derecho y Ciencia Política,IDAFFE Instituto de Derecho Ambiental, Forestal y Federal ,IDL Instituto de Derecho Laboral,IDPI Instituto de Derecho Público y de la Investigación,Sedes,IDPRI Instituto de Derecho Privado,Internacional,IDPRO Instituto de Derecho Procesal,IDSI Instituto de Doctrina Social de la Iglesia,Institutos
ATTACH;FMTTYPE=image/jpeg:https://www.ucsf.edu.ar/wp-content/uploads/2020/12/IMG_0432.jpg
END:VEVENT
BEGIN:VEVENT
DTSTART;TZID=America/Argentina/Buenos_Aires:20200909T190000
DTEND;TZID=America/Argentina/Buenos_Aires:20201105T190000
DTSTAMP:20260422T023320
CREATED:20200903T204626Z
LAST-MODIFIED:20200903T204626Z
UID:41604-1599678000-1604602800@www.ucsf.edu.ar
SUMMARY:Ciclo de encuentros sobre Derechos Humanos
DESCRIPTION:  \nEl próximo miércoles 9 de septiembre a las 19 horas se dará inicio al Ciclo de Encuentros sobre Derechos Humanos. En el primer encuentro\, la Dra. Guadalupe Martino\, dará una conferencia titulada “Economía y Derechos Humanos: aportes desde la economía de Francisco”. El enlace de acceso a la conferencia puede solicitarse al siguiente correo electrónico: abonet@ucsf.edu.ar \nEste ciclo busca generar un espacio de diálogo y debate entre académicos de diferentes universidades y se enmarca en la Cátedra Abierta sobre Derechos Humanos\, surgida a partir del proyecto denominado “Derechos humanos y Economía. Relaciones y tensiones entre los derechos sociales y ambientales y el orden jurídico-económico transnacional” de la UCSF. \nEsta cátedra surge ante la necesidad de encontrar un espacio donde canalizar los resultados y avances de las investigaciones\, pero\, además\, como un ámbito propicio para estrechar y consolidar lazos personales e institucionales. Será un espacio que permita desarrollar acciones que promuevan el intercambio de perspectivas y miradas con actores de otros sectores\, además del estrictamente académico: la política\, la economía\, la práctica jurídica\, etc. Es así como una propuesta que surge de un ámbito académico – en este caso\, de la UCSF -\, procura articular saberes\, tanto con impacto eco-social como en relación con los Derechos Humanos. \nA su vez\, la Cátedra busca consolidar una red de cooperación académica entre académicos locales y extranjeros\, con los cuales se comparte una perspectiva crítico-reflexiva de los Derechos Humanos y un horizonte común de justicia eco-social. \nEste tipo de iniciativas promueven la investigación y la internacionalización de la educación superior\, entendidas ambas como funciones esenciales en toda universidad\, más aún si se trata de cuestiones que fomentan el diálogo entre disciplinas y actores esenciales con miras a la cooperación internacional al desarrollo. \nDescargar folleto \nDetalle de los encuentros: \n\n9/9/2020\, 19 hs. “Economía y Derechos Humanos. Aportes desde la Economía de Francisco” – Dra. Guadalupe Martino – Argentina\n11/9/2020\, 15 hs.- “Derechos Humanos y Pueblos andinos” – Dr. Alex Valle Franco\, IAEN – Ecuador.\n8/10/2020\, 14 hs. “OMC\, Covid y Derechos humanos” – Dra. Marlene Pinheiro\, Facultade Ari de Sa – Brasil\n29/10 – “Migraciones y Derechos Humanos” – Dr. Alex Valle Franco\, IAEN – Ecuador\n5/11 – 14 hs. “Litigio de interés público” – Mg. María Cristina Alé – Universität Erlangen-Nüremberg\, Alemania
URL:https://www.ucsf.edu.ar/evento/ciclo-de-encuentros-sobre-derechos-humanos-2/
LOCATION:Santa Fe
CATEGORIES:Home principal,Santa Fe,Facultades,Posadas,Reconquista,Derecho y Ciencia Política,IDAFFE Instituto de Derecho Ambiental, Forestal y Federal ,IDL Instituto de Derecho Laboral,IDPI Instituto de Derecho Público y de la Investigación,Sedes,IDPRI Instituto de Derecho Privado,Internacional,IDPRO Instituto de Derecho Procesal,IDSI Instituto de Doctrina Social de la Iglesia,Institutos
END:VEVENT
BEGIN:VEVENT
DTSTART;TZID=America/Argentina/Buenos_Aires:20201030T160000
DTEND;TZID=America/Argentina/Buenos_Aires:20201030T180000
DTSTAMP:20260422T023320
CREATED:20201025T141323Z
LAST-MODIFIED:20201026T204159Z
UID:38505-1604073600-1604080800@www.ucsf.edu.ar
SUMMARY:Conferencia de cierre de las jornadas virtuales sobre Derechos de las personas con discapacidad.
DESCRIPTION:El viernes 25 de septiembre dimos inicio a las jornadas virtuales sobre Derechos de las Personas con Discapacidad. \nEn esta ocasión\, la Mgter. Renata Anahí Bregaglio Lazarte\, dará la conferencia de cierre: “Miradas comparadas sobre la Discapacidad”. \nLa disertante es Magíster en Derechos Humanos por la Pontificia Universidad Católica del Perú y Magíster en Derechos Fundamentales por la Universidad Carlos III de Madrid\, España. \nDamos de este modo\, el cierre a este ciclo virtual\, a partir del cual la Facultad de Ciencias de la Salud conjuntamente con el área de Cooperación Internacional\, ha generado un espacio de diálogo y debate interdisciplinario sobre una temática insoslayable en el mundo académico y en el medio que lo rodea. \nSe trata de una actividad no arancelada con inscripción previa aquí \nMás información: internacional@ucsf.edu.ar
URL:https://www.ucsf.edu.ar/evento/conferencia-de-cierre-de-las-jornadas-virtuales-sobre-derechos-de-las-personas-con-discapacidad/
LOCATION:Santa Fe
CATEGORIES:Internacional
END:VEVENT
BEGIN:VEVENT
DTSTART;TZID=America/Argentina/Buenos_Aires:20201030T160000
DTEND;TZID=America/Argentina/Buenos_Aires:20201030T180000
DTSTAMP:20260422T023320
CREATED:20201025T141323Z
LAST-MODIFIED:20201025T141323Z
UID:41638-1604073600-1604080800@www.ucsf.edu.ar
SUMMARY:Conferencia de cierre de las jornadas virtuales sobre Derechos de las personas con discapacidad.
DESCRIPTION:El viernes 25 de septiembre dimos inicio a las jornadas virtuales sobre Derechos de las Personas con Discapacidad. \nEn esta ocasión\, la Mgter. Renata Anahí Bregaglio Lazarte\, dará la conferencia de cierre: “Miradas comparadas sobre la Discapacidad”. \nLa disertante es Magíster en Derechos Humanos por la Pontificia Universidad Católica del Perú y Magíster en Derechos Fundamentales por la Universidad Carlos III de Madrid\, España. \nDamos de este modo\, el cierre a este ciclo virtual\, a partir del cual la Facultad de Ciencias de la Salud conjuntamente con el área de Cooperación Internacional\, ha generado un espacio de diálogo y debate interdisciplinario sobre una temática insoslayable en el mundo académico y en el medio que lo rodea. \nSe trata de una actividad no arancelada con inscripción previa aquí \nMás información: internacional@ucsf.edu.ar
URL:https://www.ucsf.edu.ar/evento/conferencia-de-cierre-de-las-jornadas-virtuales-sobre-derechos-de-las-personas-con-discapacidad-2/
LOCATION:Santa Fe
CATEGORIES:Internacional
END:VEVENT
BEGIN:VEVENT
DTSTART;TZID=America/Argentina/Buenos_Aires:20201030T203000
DTEND;TZID=America/Argentina/Buenos_Aires:20201030T213000
DTSTAMP:20260422T023320
CREATED:20201010T230842Z
LAST-MODIFIED:20201012T130632Z
UID:38122-1604089800-1604093400@www.ucsf.edu.ar
SUMMARY:Universidad Abierta y Pastoral Social: Hacia un pacto social solidario e integral.
DESCRIPTION:Instituto de Doctrina Social de la Iglesia “Juan Pablo II” \n \nHacia un pacto social solidario e integral.\nInscripciones en linea aqui\n  \nTemario: \nMatías Vecino: tránsito histórico del concepto de propiedad privada.\nCarolina Barrios: el destino universal de los bienes como urgencia.\nEmiliano Fallilone: la cultura del encuentro como camino para un pacto social.\n\n\n\n\nCarolina Barrios. Abogada. Diplomada en DSI (CEDSI Juan Pablo II). Coordinadora del Equipo Arquidiocesano de Pastoral Social. Coordinadora de procesamiento del despacho\, Dirección General de Despacho\, Ministerio de Economía de la Provincia de Santa Fe.\n\n\nEmiliano Fallilone (1991) es Miembro de la Pastoral Social (Santa Fe). Profesor de Filosofía (ISFD “Pío X”\, Córdoba)\, Licenciado en Gestión de la Educación (UCSF\, Santa Fe) y Doctorando en Sentidos\, Teorías y Prácticas de la Educación (UNL\, Santa Fe). Docente\, investigador y escritor.\nMatías Vecino es sacerdote diocesano de Santa Fe\, estudió en el Seminario Ntra. Sra. de Guadalupe\, luego se licenció en Teología Moral en la Accademia Alfonsiana de Roma. Hoy ejerce el ministerio como párroco de San Cayetano y acompaña al Equipo Arquidiocesano de Pastoral Social.\n  \n  \n  \n  \n  \n  \n  \n  \n  \n  \n  \n  \n  \n \nUniversidad Abierta y Pastoral Social de Santa Fe\,  le está invitando a una reunión de Zoom programada. \nUnirse a la reunión Zoom\nhttps://zoom.us/j/93641563852?pwd=TVlEcjJQTVV0dkV3SzB2OUE3UGhwdz09 \nID de reunión: 936 4156 3852\nCódigo de acceso: 978812
URL:https://www.ucsf.edu.ar/evento/hacia-un-pacto-social-solidario-e-integral/
LOCATION:Santa Fe
CATEGORIES:Santa Fe,Facultades,Rosario,Posadas,Reconquista,Rafaela,Gualeguaychú,Sedes,IEHDS Instituto de Ecología Humana y Desarrollo Sustentable,Investigación
END:VEVENT
BEGIN:VEVENT
DTSTART;TZID=America/Argentina/Buenos_Aires:20201030T203000
DTEND;TZID=America/Argentina/Buenos_Aires:20201030T213000
DTSTAMP:20260422T023320
CREATED:20201010T230842Z
LAST-MODIFIED:20201010T230842Z
UID:41627-1604089800-1604093400@www.ucsf.edu.ar
SUMMARY:Universidad Abierta y Pastoral Social: Hacia un pacto social solidario e integral.
DESCRIPTION:Instituto de Doctrina Social de la Iglesia “Juan Pablo II” \n \nHacia un pacto social solidario e integral.\nInscripciones en linea aqui\n  \nTemario: \nMatías Vecino: tránsito histórico del concepto de propiedad privada.\nCarolina Barrios: el destino universal de los bienes como urgencia.\nEmiliano Fallilone: la cultura del encuentro como camino para un pacto social.\n\n\n\n\nCarolina Barrios. Abogada. Diplomada en DSI (CEDSI Juan Pablo II). Coordinadora del Equipo Arquidiocesano de Pastoral Social. Coordinadora de procesamiento del despacho\, Dirección General de Despacho\, Ministerio de Economía de la Provincia de Santa Fe.\n\n\nEmiliano Fallilone (1991) es Miembro de la Pastoral Social (Santa Fe). Profesor de Filosofía (ISFD “Pío X”\, Córdoba)\, Licenciado en Gestión de la Educación (UCSF\, Santa Fe) y Doctorando en Sentidos\, Teorías y Prácticas de la Educación (UNL\, Santa Fe). Docente\, investigador y escritor.\nMatías Vecino es sacerdote diocesano de Santa Fe\, estudió en el Seminario Ntra. Sra. de Guadalupe\, luego se licenció en Teología Moral en la Accademia Alfonsiana de Roma. Hoy ejerce el ministerio como párroco de San Cayetano y acompaña al Equipo Arquidiocesano de Pastoral Social.\n  \n  \n  \n  \n  \n  \n  \n  \n  \n  \n  \n  \n  \n \nUniversidad Abierta y Pastoral Social de Santa Fe\,  le está invitando a una reunión de Zoom programada. \nUnirse a la reunión Zoom\nhttps://zoom.us/j/93641563852?pwd=TVlEcjJQTVV0dkV3SzB2OUE3UGhwdz09 \nID de reunión: 936 4156 3852\nCódigo de acceso: 978812
URL:https://www.ucsf.edu.ar/evento/hacia-un-pacto-social-solidario-e-integral-2/
LOCATION:Untitled\, Santa Fe\, Argentina
CATEGORIES:Santa Fe,Facultades,Rosario,Posadas,Reconquista,Rafaela,Gualeguaychú,Sedes,IEHDS Instituto de Ecología Humana y Desarrollo Sustentable,Investigación
END:VEVENT
END:VCALENDAR