BEGIN:VCALENDAR
VERSION:2.0
PRODID:-//UCSF - Universidad Católica de Santa Fe - ECPv5.14.2.1//NONSGML v1.0//EN
CALSCALE:GREGORIAN
METHOD:PUBLISH
X-WR-CALNAME:UCSF - Universidad Católica de Santa Fe
X-ORIGINAL-URL:https://www.ucsf.edu.ar
X-WR-CALDESC:Events for UCSF - Universidad Católica de Santa Fe
REFRESH-INTERVAL;VALUE=DURATION:PT1H
X-Robots-Tag:noindex
X-PUBLISHED-TTL:PT1H
BEGIN:VTIMEZONE
TZID:America/Argentina/Buenos_Aires
BEGIN:STANDARD
TZOFFSETFROM:-0300
TZOFFSETTO:-0300
TZNAME:-03
DTSTART:20200101T000000
END:STANDARD
END:VTIMEZONE
BEGIN:VEVENT
DTSTART;TZID=America/Argentina/Buenos_Aires:20201106T080000
DTEND;TZID=America/Argentina/Buenos_Aires:20201106T170000
DTSTAMP:20260422T035808
CREATED:20201023T155505Z
LAST-MODIFIED:20201023T155644Z
UID:38459-1604649600-1604682000@www.ucsf.edu.ar
SUMMARY:“GEOINFORMACIÓN Y CATASTROS MULTIFINALITARIOS. Introducción al uso del SIG y sus alcances”
DESCRIPTION:SEMINARIOS A DISTANCIA 2020 \n“GEOINFORMACIÓN Y CATASTROS MULTIFINALITARIOS. Introducción al uso del SIG y sus alcances” \n  \nIngeniero Agrimensor Ramiro Alberdi \n6\, 13 y 20 de noviembre \nDuración: 20 horas \n  \nDESTINATARIOS \nGraduados universitarios en universidades argentinas\, estatales o privadas debidamente reconocidas\, con títulos correspondiente a una carrera de grado o graduados en universidades extranjeras reconocidas\, según las reglamentaciones vigentes. Los títulos aceptados son los de: Arquitecto\, Ingeniero\, Abogado\, Contador\, Economistas\, Licenciados en trabajo social o en Ciencia Políticas. \nOtros títulos serán aceptados cuando los postulantes acrediten una trayectoria y formación vinculada a la gestión del hábitat. \n  \nOBJETIVOS \nPresentar nociones esenciales de cartografía \nIntroducir en el manejo de los SIG orientado a la gestión de información multidisciplinar \nComprender las características y los alcances de los catastros multifinalitarios territoriales \nConocer formas de aplicación de los SIG a la gestión del territorio a pequeña y mediana escala \n  \nINSCRIPCIONES ABIERTAS HASTA EL 4 DE NOVIEMBRE \nenviando al correo coordinacion-egih@ucsf.edu.ar: DNI (ambas caras)\, \nTítulo (copia simple) y CV breve y formalizando el pago ingresando al \nenlace: https://pagos.ucsf.edu.ar/producto/gcm20/ \n  \nPara más información o consultas contactarse por correo electrónico a: \nmmmartinez@ucsf.edu.ar \n  \n  \n  \nARANCELES \nArancel General: $ 4.200 \nArancel Bonificado (Docentes y Egresados UCSF): $ 3.800 \n  \n  \nPARA DESCARGAR BLOCHURE HAGA CLICK AQUÍ \n 
URL:https://www.ucsf.edu.ar/evento/geoinformacion-y-catastros-multifinalitarios-introduccion-al-uso-del-sig-y-sus-alcances/
LOCATION:Santa Fe
CATEGORIES:Home principal,Santa Fe,Rosario,Posadas,Reconquista,Rafaela,Departamento de Posgrados,Gualeguaychú,Sedes
END:VEVENT
BEGIN:VEVENT
DTSTART;TZID=America/Argentina/Buenos_Aires:20201106T080000
DTEND;TZID=America/Argentina/Buenos_Aires:20201106T170000
DTSTAMP:20260422T035808
CREATED:20201023T155505Z
LAST-MODIFIED:20201023T155505Z
UID:41636-1604649600-1604682000@www.ucsf.edu.ar
SUMMARY:“GEOINFORMACIÓN Y CATASTROS MULTIFINALITARIOS. Introducción al uso del SIG y sus alcances”
DESCRIPTION:SEMINARIOS A DISTANCIA 2020 \n“GEOINFORMACIÓN Y CATASTROS MULTIFINALITARIOS. Introducción al uso del SIG y sus alcances” \n  \nIngeniero Agrimensor Ramiro Alberdi \n6\, 13 y 20 de noviembre \nDuración: 20 horas \n  \nDESTINATARIOS \nGraduados universitarios en universidades argentinas\, estatales o privadas debidamente reconocidas\, con títulos correspondiente a una carrera de grado o graduados en universidades extranjeras reconocidas\, según las reglamentaciones vigentes. Los títulos aceptados son los de: Arquitecto\, Ingeniero\, Abogado\, Contador\, Economistas\, Licenciados en trabajo social o en Ciencia Políticas. \nOtros títulos serán aceptados cuando los postulantes acrediten una trayectoria y formación vinculada a la gestión del hábitat. \n  \nOBJETIVOS \nPresentar nociones esenciales de cartografía \nIntroducir en el manejo de los SIG orientado a la gestión de información multidisciplinar \nComprender las características y los alcances de los catastros multifinalitarios territoriales \nConocer formas de aplicación de los SIG a la gestión del territorio a pequeña y mediana escala \n  \nINSCRIPCIONES ABIERTAS HASTA EL 4 DE NOVIEMBRE \nenviando al correo coordinacion-egih@ucsf.edu.ar: DNI (ambas caras)\, \nTítulo (copia simple) y CV breve y formalizando el pago ingresando al \nenlace: https://pagos.ucsf.edu.ar/producto/gcm20/ \n  \nPara más información o consultas contactarse por correo electrónico a: \nmmmartinez@ucsf.edu.ar \n  \n  \n  \nARANCELES \nArancel General: $ 4.200 \nArancel Bonificado (Docentes y Egresados UCSF): $ 3.800 \n  \n  \nPARA DESCARGAR BLOCHURE HAGA CLICK AQUÍ \n 
URL:https://www.ucsf.edu.ar/evento/geoinformacion-y-catastros-multifinalitarios-introduccion-al-uso-del-sig-y-sus-alcances-2/
LOCATION:Santa Fe
CATEGORIES:Home principal,Santa Fe,Rosario,Posadas,Reconquista,Rafaela,Departamento de Posgrados,Gualeguaychú,Sedes
END:VEVENT
END:VCALENDAR