BEGIN:VCALENDAR
VERSION:2.0
PRODID:-//UCSF - Universidad Católica de Santa Fe - ECPv5.14.2.1//NONSGML v1.0//EN
CALSCALE:GREGORIAN
METHOD:PUBLISH
X-WR-CALNAME:UCSF - Universidad Católica de Santa Fe
X-ORIGINAL-URL:https://www.ucsf.edu.ar
X-WR-CALDESC:Events for UCSF - Universidad Católica de Santa Fe
REFRESH-INTERVAL;VALUE=DURATION:PT1H
X-Robots-Tag:noindex
X-PUBLISHED-TTL:PT1H
BEGIN:VTIMEZONE
TZID:America/Argentina/Buenos_Aires
BEGIN:STANDARD
TZOFFSETFROM:-0300
TZOFFSETTO:-0300
TZNAME:-03
DTSTART:20200101T000000
END:STANDARD
END:VTIMEZONE
BEGIN:VEVENT
DTSTART;TZID=America/Argentina/Buenos_Aires:20201110T110000
DTEND;TZID=America/Argentina/Buenos_Aires:20201110T120000
DTSTAMP:20260422T035815
CREATED:20201109T122931Z
LAST-MODIFIED:20201109T125126Z
UID:38797-1605006000-1605009600@www.ucsf.edu.ar
SUMMARY:Las UCSF con la OPS: Covid y su efecto sobre la seguridad alimentaria...
DESCRIPTION:QUÉ: COVID-19 y su efecto sobre la seguridad alimentaria y nutricional \nCUÁNDO: 10 de noviembre del 2020. 11:00 h to 12:00 h (Argentina) \nCÓMO:    Para unirse al seminario web\, debe usar el siguiente enlace: \nhttps://paho.webex.com/paho/k2/j.php?MTID=t4da6662921882f54894ceb4c5e6da30f \nNúmero de sesión 649 119 454 \nAGENDA\n11.00 – 11.05                   Bienvenida y presentación de panelistas Lcda. Annella Auer \nCoordinadora\, Programa de Líderes en Salud Internacional Edmundo Granda Ugalde (PLSI)\, Organización Panamericana de la Salud OPS/OMS \n11.05 – 11.20                   Aproximación a los impactos alimentarios nutricionales en tiempos “con-COVID-19” desde la salud internacional \nM.Sc. Maria Celeste Nessier \nCoordinadora de la Licenciatura en Nutrición Universidad Católica de Santa Fe\, Argentina \n11.20 – 11.35                   Resiliencia de la seguridad alimentaria y nutricional y el desarrollo en la Región Centroamericana: el impacto y abordaje ante la pandemia de la COVID-19 \nDra. Patricia Palma de Fulladolsa \nDirectora de Programas Regionales de Seguridad Alimentaria y Nutricional Secretaria General\, Sistema de la Integración Centroamericana (SICA) \n11.35 – 12.00                 Discusión \n  \n  \n  \nINFORMACIÓN DE CONTACTO\nLcda. Annella Auer (aueranne@paho.org) \n 
URL:https://www.ucsf.edu.ar/evento/las-ucsf-con-la-ops-covid-u-su-efecto-sobre-la-seguridad-alimentaria/
LOCATION:Santa Fe
CATEGORIES:Santa Fe,Facultades,Rosario,Ciencias de la Salud,Carreras de Grado,Posadas,Reconquista,Rafaela,Gualeguaychú,Sedes,IEHDS Instituto de Ecología Humana y Desarrollo Sustentable,Institutos,IIFCS Instituto de Investigación de la Facultad de Ciencias de la Salud
END:VEVENT
BEGIN:VEVENT
DTSTART;TZID=America/Argentina/Buenos_Aires:20201110T110000
DTEND;TZID=America/Argentina/Buenos_Aires:20201110T120000
DTSTAMP:20260422T035815
CREATED:20201109T122931Z
LAST-MODIFIED:20201109T122931Z
UID:41644-1605006000-1605009600@www.ucsf.edu.ar
SUMMARY:Las UCSF con la OPS: Covid y su efecto sobre la seguridad alimentaria...
DESCRIPTION:QUÉ: COVID-19 y su efecto sobre la seguridad alimentaria y nutricional \nCUÁNDO: 10 de noviembre del 2020. 11:00 h to 12:00 h (Argentina) \nCÓMO:    Para unirse al seminario web\, debe usar el siguiente enlace: \nhttps://paho.webex.com/paho/k2/j.php?MTID=t4da6662921882f54894ceb4c5e6da30f \nNúmero de sesión 649 119 454 \nAGENDA\n11.00 – 11.05                   Bienvenida y presentación de panelistas Lcda. Annella Auer \nCoordinadora\, Programa de Líderes en Salud Internacional Edmundo Granda Ugalde (PLSI)\, Organización Panamericana de la Salud OPS/OMS \n11.05 – 11.20                   Aproximación a los impactos alimentarios nutricionales en tiempos “con-COVID-19” desde la salud internacional \nM.Sc. Maria Celeste Nessier \nCoordinadora de la Licenciatura en Nutrición Universidad Católica de Santa Fe\, Argentina \n11.20 – 11.35                   Resiliencia de la seguridad alimentaria y nutricional y el desarrollo en la Región Centroamericana: el impacto y abordaje ante la pandemia de la COVID-19 \nDra. Patricia Palma de Fulladolsa \nDirectora de Programas Regionales de Seguridad Alimentaria y Nutricional Secretaria General\, Sistema de la Integración Centroamericana (SICA) \n11.35 – 12.00                 Discusión \n  \n  \n  \nINFORMACIÓN DE CONTACTO\nLcda. Annella Auer (aueranne@paho.org) \n 
URL:https://www.ucsf.edu.ar/evento/las-ucsf-con-la-ops-covid-u-su-efecto-sobre-la-seguridad-alimentaria-2/
LOCATION:Untitled\, Santa Fe\, Argentina
CATEGORIES:Santa Fe,Facultades,Rosario,Ciencias de la Salud,Carreras de Grado,Posadas,Reconquista,Rafaela,Gualeguaychú,Sedes,IEHDS Instituto de Ecología Humana y Desarrollo Sustentable,Institutos,IIFCS Instituto de Investigación de la Facultad de Ciencias de la Salud
END:VEVENT
END:VCALENDAR