BEGIN:VCALENDAR
VERSION:2.0
PRODID:-//UCSF - Universidad Católica de Santa Fe - ECPv5.14.2.1//NONSGML v1.0//EN
CALSCALE:GREGORIAN
METHOD:PUBLISH
X-WR-CALNAME:UCSF - Universidad Católica de Santa Fe
X-ORIGINAL-URL:https://www.ucsf.edu.ar
X-WR-CALDESC:Events for UCSF - Universidad Católica de Santa Fe
REFRESH-INTERVAL;VALUE=DURATION:PT1H
X-Robots-Tag:noindex
X-PUBLISHED-TTL:PT1H
BEGIN:VTIMEZONE
TZID:America/Argentina/Buenos_Aires
BEGIN:STANDARD
TZOFFSETFROM:-0300
TZOFFSETTO:-0300
TZNAME:-03
DTSTART:20200101T000000
END:STANDARD
END:VTIMEZONE
BEGIN:VEVENT
DTSTART;TZID=America/Argentina/Buenos_Aires:20201202T190000
DTEND;TZID=America/Argentina/Buenos_Aires:20201202T193000
DTSTAMP:20260421T233326
CREATED:20201115T203438Z
LAST-MODIFIED:20201201T171950Z
UID:38981-1606935600-1606937400@www.ucsf.edu.ar
SUMMARY:CICLO DE CONFERENCIAS: Fuentes y tradiciones comunes a judíos y cristianos.
DESCRIPTION:Inscribete en linea aqui. Libre y Gratuito. \nPrimera conferencia: \n“La Biblia hebrea y su recepción griega en los orígenes del cristianismo” \n \nDisertante: Dr. Juan Carlos Alby. \nDoctor en Filosofía por la Universidad Católica de Santa Fe; Bioquímico por la Universidad Nacional del Litoral y Licenciado en Filosofía por la Universidad Católica de Santa Fe. Es Profesor Titular Ordinario de Filosofía medieval y renacentsita en la Facultad de Humanidades y Ciencias de la Universidad Nacional del Litoral y de Antropología en la Facultad de Ciencias Médicas de la misma universidad. Es investigador y presidente del Consejo de Investigaciones de la Universidad Católica de Santa Fe. \nContenidos \nLa traducción griega de la Biblia hebrea en la Alejandría ptolemaica. Recepción de la Septuaginta en los orígenes del cristianismo. Interacciones y conflictos en torno al texto bíblico entre los judíos y los Padres de la Iglesia. El intento de armonización de las versiones hebrea y griega en las Héxaplas de Orígenes (siglo III e.c.). San Jerónimo y la búsqueda de la veritas hebraica (siglo IV e. c.). \nUnirse a la reunión Zoom\nhttps://zoom.us/j/95968297438?pwd=UDF5NmZRNlh3aEZ6ZWdURVhhbWNsUT09 \nID de reunión: 959 6829 7438\nCódigo de acceso: 694978
URL:https://www.ucsf.edu.ar/evento/ciclo-de-conferencias-fuentes-y-tradiciones-comunes-a-judios-y-cristianos/
LOCATION:Santa Fe
CATEGORIES:Santa Fe,Rosario,Posadas,Reconquista,Rafaela,Gualeguaychú,Sedes,Investigación
END:VEVENT
BEGIN:VEVENT
DTSTART;TZID=America/Argentina/Buenos_Aires:20201202T190000
DTEND;TZID=America/Argentina/Buenos_Aires:20201202T193000
DTSTAMP:20260421T233326
CREATED:20201115T203438Z
LAST-MODIFIED:20201115T203438Z
UID:41649-1606935600-1606937400@www.ucsf.edu.ar
SUMMARY:CICLO DE CONFERENCIAS: Fuentes y tradiciones comunes a judíos y cristianos.
DESCRIPTION:Inscribete en linea aqui. Libre y Gratuito. \nPrimera conferencia: \n“La Biblia hebrea y su recepción griega en los orígenes del cristianismo” \n \nDisertante: Dr. Juan Carlos Alby. \nDoctor en Filosofía por la Universidad Católica de Santa Fe; Bioquímico por la Universidad Nacional del Litoral y Licenciado en Filosofía por la Universidad Católica de Santa Fe. Es Profesor Titular Ordinario de Filosofía medieval y renacentsita en la Facultad de Humanidades y Ciencias de la Universidad Nacional del Litoral y de Antropología en la Facultad de Ciencias Médicas de la misma universidad. Es investigador y presidente del Consejo de Investigaciones de la Universidad Católica de Santa Fe. \nContenidos \nLa traducción griega de la Biblia hebrea en la Alejandría ptolemaica. Recepción de la Septuaginta en los orígenes del cristianismo. Interacciones y conflictos en torno al texto bíblico entre los judíos y los Padres de la Iglesia. El intento de armonización de las versiones hebrea y griega en las Héxaplas de Orígenes (siglo III e.c.). San Jerónimo y la búsqueda de la veritas hebraica (siglo IV e. c.). \nUnirse a la reunión Zoom\nhttps://zoom.us/j/95968297438?pwd=UDF5NmZRNlh3aEZ6ZWdURVhhbWNsUT09 \nID de reunión: 959 6829 7438\nCódigo de acceso: 694978
URL:https://www.ucsf.edu.ar/evento/ciclo-de-conferencias-fuentes-y-tradiciones-comunes-a-judios-y-cristianos-3/
LOCATION:Untitled\, Santa Fe\, Argentina
CATEGORIES:Santa Fe,Rosario,Posadas,Reconquista,Rafaela,Gualeguaychú,Sedes,Investigación
END:VEVENT
END:VCALENDAR