BEGIN:VCALENDAR
VERSION:2.0
PRODID:-//UCSF - Universidad Católica de Santa Fe - ECPv5.14.2.1//NONSGML v1.0//EN
CALSCALE:GREGORIAN
METHOD:PUBLISH
X-WR-CALNAME:UCSF - Universidad Católica de Santa Fe
X-ORIGINAL-URL:https://www.ucsf.edu.ar
X-WR-CALDESC:Events for UCSF - Universidad Católica de Santa Fe
REFRESH-INTERVAL;VALUE=DURATION:PT1H
X-Robots-Tag:noindex
X-PUBLISHED-TTL:PT1H
BEGIN:VTIMEZONE
TZID:America/Argentina/Buenos_Aires
BEGIN:STANDARD
TZOFFSETFROM:-0300
TZOFFSETTO:-0300
TZNAME:-03
DTSTART:20210101T000000
END:STANDARD
END:VTIMEZONE
BEGIN:VEVENT
DTSTART;TZID=America/Argentina/Buenos_Aires:20210211T100000
DTEND;TZID=America/Argentina/Buenos_Aires:20210211T113000
DTSTAMP:20260421T170830
CREATED:20210209T043352Z
LAST-MODIFIED:20210209T043352Z
UID:40059-1613037600-1613043000@www.ucsf.edu.ar
SUMMARY:Citado y Referencias en Investigación. Estilos de cita. Derechos de Autor y Plagio
DESCRIPTION:EDICION DE VERANO\n Inscripciones en linea aqui\nSe encuentra abierta la inscripción para el Cuarto Seminario Web: “Citado y Referencias en Investigación. Estilos de cita. Derechos de Autor y Plagio”\, organizado por la “Universidad para la Casa Común”\, dependiente de la Secretaría de Ciencia y Técnica\, y Extensión de la UCSF. Edición Verano \nEstará a cargo de la Dra. Ana María Bonet \nDía jueves 11 de febrero\, a las 10 am. \nDe carácter  gratuito \nUnirse a la reunión Zoom  \nhttps://zoom.us/j/98148673831?pwd=N1BWYlUyUW5WNWdYTDV0TGlTVjFMZz09 \nID de reunión: 981 4867 3831 Código de acceso: 824481 \nObjetivos: \n1- Conocer los principios de citado y referencias en investigación \n2- Aprender a reconocer y aplicar diferentes estilos de cita. \n3- Conocer principios básicos sobre derechos de autor y cómo evitar el plagio \nDestinatarios: investigadores; tesistas; docentes y alumnos de la UCSF y de otras Universidades. \n  \nDra. Ana María Bonet \n \nBreve CV \nInvestigadora Universidad Católica de Santa Fe – CONICET. \nPostdoctorado CONICET. Doctora en Derecho (Universidad de Bremen\, Alemania)\, \nMaster en Derecho – LLM (Universidad de Friburgo\, Alemania)\, \nAbogada (UNL\, Argentina)\, Mediadora. \nDirectora del Proyecto de Investigación “Derechos humanos y economía. Relaciones y tensiones entre los derechos sociales y ambientales y el orden jurídico-económico transnacional”\, UCSF\, Argentina. \nLíneas de investigación: Anteriores: Trazabilidad y gestión de riesgos. Regulación de los riesgos de los transgénicos. Derecho a la alimentación y propiedad intelectual. Actuales: Derechos humanos y economía. Pluralismo jurídico. Normas de acceso y derechos humanos. Modelos de Desarrollo y Democracia.
URL:https://www.ucsf.edu.ar/evento/citado-y-referencias-en-investigacion-estilos-de-cita-derechos-de-autor-y-plagio-2/
LOCATION:WEB FACULTAD ARQUITECTURA_arquitectura
CATEGORIES:PUA, Programa Universidad Abierta,Santa Fe,Facultades,Rosario,Posadas,Reconquista,Rafaela,Gualeguaychú,Sedes,IEHDS Instituto de Ecología Humana y Desarrollo Sustentable,Investigación,Institutos,IIFCS Instituto de Investigación de la Facultad de Ciencias de la Salud
END:VEVENT
END:VCALENDAR