BEGIN:VCALENDAR
VERSION:2.0
PRODID:-//UCSF - Universidad Católica de Santa Fe - ECPv5.14.2.1//NONSGML v1.0//EN
CALSCALE:GREGORIAN
METHOD:PUBLISH
X-WR-CALNAME:UCSF - Universidad Católica de Santa Fe
X-ORIGINAL-URL:https://www.ucsf.edu.ar
X-WR-CALDESC:Events for UCSF - Universidad Católica de Santa Fe
REFRESH-INTERVAL;VALUE=DURATION:PT1H
X-Robots-Tag:noindex
X-PUBLISHED-TTL:PT1H
BEGIN:VTIMEZONE
TZID:America/Argentina/Buenos_Aires
BEGIN:STANDARD
TZOFFSETFROM:-0300
TZOFFSETTO:-0300
TZNAME:-03
DTSTART:20210101T000000
END:STANDARD
END:VTIMEZONE
BEGIN:VEVENT
DTSTART;TZID=America/Argentina/Buenos_Aires:20210219T190000
DTEND;TZID=America/Argentina/Buenos_Aires:20210219T203000
DTSTAMP:20260421T170817
CREATED:20210216T170214Z
LAST-MODIFIED:20210216T170214Z
UID:40271-1613761200-1613766600@www.ucsf.edu.ar
SUMMARY:Universidad Abierta. Webinar: Entre musas y circuitos. La creatividad desde la neurociencia
DESCRIPTION:(Edición Verano) \n La “Universidad Abierta para la Casa Común” (UA)\, dependiente de la Secretaría de Ciencia y Técnica\, y Extensión y la Facultad de Psicología\, sedes Santa Fe y Rosario\, de la UCSF\, comunican que se encuentra abierta la inscripción para el Seminario Web: “Entre musas y circuitos. La creatividad desde la neurociencias” \nInscripciones en línea aquí\nDisertante: Mgtr. Emilia Samit \nDía y horario: viernes 19\, a las 19 hs. \nDe carácter gratuito. \nDestinatarios: público en general interesado en la temática; miembros de la Comunidad de la UCSF  y de otras Universidades e Instituciones. \nInvitación Zoom \nhttps://zoom.us/j/94608595266?pwd=bkxhSHIwemE4cVVkT1ZTa3ZBZDIzZz09 \nID de reunión: 946 0859 5266\nCódigo de acceso: 44584ccc \nTemática del Seminario Web:\nLa creatividad es algo esencial en la vida cotidiana; de manera similar a la inteligencia\, puede ser considerada como un talento que todas las personas tienen en mayor o menor medida. La creatividad es considerada la cima de la cognición humana y\, por tanto\, un tema muy interesante de estudiar\, aunque complejo y multifacético. ¿Es diferente el cerebro de las personas altamente creativas? ¿Es posible entrenar la creatividad?  \nMgtr. Emilia Samit \n \nCV abreviado \nEmilia Samit\, es profesora titular en la Licenciatura de Psicología de la UCSF y del Máster de la Universidad del Atlántico Medio (España). Es licenciada en psicología\,  Máster en neuropsicología y actualmente está realizando su doctorado en Ciencias de la Salud\, en el marco del convenio entre la UCSF y la FURG de Brasil. Es investigadora becada por ICALA (Intercambio Cultural Alemán Latinoamericano) y se desempeña profesionalmente como neuropsicóloga en INECO Neurociencias Oroño\, donde también es la Coordinadora Académica.  \nPara informes e inscripciones comunicarse vía E-mail a nsturla@ucsf.edu.ar \n  \n 
URL:https://www.ucsf.edu.ar/evento/universidad-abierta-webinar-entre-musas-y-circuitos-la-creatividad-desde-la-neurociencia/
LOCATION:Santa Fe
CATEGORIES:PUA, Programa Universidad Abierta,Investigación,Institutos
END:VEVENT
END:VCALENDAR