BEGIN:VCALENDAR
VERSION:2.0
PRODID:-//UCSF - Universidad Católica de Santa Fe - ECPv5.14.2.1//NONSGML v1.0//EN
CALSCALE:GREGORIAN
METHOD:PUBLISH
X-WR-CALNAME:UCSF - Universidad Católica de Santa Fe
X-ORIGINAL-URL:https://www.ucsf.edu.ar
X-WR-CALDESC:Events for UCSF - Universidad Católica de Santa Fe
REFRESH-INTERVAL;VALUE=DURATION:PT1H
X-Robots-Tag:noindex
X-PUBLISHED-TTL:PT1H
BEGIN:VTIMEZONE
TZID:America/Argentina/Buenos_Aires
BEGIN:STANDARD
TZOFFSETFROM:-0300
TZOFFSETTO:-0300
TZNAME:-03
DTSTART:20210101T000000
END:STANDARD
END:VTIMEZONE
BEGIN:VEVENT
DTSTART;TZID=America/Argentina/Buenos_Aires:20210315T200000
DTEND;TZID=America/Argentina/Buenos_Aires:20210315T203000
DTSTAMP:20260421T170818
CREATED:20210312T185934Z
LAST-MODIFIED:20210312T190158Z
UID:42006-1615838400-1615840200@www.ucsf.edu.ar
SUMMARY:Charla informativa: Diplomatura de Administración sustentable de consorcios de propiedad horizontal
DESCRIPTION:La Facultad de Derecho y Ciencia Política de la Universidad Católica de Santa Fe y el Colegio de Corredores Inmobiliarios de Santa Fe 1 circunscripción celebraron un acuerdo de cooperación para promocionar esta nueva propuesta formativa. \nLa diplomatura  de Administración Sustentable de Consorcios de Propiedad Horizontal se aprobó bajo una modalidad cien por ciento virtual con un programa de encuentros sincrónicos y asincrónicos que empezarán el día 6 de abril culminando el 15 de Junio. Se enmarca en la decisión de la Universidad Católica de Santa Fe de redoblar esfuerzos para abordar la dimensión ambiental y el cuidado de la Casa Común. \nLa diplomatura está destinada a actuales administradores de consorcios o a quienes deseen formarse para desempeñarse como tales. También a funcionarios o asesores de áreas legislativas para propiciar un ordenamiento jurídico eficaz en la materia. En esa senda\, el Concejo Deliberante de la Municipalidad de Posadas la declaró de interés municipal y han comprometido su participación concejales y asesores. \n \nEl acuerdo de promoción suscripto propiciará también la decisión de instituciones públicas y empresas ligadas a la provisión de bienes y servicios de administración de consorcios para que puedan becar a empleados que se formen y así generar recursos humanos para atender con eficacia\, demandas específicas de los consorcios de propiedad horizontal dentro de sus respectivas instituciones\, por ejemplo bancos\, empresas de servicios de eficiencia energética\, seguros\, etc. \nLos representantes de ambas instituciones coincidieron en que la pandemia ha generado la necesidad de redoblar esfuerzos para abordar la dimensión ambiental y dotar de mayores herramientas a quienes abordan la temática de la administración de consorcios de propiedad horizontal dada la complejidad que tiene su desarrollo en general y en particular\, en tiempos excepcionales de una pandemia y con un contexto de restricciones económicas. \nConsultas. Ciclo de información: todos los Lunes de Marzo\, a las 20 hs \nPara quienes estén interesados en cursar la Diplomatura u ofrecer becas para realizar esta Diplomatura pueden dirigirse al Colegio de Corredores inmobiliarios de Santa Fe Circunscripción 1 (corredoresinmobiliariosstafe@gmail.com) o\, a la dirección de consulta de la Diplomatura (dfranco@ucsf.edu.ar). Asimismo\, pueden participar en el ciclo de charlas informativas de 30 minutos vía Zoom previsto para todos los lunes del mes de Marzo\, a las 20 hs desde el próximo  8 de marzo\, donde se explicarán objetivos\, modalidad\, contenidos de la propuesta\, entre otros. \nPara finalizar este Ciclo de promoción\, el día 30 de marzo\, además se abordará un tema interesante para el sector como es el de “los consorcios de propiedad horizontal\, como sujetos de créditos”.
URL:https://www.ucsf.edu.ar/evento/charla-informativa-diplomatura-de-administracion-sustentable-de-consorcios-de-propiedad-horizontal/2021-03-15/
LOCATION:Vía Zoom\, Argentina
ATTACH;FMTTYPE=image/jpeg:https://www.ucsf.edu.ar/wp-content/uploads/2021/03/diplo-derecho-e1615575194180.jpeg
END:VEVENT
END:VCALENDAR