BEGIN:VCALENDAR
VERSION:2.0
PRODID:-//UCSF - Universidad Católica de Santa Fe - ECPv5.14.2.1//NONSGML v1.0//EN
CALSCALE:GREGORIAN
METHOD:PUBLISH
X-WR-CALNAME:UCSF - Universidad Católica de Santa Fe
X-ORIGINAL-URL:https://www.ucsf.edu.ar
X-WR-CALDESC:Events for UCSF - Universidad Católica de Santa Fe
REFRESH-INTERVAL;VALUE=DURATION:PT1H
X-Robots-Tag:noindex
X-PUBLISHED-TTL:PT1H
BEGIN:VTIMEZONE
TZID:America/Argentina/Buenos_Aires
BEGIN:STANDARD
TZOFFSETFROM:-0300
TZOFFSETTO:-0300
TZNAME:-03
DTSTART:20210101T000000
END:STANDARD
END:VTIMEZONE
BEGIN:VEVENT
DTSTART;TZID=America/Argentina/Buenos_Aires:20210319T120000
DTEND;TZID=America/Argentina/Buenos_Aires:20210319T130000
DTSTAMP:20260421T170823
CREATED:20210316T174210Z
LAST-MODIFIED:20210316T174337Z
UID:42227-1616155200-1616158800@www.ucsf.edu.ar
SUMMARY:Solemnidad de San José - Misa universitaria
DESCRIPTION:Este viernes 19 de Marzo\, Solemnidad de San José\, nos reuniremos para rezar por los familiares de quienes integran nuestra comunidad universitaria que partieron a la Casa del Padre en este año.  \nNos reuniremos a las 12 horas\, en el Hall central de la UCSF\, sede Santa Fe.
URL:https://www.ucsf.edu.ar/evento/solemnidad-de-san-jose-misa-universitaria/
LOCATION:UCSF Santa Fe\, Echagüe 7151\, Santa Fe\, Santa Fe\, Argentina
CATEGORIES:Home principal,Arquitectura y Diseño,Santa Fe,Facultades,Ciencias de la Salud,Ciencias Económicas,Derecho y Ciencia Política,Filosofía y Humanidades,Psicología,Vicerrectorado de Formación,Sedes
ATTACH;FMTTYPE=image/jpeg:https://www.ucsf.edu.ar/wp-content/uploads/2021/03/misa-San-Jose-feed-01-e1615915487424.jpg
GEO:-31.6069451;-60.6709418
X-APPLE-STRUCTURED-LOCATION;VALUE=URI;X-ADDRESS=UCSF Santa Fe Echagüe 7151 Santa Fe Santa Fe Argentina;X-APPLE-RADIUS=500;X-TITLE=Echagüe 7151:geo:-60.6709418,-31.6069451
END:VEVENT
BEGIN:VEVENT
DTSTART;TZID=America/Argentina/Buenos_Aires:20210319T180000
DTEND;TZID=America/Argentina/Buenos_Aires:20210319T190000
DTSTAMP:20260421T170823
CREATED:20210316T220905Z
LAST-MODIFIED:20210604T124847Z
UID:42429-1616176800-1616180400@www.ucsf.edu.ar
SUMMARY:Segundo Seminario Web: "Finanzas para no financistas"
DESCRIPTION:  \nLa Secretaría de Ciencia y Técnica\, y Extensión de la UCSF\, a través de la “Universidad Abierta para la Casa Común” en conjunto con la Asociación Docente de la Universidad Católica de Santa Fe (ADUCSF)\, la Asociación del Personal Universidad Católica (APUC) y la Pastoral Universitaria\, organizan el Ciclo de Seminarios Web: “Finanzas Para No Financistas”. \n  \nDisertante: Lic. Roberto Pablo Buemo \nDía: viernes 19 de marzo\, de 18 a 19 hs. \nDestinatarios: personal docente y no docente de la UCSF\, público en general. \nValor de la entrada: un alimento no perecedero\, el que deberá ser entregado en la Pastoral Universitaria de cada sede de la UCSF o en mesa de entradas. \nInscripciones online haciendo click en el siguiente Link: \nhttps://www.eventbrite.com.ar/e/segundo-seminario-finanzas-para-no-financistas-tickets-146664065167?aff=Inscripciones \nTemario del 2do. Seminario \nPor qué y cómo compramos. Los gastos hormiga y su impacto en las finanzas personales. Como llevar a cabo una compra importante.\nCómo realizar una compra inteligente. Consejos de compras. \nUnirse a la reunión Zoom\nhttps://zoom.us/j/93973892010?pwd=a3diZHQ5dFU2MXd4RWxIUUl5d3llZz09\nID de reunión: 939 7389 2010\nCódigo de acceso: 654182 \nLic. en Administración: Roberto Pablo Buemo \n \nCV abreviado\nLicenciado en Administración. Docente Universitario de Universidad Católica de Santa Fe en Facultad de Ciencias Económicas y Facultad de Arquitectura. Socio y administrador de estudio contable. Experiencia como asistente de gerencia. Curso de competencias digitales y formación docente. \nPara informes comunicarse vía E-mail a nsturla@ucsf.edu.ar
URL:https://www.ucsf.edu.ar/evento/segundo-seminario-web-finanzas-para-no-financistas/
LOCATION:Santa Fe
CATEGORIES:Facultades,Ciencias Económicas
ATTACH;FMTTYPE=image/jpeg:https://www.ucsf.edu.ar/wp-content/uploads/2021/03/Flyer-Finanzas-para-no-financistas-01-1.jpg
END:VEVENT
END:VCALENDAR