BEGIN:VCALENDAR
VERSION:2.0
PRODID:-//UCSF - Universidad Católica de Santa Fe - ECPv5.14.2.1//NONSGML v1.0//EN
CALSCALE:GREGORIAN
METHOD:PUBLISH
X-WR-CALNAME:UCSF - Universidad Católica de Santa Fe
X-ORIGINAL-URL:https://www.ucsf.edu.ar
X-WR-CALDESC:Events for UCSF - Universidad Católica de Santa Fe
REFRESH-INTERVAL;VALUE=DURATION:PT1H
X-Robots-Tag:noindex
X-PUBLISHED-TTL:PT1H
BEGIN:VTIMEZONE
TZID:America/Argentina/Buenos_Aires
BEGIN:STANDARD
TZOFFSETFROM:-0300
TZOFFSETTO:-0300
TZNAME:-03
DTSTART:20210101T000000
END:STANDARD
END:VTIMEZONE
BEGIN:VEVENT
DTSTART;TZID=America/Argentina/Buenos_Aires:20210326T180000
DTEND;TZID=America/Argentina/Buenos_Aires:20210326T193000
DTSTAMP:20260421T170835
CREATED:20210315T135032Z
LAST-MODIFIED:20210316T170734Z
UID:42122-1616781600-1616787000@www.ucsf.edu.ar
SUMMARY:Conferencia de Apertura de la Diplomatura Actualización Derecho de Daños - Segundo Semestre
DESCRIPTION:El día viernes 26 de marzo de 2021  a las 18 horas\, se realizará la conferencia de inauguración del segundo cuatrimestre de la “Diplomatura en Derecho de Daños. Aspectos Sustanciales y Procesales”\, organizada por la Facultad de Derecho y Ciencia Política y aprobada por Resolución de Rectorado N° 11.285. \nLa Diplomatura comenzó su dictado bajo la modalidad virtual en septiembre de 2020\, con más de 70 inscriptos y con clases a cargo de juristas de renombre regional\, nacional e internacional. \nLa conferencia estará a cargo del Dr. Adolfo Alvarado Velloso y se titula “Los principios de la prueba en el proceso de daños” \nInvitamos a todos a unirse a la conferencia\, la cual será de acceso libre. \nUnirse a la reunión Zoom \nhttps://zoom.us/j/92206389701?pwd=Z2taVUxFTURma3ZZcVhieHRDVHR5Zz09 \nDeseamos a quienes cursan la Diplomatura un fructífero cuatrimestre para todos\, que tendrá a los aspectos procesales del  Derecho de Daños como protagonista de nuestro estudio\, materializado en clases a cargo de especialistas en la materia. \n  \nLos esperamos. \n  \nDr. Enrique Müller (Director) \nDr. Cristian Werlen y Dr. Mario Barucca (Coordinadores) \n  \n  \n  \n  \n  \n 
URL:https://www.ucsf.edu.ar/evento/conferencia-de-apertura-de-la-diplomatura-actualizacion-derecho-de-danos-segundo-semestre/
LOCATION:UCSF Santa Fe\, Echagüe 7151\, Santa Fe\, Santa Fe\, Argentina
CATEGORIES:Abogacía,Santa Fe,Facultades,Carreras de Grado,Posadas,Reconquista,Derecho y Ciencia Política
ATTACH;FMTTYPE=image/jpeg:https://www.ucsf.edu.ar/wp-content/uploads/2020/08/DERECHO-DAÑOS-144176-1.jpg
GEO:-31.6069451;-60.6709418
X-APPLE-STRUCTURED-LOCATION;VALUE=URI;X-ADDRESS=UCSF Santa Fe Echagüe 7151 Santa Fe Santa Fe Argentina;X-APPLE-RADIUS=500;X-TITLE=Echagüe 7151:geo:-60.6709418,-31.6069451
END:VEVENT
END:VCALENDAR