BEGIN:VCALENDAR
VERSION:2.0
PRODID:-//UCSF - Universidad Católica de Santa Fe - ECPv5.14.2.1//NONSGML v1.0//EN
CALSCALE:GREGORIAN
METHOD:PUBLISH
X-WR-CALNAME:UCSF - Universidad Católica de Santa Fe
X-ORIGINAL-URL:https://www.ucsf.edu.ar
X-WR-CALDESC:Events for UCSF - Universidad Católica de Santa Fe
REFRESH-INTERVAL;VALUE=DURATION:PT1H
X-Robots-Tag:noindex
X-PUBLISHED-TTL:PT1H
BEGIN:VTIMEZONE
TZID:America/Argentina/Buenos_Aires
BEGIN:STANDARD
TZOFFSETFROM:-0300
TZOFFSETTO:-0300
TZNAME:-03
DTSTART:20210101T000000
END:STANDARD
END:VTIMEZONE
BEGIN:VEVENT
DTSTART;TZID=America/Argentina/Buenos_Aires:20210416T150000
DTEND;TZID=America/Argentina/Buenos_Aires:20210416T200000
DTSTAMP:20260421T141244
CREATED:20210302T153756Z
LAST-MODIFIED:20210318T124557Z
UID:41669-1618585200-1618603200@www.ucsf.edu.ar
SUMMARY:Diplomatura en Bioética
DESCRIPTION:La finalidad de esta diplomatura es capacitar en el conocimiento de la Bioética y en el análisis racional de la dimensión ética del desarrollo científico y médico\, de forma que respete los valores inherentes a la persona humana\, la verdad integral sobre el hombre y el mundo. Iniciar así una preparación para abordar dilemas bioéticos en relación con los adelantos biotecnológicos que involucran especialmente a la vida humana.
URL:https://www.ucsf.edu.ar/evento/diplomatura-en-bioetica/
LOCATION:UCSF Santa Fe\, Echagüe 7151\, Santa Fe\, Santa Fe\, Argentina
CATEGORIES:IB Instituto de Bioética Jerome Lejeune,Institutos
ATTACH;FMTTYPE=image/jpeg:https://www.ucsf.edu.ar/wp-content/uploads/2021/03/DIPLOMATURA-EN-BIOETICA-2021-feed-01-e1615466517405.jpg
ORGANIZER;CN="Instituto%20de%20Bio%C3%A9tica%20%22J%C3%A8r%C3%B4me%20Lejeune%22":MAILTO:bioetica@ucsf.edu.ar
GEO:-31.6069451;-60.6709418
X-APPLE-STRUCTURED-LOCATION;VALUE=URI;X-ADDRESS=UCSF Santa Fe Echagüe 7151 Santa Fe Santa Fe Argentina;X-APPLE-RADIUS=500;X-TITLE=Echagüe 7151:geo:-60.6709418,-31.6069451
END:VEVENT
END:VCALENDAR