BEGIN:VCALENDAR
VERSION:2.0
PRODID:-//UCSF - Universidad Católica de Santa Fe - ECPv5.14.2.1//NONSGML v1.0//EN
CALSCALE:GREGORIAN
METHOD:PUBLISH
X-WR-CALNAME:UCSF - Universidad Católica de Santa Fe
X-ORIGINAL-URL:https://www.ucsf.edu.ar
X-WR-CALDESC:Events for UCSF - Universidad Católica de Santa Fe
REFRESH-INTERVAL;VALUE=DURATION:PT1H
X-Robots-Tag:noindex
X-PUBLISHED-TTL:PT1H
BEGIN:VTIMEZONE
TZID:America/Argentina/Buenos_Aires
BEGIN:STANDARD
TZOFFSETFROM:-0300
TZOFFSETTO:-0300
TZNAME:-03
DTSTART:20210101T000000
END:STANDARD
END:VTIMEZONE
BEGIN:VEVENT
DTSTART;TZID=America/Argentina/Buenos_Aires:20210421T170000
DTEND;TZID=America/Argentina/Buenos_Aires:20210721T190000
DTSTAMP:20260421T141231
CREATED:20210407T144634Z
LAST-MODIFIED:20210701T124240Z
UID:43001-1619024400-1626894000@www.ucsf.edu.ar
SUMMARY:Taller: Abriendo Futuro a través de la Historia y el Folklore Nacional
DESCRIPTION:“El Programa Universidad Abierta para la Casa Común” dependiente de la Secretaría de Ciencia y Técnica\, y Extensión\, comunica que se encuentra abierta la inscripción al Taller anual: “Abriendo Futuro a través de la Historia y el Folklore Nacional”. \nEn dicho Taller\, se abordarán los autores y/o personajes\, desarrollándose aspectos vinculados al contexto histórico de sus obras\, detalles de sus vidas y pensamiento\, trabajándose en cada caso con archivos de Power Point.\nAdemás\, se interpretarán temas musicales elaborados por cada uno de estos autores\, o aquellas canciones que\, sin ser de su autoría\, son identificables con cada intérprete.\nSe trata\, sin más\, de un acto educativo no estandarizado\, con un organización académica que procura analizar las diferencias entre algunos de los autores fundacionales del folklore nacional\, actualizando algunos de los debates propuestos en sus obras. \nEl presente espacio académico-musical\, es además una propuesta que tiene por finalidad trabajar las diversas funciones de la memoria a través de imágenes\, canciones e historias. \nDocente: Dr. Víctor Hadad \nComienzo de clases: día miércoles 21 de abril\, de 17 a 19 hs. \nDestinatarios: público en general\, personal docente\, no docente y alumnos de la UCSF y de otras Instituciones Educativas y Universidades. \nModalidad: semi-presencial \nCursado: dos cuatrimestres \nINSCRIPCIÓN ONLINE AQUÍ\n  \n  \nDr. Víctor Hadad \n \nCV Abreviado \nIntegrante del dúo folklórico KALLPA YAKU y autor del libro YAPUY (microrrelatos políticos y culturales). \nEntre otros antecedentes\, fue: \nDirector Provincial de Entes Portuarios y Túnel Subfluvial del Ministerio de Aguas\, Servicios Públicos y Medio Ambiente de la Provincia de Santa Fe (Decreto del Poder Ejecutivo Provincial nro 516/2011) – Enero 2012 /Diciembre 2015\nIntegrante del Grupo de Expertos para el estudio del nuevo enlace físico del Area Metropolitana Santa Fe – Paraná (Decreto del Poder Ejecutivo Provincial Nro 003/2012)\nDirector Representante por el Gobierno de la Provincia de Santa Fe en el Ente Interprovincial Túnel Subfluvial Raúl Uranga Carlos Sylvestre Begnis (setiembre 2009/octubre 2010) – Decreto del Poder Ejecutivo Provincial Nro. 1537/09\nColaborador en el Proyecto Puente – Parque Cultura del Río (Gobierno de la Provincia de Santa Fe)\nAsesor legal Representación Santa Fe – Ente Interprovincial Túnel Subfluvial Raúl Uranga Carlos Sylvestre Begnis (enero 2008/agosto 2009) \nPara informes comunicarse vía E-mail a nsturla@ucsf.edu.ar \nLas inscripciones se realizan online a través del link ut-supra
URL:https://www.ucsf.edu.ar/evento/nuevo-taller-abriendo-futuro-a-traves-de-la-historia-y-el-folklore-nacional/
LOCATION:Santa Fe
CATEGORIES:Santa Fe,Rosario,Posadas,Reconquista,Rafaela,Gualeguaychú,Sedes
ORGANIZER;CN="PUA":MAILTO:nsturla@ucsf.edu.ar
END:VEVENT
BEGIN:VEVENT
DTSTART;TZID=America/Argentina/Buenos_Aires:20210427T093000
DTEND;TZID=America/Argentina/Buenos_Aires:20210730T113000
DTSTAMP:20260421T141231
CREATED:20210423T141303Z
LAST-MODIFIED:20210701T124255Z
UID:43497-1619515800-1627644600@www.ucsf.edu.ar
SUMMARY:Continúan abiertas las inscripciones a los Cursos de Inglés PUA
DESCRIPTION:El “Programa Universidad Abierta”\, dependiente de la Secretaría de Ciencia y Técnica\, y Extensión\, de la UCSF\, comunica que continúan abiertas las inscripciones a los Cursos de Inglés en sus diferentes niveles. \n¿Para qué me sirve aprender este idioma?\nPara ser capaces de:  \n\nUtilizar los conocimientos adquiridos como una herramienta de formación académica y personal.\nComprender\, mediante la lectura y escucha de textos\, grabaciones y videos\,  la cultura de países de habla inglesa\, y sobre todo aquellos temas de su interés particular.\nAmpliar y profundizar el conocimiento de la lengua inglesa (grammar).\nDesarrollar competencias lingüísticas en inglés (oral\, aural\, writing\, reading skills).\nDesenvolverse en en el idioma con propiedad y corrección lingüística\, en situaciones comunes de la vida diaria.\n Acceder a bibliografía escrita en este idioma. Entre otros… \n\nTeacher: Eduardo Quintana \nDestinatarios: público en general; alumnos\, personal docente y no docente de la UCSF (abonan el 50% del cuatrimestre completo). \nCursado: dos cuatrimestres \nNivel Inicial: martes de 9:30 a 11:30 hs. \nInscripciones online en el link de abajo \n ⇓ \nhttps://www.eventbrite.com.ar/e/curso-de-ingles-nivel-inicial-tickets-152849114817?aff=Inscripciones \n  \nNivel Intermedio y Avanzado: miércoles de 18:30 a 20:30 hs\, \nInscripciones online en el link de abajo \n ⇓ \nhttps://www.eventbrite.com.ar/e/curso-de-ingles-nivel-intermedio-y-avanzado-tickets-152865604137?aff=Inscripciones \n\nSe entregarán certificados.\n¡Sumate! No pierdas esta excelente oportunidad de potenciar tus conocimientos\, logrando una formación académica más integral. \nContacto: nsturla@ucsf.edu.ar \n 
URL:https://www.ucsf.edu.ar/evento/continuan-abiertas-las-inscripciones-a-los-cursos-de-ingles-pua/
LOCATION:UCSF Santa Fe\, Echagüe 7151\, Santa Fe\, Santa Fe\, Argentina
CATEGORIES:Santa Fe,Rosario,Posadas,Reconquista,Rafaela,Gualeguaychú,Sedes,Investigación
ORGANIZER;CN="Vicerrectorado%20de%20Formaci%C3%B3n":MAILTO:vrecform@ucsf.edu.ar
GEO:-31.6069451;-60.6709418
X-APPLE-STRUCTURED-LOCATION;VALUE=URI;X-ADDRESS=UCSF Santa Fe Echagüe 7151 Santa Fe Santa Fe Argentina;X-APPLE-RADIUS=500;X-TITLE=Echagüe 7151:geo:-60.6709418,-31.6069451
END:VEVENT
BEGIN:VEVENT
DTSTART;TZID=America/Argentina/Buenos_Aires:20210528T150000
DTEND;TZID=America/Argentina/Buenos_Aires:20210528T180000
DTSTAMP:20260421T141231
CREATED:20210525T005839Z
LAST-MODIFIED:20210525T005912Z
UID:44137-1622214000-1622224800@www.ucsf.edu.ar
SUMMARY:Seminario Bioética y Genética - Diplomatura en Bioética
DESCRIPTION:Seminario: BIOÉTICA Y GENÉTICA \nContenidos: \n1. Ingeniería genética. Manipulación genética. La clonación y el potencial terapéutico de las células madres en torno a los avances genéticos y la investigación con células madre. Investigación y experimentación con embriones humanos. Diagnóstico prenatal. Consideraciones bioéticas. \n2. Genética y Bioética. Manejo de la información genética: confidencialidad\, acceso a la información genética. Consideraciones bioéticas. \nDocente: Dra. Graciela Moya
URL:https://www.ucsf.edu.ar/evento/seminario-bioetica-y-genetica-diplomatura-en-bioetica/
LOCATION:UCSF Santa Fe\, Echagüe 7151\, Santa Fe\, Santa Fe\, Argentina
CATEGORIES:IB Instituto de Bioética Jerome Lejeune
ORGANIZER;CN="Instituto%20de%20Bio%C3%A9tica%20%22J%C3%A8r%C3%B4me%20Lejeune%22":MAILTO:bioetica@ucsf.edu.ar
GEO:-31.6069451;-60.6709418
X-APPLE-STRUCTURED-LOCATION;VALUE=URI;X-ADDRESS=UCSF Santa Fe Echagüe 7151 Santa Fe Santa Fe Argentina;X-APPLE-RADIUS=500;X-TITLE=Echagüe 7151:geo:-60.6709418,-31.6069451
END:VEVENT
BEGIN:VEVENT
DTSTART;TZID=America/Argentina/Buenos_Aires:20210528T150000
DTEND;TZID=America/Argentina/Buenos_Aires:20210528T190000
DTSTAMP:20260421T141231
CREATED:20210407T163056Z
LAST-MODIFIED:20210601T112405Z
UID:43031-1622214000-1622228400@www.ucsf.edu.ar
SUMMARY:Círculo de reflexión socio-eco-jurídica
DESCRIPTION:El Círculo de reflexión socio-eco-jurídica sirve de espacio de intercambio y análisis de textos actuales\, emblemáticos o disparadores sobre sobre problemáticas socio-eco-jurídicas actuales de nivel local\, regional y global. Funcionan como espacio para el intercambio y debate interdisciplinario\, dada la convocatoria de alumnos\, docentes\, investigadores y profesionales del derecho y de otras áreas\, tanto de la UCSF\, como de otras instituciones. Por ellos estos círculos son una rica fuente de inspiración para el trabajo y la producción escrita de los miembros del equipo\, y de toda aquella persona de buena voluntad que desee participar. \nObjetivo\n– Conocer debates actuales que articulan las materias social\, ecológica y jurídica.\n– Intercambiar perspectivas con otros académicos e interesados en estas temáticas.\n– Generar un espacio académico de encuentro e intercambio. \nMetodología\nCada encuentro un investigador presenta un texto disparador que abre el debate e intercambio sobre el tema de referencia. \n  \n \nLink de la reunión:  https://meet.google.com/mqg-ohnx-vcw \nOrganizan: Integrantes de la Cátedra de Derecho Internacional Público y Derechos Humanos y Proyecto de Investigación “Derecho y Economía” \nDatos de acceso: meet.google.com/mqg-ohnx-vcw \nActividad libre.
URL:https://www.ucsf.edu.ar/evento/circulo-de-reflexion-socio-eco-juridica-2021-05-28/
LOCATION:Santa Fe
CATEGORIES:Investigación Ecojurídica,Abogacía,Facultades,Alumnos,Carreras de Grado,Docentes,Posadas,Reconquista,Derecho y Ciencia Política,Sedes,Licenciatura en Relaciones Internacionales,Martillero Público y Corredor Inmobiliario,Notariado,Procuración
ATTACH;FMTTYPE=image/jpeg:https://www.ucsf.edu.ar/wp-content/uploads/2021/04/Circulo-de-reflexion-socio-eco-juridica-2021-1676182.jpg
ORGANIZER;CN="Facultad%20de%20Derecho%20y%20Ciencia%20Pol%C3%ADtica%20-%20Sede%20Posadas":MAILTO:posadas@ucsf.edu.ar
END:VEVENT
BEGIN:VEVENT
DTSTART;TZID=America/Argentina/Buenos_Aires:20210528T153000
DTEND;TZID=America/Argentina/Buenos_Aires:20210528T200000
DTSTAMP:20260421T141231
CREATED:20210418T210619Z
LAST-MODIFIED:20210525T220833Z
UID:43344-1622215800-1622232000@www.ucsf.edu.ar
SUMMARY:Jornada Preparatoria del próximo Congreso Nacional de Derecho Concursal
DESCRIPTION:Organizada por la Facultad de Derecho y Ciencia Política de la UCSF \, se llevará a cabo la Jornada Preparatoria del XI Congreso Nacional de Derecho Concursal y IX Congreso Iberoamericano de la Insolvencia.\nLos abogados\, magistrados\, funcionarios y empleados del Poder Judicial\, estudiantes avanzados de la carrera de Abogacía\, Contadores y síndicos concursales son los destinatarios de la propuesta. \nLa Jornada se inscribe en el marco de una serie de preparatorias que se desarrollan a lo largo y ancho del país\, con el fin de motivar a los profesionales y alumnos interesados en la temática para que participen activamente en el Congreso que se realizará en la Ciudad de Bahía Blanca\, los días 18 a 22 de Octubre de 2021. \nEn este sentido\, se presentarán una serie de exposiciones presentadas en paneles y una conferencia Magistral. \nFecha: 28 de Mayo de 2021 \nHora: 15.30 a 20 hs. \nModalidad: Virtual. Vía Zoom. \nCoordinación general: Dra. Paula Cecilia Cattelán \nContenido\, cronograma y panelistas: \nPalabras de apertura  (15.30 a 16 hs) \n\nDr. Enrique Müller (Decano de la Facultad de Derecho)\nDr. Marcelo Barreiro (en representación de la organización del congreso).\n\nPrimer panel: Instituciones y principios concursales  (16 a 16.55 hs.) \nDisertantes: \n\nDra. María Cristina De Césaris  “Derecho Concursal y Sujetos vulnerables. Interacción equitativa”.\nDra. Claudia E. Raisberg  “Actualización de las reglas de competencia y del concurso extranacional”.\nDr. Héctor O. Chómer  “Flexibilización del sistema concursal tras la Pandemia”. \n\nSegundo panel: Instituciones concursales conservatorias (17 a 17.55 hs.) \nDisertantes: \n\nDr. Germán Gerbaudo  “Atención extrajudicial de la insolvencia. Prevención y solución de la crisis. Conciliación. Mediación. Arbitraje”.\nDr. Federico González “Facultades judiciales en la homologación del acuerdo. Opinión del síndico sobre la posibilidad de cumplimiento. Viabilidad de la imposición del acuerdo”\nDr. Eduardo M. Favier Dubois  “Protección frente a los acreedores posconcursales y poderes del juez”\n\nTercer panel: Instituciones concursales liquidativas (18 a 18.55 hs.) \nDisertantes: \n\nDr. Javier Lorente  “Inhabilitación. Segunda oportunidad. Exoneración de pasivos. Descarga. Reelaboración de la inhabilitación de personas humanas. Ejercicio de oficio o profesión”.\nDra. Andrea Oudin  “Responsabilidad de los administradores. Actividad anti funcional”.\nDra. Gabriela Boquín  “Convencionalidad constitucional de los privilegios: readecuación”.\n\n Conferencia Magistral: (19 horas a 19.45 horas) \n\nDr. Ricardo Prono  “REELABORACIÓN DE LOS PRINCIPIOS Y PRESUPUESTOS CONCURSALES”\n\n Cierre de las jornadas 19.45 horas. \n  \nLas jornadas son libres y gratuitas. \nSe otorgarán certificados de asistencia. \nInformes: Paula C. Cattelán (pcattelan@ucsf.edu.ar) \n  \nINSCRIPCIONES \nhttps://forms.office.com/r/9Qb0RehZ1K \n  \n 
URL:https://www.ucsf.edu.ar/evento/jornada-preparatoria-del-proximo-congreso-nacional-de-derecho-concursal/
LOCATION:UCSF Santa Fe\, Echagüe 7151\, Santa Fe\, Santa Fe\, Argentina
CATEGORIES:Abogacía,Santa Fe,Facultades,Carreras de Grado,Posadas,Reconquista,Derecho y Ciencia Política,Sedes,Licenciatura en Relaciones Internacionales,Martillero Público y Corredor Inmobiliario,Notariado,Procuración
ATTACH;FMTTYPE=image/jpeg:https://www.ucsf.edu.ar/wp-content/uploads/2021/04/jornadas-preparatorias-01.jpg
ORGANIZER;CN="Facultad%20de%20Derecho%20y%20Ciencia%20Pol%C3%ADtica%20-%20Sede%20Posadas":MAILTO:posadas@ucsf.edu.ar
GEO:-31.6069451;-60.6709418
X-APPLE-STRUCTURED-LOCATION;VALUE=URI;X-ADDRESS=UCSF Santa Fe Echagüe 7151 Santa Fe Santa Fe Argentina;X-APPLE-RADIUS=500;X-TITLE=Echagüe 7151:geo:-60.6709418,-31.6069451
END:VEVENT
END:VCALENDAR