BEGIN:VCALENDAR
VERSION:2.0
PRODID:-//UCSF - Universidad Católica de Santa Fe - ECPv5.14.2.1//NONSGML v1.0//EN
CALSCALE:GREGORIAN
METHOD:PUBLISH
X-WR-CALNAME:UCSF - Universidad Católica de Santa Fe
X-ORIGINAL-URL:https://www.ucsf.edu.ar
X-WR-CALDESC:Events for UCSF - Universidad Católica de Santa Fe
REFRESH-INTERVAL;VALUE=DURATION:PT1H
X-Robots-Tag:noindex
X-PUBLISHED-TTL:PT1H
BEGIN:VTIMEZONE
TZID:America/Argentina/Buenos_Aires
BEGIN:STANDARD
TZOFFSETFROM:-0300
TZOFFSETTO:-0300
TZNAME:-03
DTSTART:20210101T000000
END:STANDARD
END:VTIMEZONE
BEGIN:VEVENT
DTSTART;VALUE=DATE:20210802
DTEND;VALUE=DATE:20211123
DTSTAMP:20260420T212949
CREATED:20210613T053324Z
LAST-MODIFIED:20210824T120200Z
UID:44817-1627862400-1637625599@www.ucsf.edu.ar
SUMMARY:Diplomatura en Pastoral Educativa
DESCRIPTION:DIPLOMATURA VIRTUAL EN PASTORAL EDUCATIVA\nDiscípulos y misioneros\, artesanos en fraternidad.\nDestinatarios: directivos\, personal docente\, asistentes escolares\, animadores pastorales y personal administrativo de instituciones escolares e interesados en la temática. \nDuración: desde el 2 de Agosto hasta el 22 de Noviembre de 2021 \nLa Diplomatura en Pastoral Educativa es una iniciativa que nace en el seno del Área Pastoral de la Junta Arquidiocesana de Educación de Santa Fe. A su vez\, surge también como respuesta a la demanda de formación específica para agentes pastorales que desarrollan sus actividades en instituciones educativas. Tiene como fin brindar un espacio de formación\, reflexión y cualificación de la praxis pastoral. Nutridos por el magisterio desafiante del Papa Francisco mediante su llamado a la fraternidad\, a concebir una iglesia en salida\, de pirámide invertida\, sinodal\, y de comprender el servicio del Buen Pastor como necesidad urgente\, la Diplomatura se presenta como oportunidad para encarnar dichas intuiciones en perspectivas y marcos de acción para la renovación de la pastoral en la escuela\, provocando una mirada crítica de los procesos sociales\, eclesiales\, educativos y políticos actuales\, a los fines de resignificarlos. \nConsideramos que la formación en pastoral educativa debe ser abierta a todos los que se sientan invitados\, sin distinciones\, poniendo el acento en la cultura del encuentro\, del diálogo y de la amistad social\, a los fines de tejer redes comunitarias\, inter institucionales\, interreligiosas y multiculturales\, que promuevan una pastoral significativa\, procesual\, abierta a la historia e inserta en lo cotidiano. Promoviendo la cultura del encuentro y de la amistad social\, busca crear un ámbito formal de formación (capacitación) en el marco de la Universidad Católica de Santa Fe\, que no sea excluyente. \nEl objetivo principal de este itinerario es reunir a todas las personas preocupadas por los procesos pastorales. Mediante un cuidadoso acompañamiento de tutores y docentes\, se intenta ofrecer una trayectoria educativa de calidad a cada uno de ellos\, sin importar sus antecedentes académicos. En dicho trayecto se tendrá una mirada interdisciplinaria combinando aportes de las ciencias sociales\, pedagogía\, teología\, Doctrina Social de la Iglesia\, experiencias de trabajo y otras perspectivas pertinentes. Es interés de la propuesta propiciar un ámbito de encuentro\, reflexión y formación para educadores comprometidos con la pastoral educativa en el marco de la Universidad. \nEl paradigma del encuentro propuesto por el Papa Francisco será el sustento de la propuesta formativa. Generar una oportunidad para cualificar la praxis de los educadores\, mediante los aportes de las diversas ciencias sociales en sus diversas ramas\, el magisterio eclesial\, la Doctrina Social de la Iglesia y otros recursos\, que permitan cualificar la formación en torno a la pastoral y su vinculación con la escuela\, a los fines de vincular teoría y práctica. También se presenta como oportunidad de socialización de experiencias consolidadas que evidencien el trabajo en conjunto en las instituciones educativas\, ayuden a clarificar los aportes teóricos de los diversos módulos y fomenten los aportes de la Diplomatura. Puede colaborar al fortalecimiento de redes inter institucionales y conocimiento entre los educadores\, mediante el aporte de herramientas para el abordaje transversal de la pastoral en las instituciones educativas\, en los barrios y el contexto\, mediante el diseño\, la gestión y evaluación de proyectos pastorales. \nInformes e inscripción: diplomaturapasteduc@ucsf.edu.ar\nPodés encontrar mayor información en: DIPLOMATURA PASTORAL EDUCATIVA \n  \n 
URL:https://www.ucsf.edu.ar/evento/diplomatura-virtual-en-pastoral-educativa/
LOCATION:Santa Fe
CATEGORIES:A distancia,Docentes,Vicerrectorado de Formación,Sedes
ATTACH;FMTTYPE=image/jpeg:https://www.ucsf.edu.ar/wp-content/uploads/2021/06/dpilomatura-en-pastoral-educativa-historia-e1643033472614.jpg
END:VEVENT
BEGIN:VEVENT
DTSTART;TZID=America/Argentina/Buenos_Aires:20210820T190000
DTEND;TZID=America/Argentina/Buenos_Aires:20211120T210000
DTSTAMP:20260420T212949
CREATED:20210805T143920Z
LAST-MODIFIED:20211217T211400Z
UID:46307-1629486000-1637442000@www.ucsf.edu.ar
SUMMARY:Curso: Evaluación clínica e instrumental de la función vocal
DESCRIPTION:El campo de la voz humana y el desarrollo científico han experimentado un cuantioso perfeccionamiento con el correr de los años. \nSin embargo\, la comprensión y análisis del fenómeno vocal para muchos aún sigue siendo una mera noción o permanecen sujetos a alegorías poco fundamentadas. \nLos contenidos a desarrollar en el presente curso se encuentran íntimamente relacionados con los avances científicos en el área\, la investigación actual en Vocología Aplicada y las necesidades clínicas específicas de cara a un abordaje efectivo de todo aquello relacionado con la función vocal y sus alteraciones. \nObjetivos \nGeneral: \n\nOfrecer a los profesionales Fonoaudiólogos una formación disciplinar y clínica especializada en el área de voz a lo largo del ciclo vital\, que posibilite el desarrollo de conocimientos\, habilidades y actitudes\, para la promoción de la salud vocal y la prevención de sus alteraciones\, así como para guiar los procesos de evaluación y diagnóstico respondiendo a las necesidades específicas de los usuarios.\n\n  \nEspecíficos: \n\nComprender los fundamentos anatomo-fisiológicos avanzados de los procesos que subyacen a la producción de la voz humana.\nConstruir conocimientos teóricos y prácticos actualizados sobre las nuevas tecnologías e instrumentos utilizados en la evaluación objetiva de la voz y sobre el proceso de intervención de los sujetos con alteraciones de la función vocal.\nPromover la salud vocal del sujeto/paciente en intervenciones individualizadas\, atendiendo a la prevención de las alteraciones de la voz\, en tanto proceso multidimensional\nProfundizar la formación clínica e investigativa del profesional Fonoaudiólogo en el área de la voz a lo largo del ciclo vital\n\nContenidos \nMÓDULO 1 \n\nEvaluación clínica\, protocolos y fichas evaluativas. Confección de protocolos estandarizados. Medidas aerodinámicas no instrumentales: TMF\, TMS\, índice s/a. Razonamiento clínico.\nEntrenamiento auditivo. Reconocimiento de fuentes sonoras\, análisis auditivo de voces normales y patológicas: indicadores y variables. Escalas de evaluación perceptual: GRBAS (GRB)\, RBH\, RASAT(I) y CAPE-V.\nValoración vocal del propio paciente. Utilización de cuestionarios estandarizados en la Clínica y en Investigación. Descripción de todas sus versiones para la evaluación del paciente y su seguimiento.\n\n  \nMÓDULO II \n\nAnálisis acústico de la voz I. Conceptos de acústica vocal. Formas de graficar el sonido de la voz. Características del espectro de la fuente. Formantes del tracto vocal. Modificaciones de los formantes v/s modificaciones de la forma del tracto vocal. Principales rasgos acústicos de las vocales. Timbre vocálico y extra vocálico. Parámetros acústicos. Variaciones acústicas y correlato psicoacústico de la energía\, F0 y formantes. Medidas de perturbación a corto y largo plazo.\n\n  \nMÓDULO III \n\nAnálisis acústico de la voz II. El análisis acústico y su relación las pruebas convencionales y no convencionales del Laboratorio de la Voz. Electroglotografía (EGG). Consideraciones Generales de la EGG y su relación con la dinámica del ciclo glotal\, y sus modificaciones en diferentes mecanismos vocales. Fenómenos Físicos implicados. Análisis Cualitativo y Cuantitativo. Compatibilidades con la Clínica Vocal\n\n  \nMÓDULO IV \n\nExploración morfo-funcional directa (Telelaringoestroboscopía) e indirecta. Uso de espejos laríngeos. Entrenamiento en telelaringoestoboscopia. Nociones de fisiología estroboscópica para fonoaudiólogos. Movimiento laríngeo. Método de Evaluación Funcional de la Fonación. Presentación del protocolo de evaluación. Aplicación del método. Correlación perceptual\, acústica y morfo-funcional.\n\n  \n  \nDías y Horarios: \nEncuentros sincrónicos: viernes de 19 a 21; sábados de 9 a 13. 20 \n20 y 21 de agosto 2021 \n17 y 18 de septiembre 2021 \n22 y 23 de octubre 2021 \n19 y 20 de noviembre2021 \nEncuentro presencial: 10 y 11 de febrero de 2022 \n  \nCarga horaria total: –     4 clases virtuales sincrónicas de 6 hs cada una: 24 hs \n\n5 hs de asincronía por encuentro con lecturas y tareas para entregar : 20hs\nEncuentro presencial en febrero 2022: 16 hs\n\nTOTAL = 60 horas \n  \nDOCENTE DIRECTOR \nApellido y Nombres: JEREZ\, RODRIGO MAXIMILIANO \nFormación Profesional: LICENCIADO EN FONOAUDIOLOGÍA \n  \nCOORDINADOR \nApellido y Nombre: Dra. Mariela Pensso \nFormación Profesional: DRA EN FONOAUDIOLOGIA \nConsultas e inscripciones: mariela.pensso@ucsf.edu.ar \n 
URL:https://www.ucsf.edu.ar/evento/curso-evaluacion-clinica-e-instrumental-de-la-funcion-vocal/2021-08-20/
LOCATION:Santa Fe
CATEGORIES:Santa Fe,Alumnos,Rosario,Docentes,Reconquista,Rafaela,Sedes,Licenciatura en Fonoaudiología
ATTACH;FMTTYPE=image/jpeg:https://www.ucsf.edu.ar/wp-content/uploads/2021/08/curso-voz-FEED_1.jpg
END:VEVENT
BEGIN:VEVENT
DTSTART;TZID=America/Argentina/Buenos_Aires:20210827T150000
DTEND;TZID=America/Argentina/Buenos_Aires:20210827T170000
DTSTAMP:20260420T212949
CREATED:20210601T144858Z
LAST-MODIFIED:20210823T144011Z
UID:44360-1630076400-1630083600@www.ucsf.edu.ar
SUMMARY:Cátedra abierta de Derechos Humanos
DESCRIPTION:El viernes 27 de Agosto de 2021 a las 15 hs. estará presente en la Cátedra Abierta de Derechos Humanos el Dr. Nicolas Mayoraz Diputado provincial de la Legislatura de Santa Fe. Para conversar acerca de su aporte dentro de la legislatura y sus trabajos actual en materia de Derechos Humanos.\nNicolás Mayoras es Abogado egresado de la Facultad de Derecho de la UNR\, especializado en Derecho Internacional Público\, Derecho Administrativo Económico\, Doctorado en la UCA y con una Diplomatura en Derechos Humanos en la Universidad Astral.\nAdemás el Dr. fue docente y actualmente como Diputado\, lleva adelante varios proyectos\, entre ellos participa de charlas y mesas de debate referidos al estatus jurídico del embrión\, el derecho a la objeción de conciencia y la libertad religiosa. Es padrino de la Asociación Civil Red de Merenderos\, que preside Gabriel Mayer y coordina M. Alejandra Gutierrez de Vigo.\nTenemos previsto consultarle acerca de las prioridades de la gestión en materia de Derechos Humanos y alimentación así cómo acerca del rol de los DESCA en la agenda provincial. Nos interesa también conocer acerca de programas y proyectos concretos de promoción de los derechos humanos – sobre todo en materia de DESCA – en la provincia. \n\n\n\n\nEste proyecto de extensión procura instaurar una ‘plataforma horizontal de intercambio de saberes’ sobre problemáticas actuales relacionadas con los Derechos Humanos. El proyecto surge en el marco del equipo de investigación jurídica con enfoque socio-ecológico de la Facultad de Derecho y Ciencia Política de la UCSF dirigido por Ana María Bonet\, a partir de la necesidad y conveniencia no sólo de comunicar y difundir los avances y resultados obtenidos\, sino ante todo de consolidar lazos con otras instituciones académicas\, así como de intercambiar perspectivas con otros ámbitos\, incluso no estríctamente académicos como la política\, la economía y la práctica jurídica. \n Es por ello que este proyecto\, si bien emerge en el ámbito propiamente académico de un proyecto de investigación de una Universidad – como la UCSF -\, procura constituir un espacio de articulación de saberes sobre una temática con tanto impacto eco-social como los Derechos Humanos. \n A través de una dinámica participativa\, dialógica y horizontal\, se propone poner en cuestión la lógica hegemónica\, jerárquica\, mecanicista y academicista que gobierna el discurso moderno-liberal de los Derechos Humanos\, que por cierto es el que prima todavía tanto en su traducción normativa como en la práctica jurídica. \n El enfoque ecológico de Derechos Humanos postula una reactualización de los discursos de Derechos Humanos hacia modelos de regulación – relacional y diferencial – de la convivencia no sólo entre humanos sino también entre humanos y lo no humano. \n El proyecto busca consolidar una red de cooperación académica entre profesores y Universidades con las cuales la UCSF tiene vínculos institucionales\, y con los cuales se comparte una perspectiva crítico-reflexiva de los Derechos Humanos y un horizonte común de justicia eco-social. \nLa propuesta de una Cátedra abierta de Derechos Humanos consiste en la convocatoria de encuentros periódicos virtuales o presenciales abiertos a todo público y con la participación de algún invitado especial que presente una problemática actual relacionada con los Derechos Humanos a modo de disparador para el debate. \nÚltimo VIERNES de cada mes\, 15 hs. \nPor meet : meet.google.com/mqg-ohnx-vcw \n  \n  \n 
URL:https://www.ucsf.edu.ar/evento/catedra-abierta-de-derechos-humanos-2-2021-07-30-2021-08-27/
LOCATION:por meet\, meet.google.com/mqg-ohnx-vcw\, Argentina
CATEGORIES:Investigación Ecojurídica,Alumnos,Docentes,IEHDS Instituto de Ecología Humana y Desarrollo Sustentable,IFD Instituto de Filosofía del Derecho
ORGANIZER;CN="Equipo%20de%20Investigaci%C3%B3n%20Socio-Eco-Jur%C3%ADdica":MAILTO:ecojurinvestiga@ucsf.edu.ar
END:VEVENT
BEGIN:VEVENT
DTSTART;TZID=America/Argentina/Buenos_Aires:20210827T150000
DTEND;TZID=America/Argentina/Buenos_Aires:20210827T180000
DTSTAMP:20260420T212949
CREATED:20210824T111135Z
LAST-MODIFIED:20210824T111204Z
UID:46781-1630076400-1630087200@www.ucsf.edu.ar
SUMMARY:Diplomatura en Bioética: Seminario "Relación Médico-Paciente"
DESCRIPTION:Contenidos: \n1. Evolución de la relación médico-paciente. La información médica y el consentimiento informado. Secreto profesional\, confidencialidad. Competencia y subrogación. Conflictos en la relación. Bioética y principios de la relación médico-paciente.\n2. Los Comités de Ética: de investigación y de Ética Asistencial. Comités de Ética de Investigación: fundamentos\, funciones e implementación de los comités de ética de investigación. Legislación nacional. Investigación terapéutica versus investigación no terapéutica. Códigos internacionales de la ética biomédica. \nDocente:\nDra. Elisabet Vidal
URL:https://www.ucsf.edu.ar/evento/diplomatura-en-bioetica-seminario-relacion-medico-paciente/
LOCATION:UCSF Santa Fe\, Echagüe 7151\, Santa Fe\, Santa Fe\, Argentina
CATEGORIES:IB Instituto de Bioética Jerome Lejeune
ORGANIZER;CN="Instituto%20de%20Bio%C3%A9tica%20%22J%C3%A8r%C3%B4me%20Lejeune%22":MAILTO:bioetica@ucsf.edu.ar
GEO:-31.6069451;-60.6709418
X-APPLE-STRUCTURED-LOCATION;VALUE=URI;X-ADDRESS=UCSF Santa Fe Echagüe 7151 Santa Fe Santa Fe Argentina;X-APPLE-RADIUS=500;X-TITLE=Echagüe 7151:geo:-60.6709418,-31.6069451
END:VEVENT
BEGIN:VEVENT
DTSTART;TZID=America/Argentina/Buenos_Aires:20210827T160000
DTEND;TZID=America/Argentina/Buenos_Aires:20210827T173000
DTSTAMP:20260420T212949
CREATED:20210823T125542Z
LAST-MODIFIED:20210823T134759Z
UID:46731-1630080000-1630085400@www.ucsf.edu.ar
SUMMARY:Investigación Cualitativa. Visión compleja
DESCRIPTION:El “Programa Universidad Abierta para la Casa Común”\, dependiente de la Secretaría de Ciencia y Técnica\, y Extensión\, conjuntamente con la Facultad de Psicología\, sede Rosario\, comunican: que se encuentra abierta la inscripción para el “Conversatorio en torno a la Investigación Cualitativa y la Perspectiva Compleja”. \nObjetivos del conversatorio: cuestionamiento de la tradición positivista. \n\nAbordar la investigación cualitativa\, la visión compleja e integral y múltiple como nuevas perspectivas\, enfoques\, dimensión teórica y metodológica. Los aportes a la condición humana\, la situación actual y la visión cristiana.\nCuestionar supuestos paradigmáticos lógicos\, ontológicos y epistemológicos) en torno a enfoques y conceptualizaciones de la investigación\, que la determinan.\nCartografiar nuevos enfoques\, diseños\, protocolos\, momentos de la investigación\, procesos y resultados. El bucle recursivo y complementario teórico y metodológico\, el diseño de integración múltiple. La triangulación.\n\nDisertante: Dra. Josefa García Ceretto \nDía: viernes 27 de agosto\,  a las 16 hs. \nDestinatarios: público en general. Investigadores. Comunidad de la UCSF y de otras Instituciones y Universidades. \nInscripciones online en el link de abajo\n⇓\nhttps://www.eventbrite.com.ar/e/seminario-la-investigacion-cualitativa-y-la-perspectiva-compleja-tickets-167477932003?aff=Inscripciones\n⇑ \n¡IMPORTANTE! Sólo se enviarán certificados del encuentro\, a quienes se inscriban por medio de este enlace.  \nEl link de Zoom será enviado automáticamente por Eventbrite\, con una antelación de 2 días; 5 horas y 1 hora previa al evento\, a quienes se inscriban online. \nCV abreviado de la Disertante: \nProfesora en Filosofía. Doctora en Educación. Candidata posdoctorada en investigación (certificación en trámite).\nDocente titular e investigadora. Directora del programa para el Pensamiento Complejo (UNR). Directora del instituto de investigación UCSF Rosario.\nDictado de clases maestrías y doctorados (Metodología de la investigación\, Epistemología\, Pensamiento Complejo). Directora y jurado de investigaciones\, tesis doctorales y de maestría.\nAutora de libros\, revistas científicas\, informes finales de investigación. \n  \nContacto: nsturla@ucsf.edu.ar
URL:https://www.ucsf.edu.ar/evento/investigacion-cualitativa-vison-compleja/
LOCATION:UCSF Santa Fe\, Echagüe 7151\, Santa Fe\, Santa Fe\, Argentina
CATEGORIES:Santa Fe,Alumnos,Docentes,Rosario,Personal UCSF,Posadas,Reconquista,Rafaela,Gualeguaychú,Sedes,Extensión,Investigación
ATTACH;FMTTYPE=image/png:https://www.ucsf.edu.ar/wp-content/uploads/2021/08/CONVERSATORIO-INVESTIGACION-CUALITATIVA-imagen.png
GEO:-31.6069451;-60.6709418
X-APPLE-STRUCTURED-LOCATION;VALUE=URI;X-ADDRESS=UCSF Santa Fe Echagüe 7151 Santa Fe Santa Fe Argentina;X-APPLE-RADIUS=500;X-TITLE=Echagüe 7151:geo:-60.6709418,-31.6069451
END:VEVENT
BEGIN:VEVENT
DTSTART;TZID=America/Argentina/Buenos_Aires:20210827T190000
DTEND;TZID=America/Argentina/Buenos_Aires:20210827T203000
DTSTAMP:20260420T212949
CREATED:20210820T195919Z
LAST-MODIFIED:20210820T203612Z
UID:46718-1630090800-1630096200@www.ucsf.edu.ar
SUMMARY:La Persona y su Conciencia. Conversatorio
DESCRIPTION:El Obispado de Reconquista junto al Vicerrectorado de Formación y el Departamento de Filosofía y Teología de la UCSF invitan al Conversatorio “La Persona y su conciencia” que se desarrollará en dos encuentros por la plataforma Zoom. \nLa conciencia\, el lugar más sagrado de la persona\, donde se juegan sus decisiones más profundas e íntimas\, ahí la libertad desarrolla todo su potencial\, y debe ser el centro de donde emana la autonomía humana. Hoy la variedad de leyes y normativas que atentan contra ella nos invitan a crear este espacio de reflexión para que tomando conocimiento de nuestras posibilidades y responsabilidades volvamos a darle el lugar que le corresponde.  \nEl conversatorio que presentamos cuenta de dos encuentros\, el primero una reflexión antropológica\, psicológica y la mirada desde la teología\, para enfocarnos en el segundo encuentro entre otras en la ley de interrupción voluntaria de embarazo (aborto) y la posibilidad de la Objeción de conciencia personal e institucional. \nDos encuentros virtuales y gratuitos destinados a profesionales y estudiantes de la salud y el derecho\, padres de familia\, agentes pastorales\, educadores y todas las personas interesadas en la temática. \nEl primer encuentro se llevará a cabo el próximo Viernes 27 de Agosto a las 19 hs.\, y en él se abordará la temática desde sus Fundamentos Antropológicos. Nos acompañarán el Dr. Luis Niel\, las Lic. en Psicología María Belén Clemente y Daniela Ríos; y el Pbro. Lic. Rolando González. \nEn el segundo encuentro se tratará el tema Aborto y Objeción de Conciencia; desde el enfoque médico y jurídico. El mismo se realizará el 24 de Septiembre a las 19 hs. \n  \nInformes e inscripción: vrecform@ucsf.edu.ar
URL:https://www.ucsf.edu.ar/evento/la-persona-y-su-conciencia-conversatorio/
LOCATION:Vía Zoom\, Argentina
CATEGORIES:A distancia,Home principal,Graduados,Arquitectura y Diseño,Alumnos,Ciencias Agropecuarias,Santa Fe,Facultades,Ciencias de la Salud,Docentes,IB Instituto de Bioética Jerome Lejeune,Rosario,Ciencias Económicas,Personal UCSF,Posadas,Derecho y Ciencia Política,Reconquista,Departamento de Filosofía y Teología,Filosofía y Humanidades,Rafaela,Psicología,Vicerrectorado de Formación,Gualeguaychú,Concordia,Sedes,Extensión,Investigación,Institutos,IF Instituto de Filosofía,IMF Instituto para el Matrimonio y la Familia
ATTACH;FMTTYPE=image/jpeg:https://www.ucsf.edu.ar/wp-content/uploads/2021/08/La-persona-y-su-conciencia-feed_1-e1629491735760.jpg
ORGANIZER;CN="Vicerrectorado%20de%20Formaci%C3%B3n":MAILTO:vrecform@ucsf.edu.ar
END:VEVENT
END:VCALENDAR