BEGIN:VCALENDAR
VERSION:2.0
PRODID:-//UCSF - Universidad Católica de Santa Fe - ECPv5.14.2.1//NONSGML v1.0//EN
CALSCALE:GREGORIAN
METHOD:PUBLISH
X-WR-CALNAME:UCSF - Universidad Católica de Santa Fe
X-ORIGINAL-URL:https://www.ucsf.edu.ar
X-WR-CALDESC:Events for UCSF - Universidad Católica de Santa Fe
REFRESH-INTERVAL;VALUE=DURATION:PT1H
X-Robots-Tag:noindex
X-PUBLISHED-TTL:PT1H
BEGIN:VTIMEZONE
TZID:America/Argentina/Buenos_Aires
BEGIN:STANDARD
TZOFFSETFROM:-0300
TZOFFSETTO:-0300
TZNAME:-03
DTSTART:20210101T000000
END:STANDARD
END:VTIMEZONE
BEGIN:VEVENT
DTSTART;TZID=America/Argentina/Buenos_Aires:20211125T170000
DTEND;TZID=America/Argentina/Buenos_Aires:20211127T130000
DTSTAMP:20260420T153618
CREATED:20210601T144858Z
LAST-MODIFIED:20211122T215623Z
UID:44363-1637859600-1638018000@www.ucsf.edu.ar
SUMMARY:Seminario internacional Salud Global y Ecología Integral
DESCRIPTION:Del 25 al 27 de Noviembre de 2021 se llevará adelante en la Sede Nuestra Señora de Guadalupe\, Santa Fe\, de la UCSF\, el Seminario Internacional “Salud Global y Ecología Integral. Hacia una transición socio-ecológica postpandemia”\, organizado conjuntamente con el KAAD (Servicio Católico Académico Alemán) y con el apoyo del Gobierno de la Provincia de Santa Fe. \nEl evento tendrá una modalidad mixta\, con la participación presencial y virtual de académicos tanto de diferentes países y provincias Argentinas junto como locales y la posibilidad de seguimiento a través de la plataforma zoom y con transmisión simultánea por Youtube. \nParticipación virtual abierta a todo público. INSCRIPCIONES para recibir link de acceso AQUÍ \nPROGRAMA \nJueves 25/11\n17. hs. Inscripciones – Acreditación\n18 hs. Acto de apertura. Thomas Krüggeler – Director Departamento LA del KAAD. Eugenio Martín de Palma – Rector UCSF\n18:30 hs. Entrega del Premio Peter Hünermann al Dr. Lauro Sitzmann por parte del Dr. Thomas Krüggeler\n19.30 hs. Conferencia Inaugural\nLa ecología integral de la Encíclica Laudato sí’\, en el marco en la ecología política latinoamericana y la transición hacia un mundo sustentable\nProf. Enrique Leff\, Universidad Autónoma de México \nViernes 26/11\n8 hs. Acreditación\n8.15 hs. Momento de oración en la capilla\n9 hs. Recepción – Redes\n10 hs. Conferencia magistral\nEcología integral en el contexto de la Iglesia Latinoamericana: Laudato si y Querida Amazonia\, desde la raíz de Aparecida.\nAlejandro Bonet\, Lehmann-Rafaela\, Argentina\n12 hs. Almuerzo\n14 hs. Conversatorio 1: Ecología y salud: Hacia una convivialidad eco-social\nModeran: Guillermo Kerz y Fabiana Faleiros\n16 hs. Pausa – Café\n16.30 hs. Conversatorio 2: Ecología y Política: Hacia una ecología integral?\nModeran: Adrián Beling y Emmanuel Poretti\n18.30 hs. Pausa – Café\n19 hs. Conversatorio 3: Ecología y alimentación: Agricultura\, nutrición e institucionalidad\nModeran: Ana Bonet y Aline Neutzling\n21 hs. Peña \nSábado 27/11\n8 hs. Acreditación\n8.15 hs. Momento de oración en la capilla\n9. hs. Recepción – Redes\n10 hs. Conferencia final\nSalud Global en el contexto de epidemias\nPD Dr. Olaf Horstick\, Universidad de Heidelberg\, Alemania\n12 hs. Cierre Académico\n16 hs Paseo cultural\n19 hs. MISA \nMás info AQUÍ \nINSCRIPCIONES EN ESTE ENLACE\n  \n 
URL:https://www.ucsf.edu.ar/evento/catedra-abierta-de-derechos-humanos-2-2021-07-30-2021-11-26/
LOCATION:UCSF Santa Fe\, Echagüe 7151\, Santa Fe\, Santa Fe\, Argentina
CATEGORIES:Home principal,Investigación Ecojurídica,Graduados,Santa Fe,Facultades,Alumnos,Docentes,Rosario,Personal UCSF,Posadas,Reconquista,Derecho y Ciencia Política,Rafaela,Gualeguaychú,Concordia,Sedes,IEHDS Instituto de Ecología Humana y Desarrollo Sustentable,Institutos,IFD Instituto de Filosofía del Derecho
ORGANIZER;CN="Equipo%20de%20Investigaci%C3%B3n%20Socio-Eco-Jur%C3%ADdica":MAILTO:ecojurinvestiga@ucsf.edu.ar
GEO:-31.6069451;-60.6709418
X-APPLE-STRUCTURED-LOCATION;VALUE=URI;X-ADDRESS=UCSF Santa Fe Echagüe 7151 Santa Fe Santa Fe Argentina;X-APPLE-RADIUS=500;X-TITLE=Echagüe 7151:geo:-60.6709418,-31.6069451
END:VEVENT
END:VCALENDAR