BEGIN:VCALENDAR
VERSION:2.0
PRODID:-//UCSF - Universidad Católica de Santa Fe - ECPv5.14.2.1//NONSGML v1.0//EN
CALSCALE:GREGORIAN
METHOD:PUBLISH
X-WR-CALNAME:UCSF - Universidad Católica de Santa Fe
X-ORIGINAL-URL:https://www.ucsf.edu.ar
X-WR-CALDESC:Events for UCSF - Universidad Católica de Santa Fe
REFRESH-INTERVAL;VALUE=DURATION:PT1H
X-Robots-Tag:noindex
X-PUBLISHED-TTL:PT1H
BEGIN:VTIMEZONE
TZID:America/Argentina/Buenos_Aires
BEGIN:STANDARD
TZOFFSETFROM:-0300
TZOFFSETTO:-0300
TZNAME:-03
DTSTART:20210101T000000
END:STANDARD
END:VTIMEZONE
BEGIN:VEVENT
DTSTART;TZID=America/Argentina/Buenos_Aires:20211211T090000
DTEND;TZID=America/Argentina/Buenos_Aires:20211211T120000
DTSTAMP:20260420T140623
CREATED:20211210T175800Z
LAST-MODIFIED:20211210T175800Z
UID:48977-1639213200-1639224000@www.ucsf.edu.ar
SUMMARY:Retiro de Adviento
DESCRIPTION:Desde la Pastoral Universitaria queremos invitarlos a compartir un tiempo en comunidad que nos ayude a prepararnos para recibir al Niño Dios en nuestros corazones.\n\nPara ello hemos organizado un “Retiro de Adviento”\, que se llevará a cabo este Sábado 11 de diciembre de 9 a 12 hs.\, en el Jardín Margarita A. de Pautasso (Av. de los 7 Jefes 4469).\n\nSólo se necesita Biblia y equipo de mate.\n\n¡Esperamos contar con la presencia de todos!
URL:https://www.ucsf.edu.ar/evento/retiro-de-adviento/
LOCATION:UCSF Santa Fe\, Echagüe 7151\, Santa Fe\, Santa Fe\, Argentina
ATTACH;FMTTYPE=image/jpeg:https://www.ucsf.edu.ar/wp-content/uploads/2021/12/retiro-adviento-feed-01.jpg
GEO:-31.6069451;-60.6709418
X-APPLE-STRUCTURED-LOCATION;VALUE=URI;X-ADDRESS=UCSF Santa Fe Echagüe 7151 Santa Fe Santa Fe Argentina;X-APPLE-RADIUS=500;X-TITLE=Echagüe 7151:geo:-60.6709418,-31.6069451
END:VEVENT
END:VCALENDAR