BEGIN:VCALENDAR
VERSION:2.0
PRODID:-//UCSF - Universidad Católica de Santa Fe - ECPv5.14.2.1//NONSGML v1.0//EN
CALSCALE:GREGORIAN
METHOD:PUBLISH
X-WR-CALNAME:UCSF - Universidad Católica de Santa Fe
X-ORIGINAL-URL:https://www.ucsf.edu.ar
X-WR-CALDESC:Events for UCSF - Universidad Católica de Santa Fe
REFRESH-INTERVAL;VALUE=DURATION:PT1H
X-Robots-Tag:noindex
X-PUBLISHED-TTL:PT1H
BEGIN:VTIMEZONE
TZID:America/Argentina/Buenos_Aires
BEGIN:STANDARD
TZOFFSETFROM:-0300
TZOFFSETTO:-0300
TZNAME:-03
DTSTART:20210101T000000
END:STANDARD
END:VTIMEZONE
BEGIN:VEVENT
DTSTART;TZID=America/Argentina/Buenos_Aires:20211213T093000
DTEND;TZID=America/Argentina/Buenos_Aires:20211213T110000
DTSTAMP:20260420T140433
CREATED:20211210T183339Z
LAST-MODIFIED:20211210T183339Z
UID:48979-1639387800-1639393200@www.ucsf.edu.ar
SUMMARY:Festividad de la Virgen de Guadalupe
DESCRIPTION:12 de Diciembre: Nuestra Señora de Guadalupe\n\n\n\nLa Sede Santa Fe de la UCSF lleva su nombre. Por ello el próximo Lunes 13/12 nos reuniremos a las 9.30 hs.\, en la Capilla Universitaria\, para rezar por las intenciones de nuestra Comunidad.\nComenzaremos rezando el Santo Rosario y finalizaremos con la Celebración Eucarística.
URL:https://www.ucsf.edu.ar/evento/festividad-de-la-virgen-de-guadalupe/
LOCATION:UCSF Santa Fe\, Echagüe 7151\, Santa Fe\, Santa Fe\, Argentina
ATTACH;FMTTYPE=image/jpeg:https://www.ucsf.edu.ar/wp-content/uploads/2021/12/festividad-Guadalupe-01.jpg
GEO:-31.6069451;-60.6709418
X-APPLE-STRUCTURED-LOCATION;VALUE=URI;X-ADDRESS=UCSF Santa Fe Echagüe 7151 Santa Fe Santa Fe Argentina;X-APPLE-RADIUS=500;X-TITLE=Echagüe 7151:geo:-60.6709418,-31.6069451
END:VEVENT
END:VCALENDAR