BEGIN:VCALENDAR
VERSION:2.0
PRODID:-//UCSF - Universidad Católica de Santa Fe - ECPv5.14.2.1//NONSGML v1.0//EN
CALSCALE:GREGORIAN
METHOD:PUBLISH
X-WR-CALNAME:UCSF - Universidad Católica de Santa Fe
X-ORIGINAL-URL:https://www.ucsf.edu.ar
X-WR-CALDESC:Events for UCSF - Universidad Católica de Santa Fe
REFRESH-INTERVAL;VALUE=DURATION:PT1H
X-Robots-Tag:noindex
X-PUBLISHED-TTL:PT1H
BEGIN:VTIMEZONE
TZID:America/Argentina/Buenos_Aires
BEGIN:STANDARD
TZOFFSETFROM:-0300
TZOFFSETTO:-0300
TZNAME:-03
DTSTART:20220101T000000
END:STANDARD
END:VTIMEZONE
BEGIN:VEVENT
DTSTART;TZID=America/Argentina/Buenos_Aires:20220131T000000
DTEND;TZID=America/Argentina/Buenos_Aires:20220204T000000
DTSTAMP:20260420T171223
CREATED:20211203T150107Z
LAST-MODIFIED:20211216T143751Z
UID:48884-1643587200-1643932800@www.ucsf.edu.ar
SUMMARY:Semana Internacional
DESCRIPTION:Actividad para estudiantes de la UCSF en miras a la promoción de trabajo en equipos interculturales. \nRequisito: Nivel intermedio del idioma Inglés \nOrganizan la Universidad Católica de Lille (Francia)\, la Universidad Concordia de Chicago (Estados Unidos) y la Universidad Católica de Santa Fe (Argentina). \nDel 31/01 al 04/02 del año 2022 \n+ info e inscripciones a internacional@ucsf.edu.ar
URL:https://www.ucsf.edu.ar/evento/semana-internacional/
LOCATION:Santa Fe
CATEGORIES:Alumnos,Santa Fe,Rosario,Posadas,Reconquista,Rafaela,Gualeguaychú,Concordia,Sedes,Internacional,Investigación,OPI - Observatorio de Política Internacional
ATTACH;FMTTYPE=image/jpeg:https://www.ucsf.edu.ar/wp-content/uploads/2021/12/Semana-Internacional.jpeg
END:VEVENT
END:VCALENDAR