BEGIN:VCALENDAR
VERSION:2.0
PRODID:-//UCSF - Universidad Católica de Santa Fe - ECPv5.14.2.1//NONSGML v1.0//EN
CALSCALE:GREGORIAN
METHOD:PUBLISH
X-WR-CALNAME:UCSF - Universidad Católica de Santa Fe
X-ORIGINAL-URL:https://www.ucsf.edu.ar
X-WR-CALDESC:Events for UCSF - Universidad Católica de Santa Fe
REFRESH-INTERVAL;VALUE=DURATION:PT1H
X-Robots-Tag:noindex
X-PUBLISHED-TTL:PT1H
BEGIN:VTIMEZONE
TZID:America/Argentina/Buenos_Aires
BEGIN:STANDARD
TZOFFSETFROM:-0300
TZOFFSETTO:-0300
TZNAME:-03
DTSTART:20220101T000000
END:STANDARD
END:VTIMEZONE
BEGIN:VEVENT
DTSTART;TZID=America/Argentina/Buenos_Aires:20220307T183000
DTEND;TZID=America/Argentina/Buenos_Aires:20220307T203000
DTSTAMP:20260420T075345
CREATED:20220217T135257Z
LAST-MODIFIED:20220223T143617Z
UID:49813-1646677800-1646685000@www.ucsf.edu.ar
SUMMARY:Curso de Oratoria Moderna. Cómo mejorar nuestras presentaciones públicas
DESCRIPTION:La Secretaría de Ciencia y Técnica\, y Extensión de la UCSF\, a través del “ Programa Universidad Abierta”\, comunica que se encuentra abierta la inscripción para el “Curso de Oratoria Moderna. Cómo mejorar nuestras presentaciones en público”. \nObjetivos generales:\nEl curso\, que se desarrollara en tres encuentros\, pondrá a disposición de los participantes las técnicas actuales de la Oratoria Moderna para mejorar nuestras intervenciones públicas\, sea en una conferencia\, un discurso\, una clase o exponiendo en un examen.\nLos participantes accederán a las técnicas para manejar el Temor Oratorio\, elaborar un Discurso\, conocer los Recursos que harán sus presentaciones inolvidables y alcanzar un comunicación más efectiva.\nTambién aportará a los participantes una guía sobre la Bibliografía actualizada sobre el tema a los efectos que los interesados puedan elegir y ampliar los conocimientos en la materia. \nDisertante: Fabián Antonio Jerkovich \nDías y horarios: 7; 8 y 9 de marzo\, de 18:30 a 20:30 hs. \nDestinatarios: Personal de la UCSF. Docentes. Público en general. \nModalidad: virtual \nInscripciones: https://www.eventbrite.com.ar/e/los-secretos-de-la-oratoria-moderna-como-mejorar-nuestras-presentaciones-tickets-272199745767?aff=Inscripciones \n  \nCV abreviado del disertante: \nAbogado. Ha ejercido cargos en la actividad pública y privada que suponen la exposición pública de las ideas.\nLleva 34 años en el ejercicio de la docencia.\nDesde 2005 integra la Cátedra de Taller II de la carrera de Abogacía de la Universidad Católica de Santa Fe\, donde imparte los contenidos de Oratoria.\nHa dictado cursos de Oratoria en Sindicatos\, Universidades y en la Escuela de Política del Arzobispado de Santa Fe de la Vera Cruz. \nCupos limitados \nSe otorgarán certificados. \nInformes: Dra. Vanina Sturla: Coordinadora PUA. nsturla@ucsf.edu.ar
URL:https://www.ucsf.edu.ar/evento/curso-de-oratoria-moderna-como-mejorar-nuestras-presentaciones-publicas/
LOCATION:UCSF Santa Fe\, Echagüe 7151\, Santa Fe\, Santa Fe\, Argentina
CATEGORIES:Santa Fe,Editorial,Alumnos,Rosario,Docentes,Posadas,Personal UCSF,Reconquista,Rafaela,Gualeguaychú,Sedes,Extensión,Investigación
ORGANIZER;CN="Vicerrectorado%20Acad%C3%A9mico":MAILTO:vrecacad@ucsf.edu.ar
GEO:-31.6069451;-60.6709418
X-APPLE-STRUCTURED-LOCATION;VALUE=URI;X-ADDRESS=UCSF Santa Fe Echagüe 7151 Santa Fe Santa Fe Argentina;X-APPLE-RADIUS=500;X-TITLE=Echagüe 7151:geo:-60.6709418,-31.6069451
END:VEVENT
END:VCALENDAR