BEGIN:VCALENDAR
VERSION:2.0
PRODID:-//UCSF - Universidad Católica de Santa Fe - ECPv5.14.2.1//NONSGML v1.0//EN
CALSCALE:GREGORIAN
METHOD:PUBLISH
X-WR-CALNAME:UCSF - Universidad Católica de Santa Fe
X-ORIGINAL-URL:https://www.ucsf.edu.ar
X-WR-CALDESC:Events for UCSF - Universidad Católica de Santa Fe
REFRESH-INTERVAL;VALUE=DURATION:PT1H
X-Robots-Tag:noindex
X-PUBLISHED-TTL:PT1H
BEGIN:VTIMEZONE
TZID:America/Argentina/Buenos_Aires
BEGIN:STANDARD
TZOFFSETFROM:-0300
TZOFFSETTO:-0300
TZNAME:-03
DTSTART:20220101T000000
END:STANDARD
END:VTIMEZONE
BEGIN:VEVENT
DTSTART;TZID=America/Argentina/Buenos_Aires:20220315T180000
DTEND;TZID=America/Argentina/Buenos_Aires:20220315T190000
DTSTAMP:20260420T075426
CREATED:20220311T013240Z
LAST-MODIFIED:20220311T013240Z
UID:50189-1647367200-1647370800@www.ucsf.edu.ar
SUMMARY:Reunión informativa: Licenciatura en Administración de Empresas Digitales
DESCRIPTION:Reunión informativa de la Licenciatura en Administración de Empresas Digitales\, a realizarse vía Zoom el próximo 15 de Marzo de 2022 a las 18:00 hs. \nCompartiremos información sobre la carrera\, mostraremos clases modelo\, aulas virtuales y responderemos consultas.\n\nSi te interesa sumarte\, carga tu inscripción a través de este enlace: https://forms.office.com/r/9JVk26FD8V
URL:https://www.ucsf.edu.ar/evento/reunion-informativa-licenciatura-en-administracion-de-empresas-digitales-2/
LOCATION:Virtual\, Argentina
CATEGORIES:Santa Fe,Rosario,Posadas,Reconquista,Rafaela,Gualeguaychú
ORGANIZER;CN="Licenciatura%20en%20Administraci%C3%B3n%20de%20Empresas%20Digitales":MAILTO:laed@ucsf.edu.ar
END:VEVENT
BEGIN:VEVENT
DTSTART;TZID=America/Argentina/Buenos_Aires:20220315T190000
DTEND;TZID=America/Argentina/Buenos_Aires:20220315T190000
DTSTAMP:20260420T075426
CREATED:20220224T195929Z
LAST-MODIFIED:20220224T200648Z
UID:50044-1647370800-1647370800@www.ucsf.edu.ar
SUMMARY:Iglesia y Democracia. Hacia un nuevo pacto social. Aportes de la Doctrina Social de la Iglesia
DESCRIPTION:
URL:https://www.ucsf.edu.ar/evento/iglesia-y-democracia-hacia-un-nuevo-pacto-social-aportes-de-nlla-doctrina-social-de-la-iglesia/
LOCATION:UCSF Santa Fe\, Echagüe 7151\, Santa Fe\, Santa Fe\, Argentina
CATEGORIES:Alumnos,Docentes,Personal UCSF,IDSI Instituto de Doctrina Social de la Iglesia
ATTACH;FMTTYPE=image/jpeg:https://www.ucsf.edu.ar/wp-content/uploads/2022/02/Iglesia-y-democracia.jpg
ORGANIZER;CN="Instituto%20de%20Doctrina%20Social%20de%20la%20Iglesia":MAILTO:institutodsi@ucsf.edu.ar
GEO:-31.6069451;-60.6709418
X-APPLE-STRUCTURED-LOCATION;VALUE=URI;X-ADDRESS=UCSF Santa Fe Echagüe 7151 Santa Fe Santa Fe Argentina;X-APPLE-RADIUS=500;X-TITLE=Echagüe 7151:geo:-60.6709418,-31.6069451
END:VEVENT
END:VCALENDAR