BEGIN:VCALENDAR
VERSION:2.0
PRODID:-//UCSF - Universidad Católica de Santa Fe - ECPv5.14.2.1//NONSGML v1.0//EN
CALSCALE:GREGORIAN
METHOD:PUBLISH
X-WR-CALNAME:UCSF - Universidad Católica de Santa Fe
X-ORIGINAL-URL:https://www.ucsf.edu.ar
X-WR-CALDESC:Events for UCSF - Universidad Católica de Santa Fe
REFRESH-INTERVAL;VALUE=DURATION:PT1H
X-Robots-Tag:noindex
X-PUBLISHED-TTL:PT1H
BEGIN:VTIMEZONE
TZID:America/Argentina/Buenos_Aires
BEGIN:STANDARD
TZOFFSETFROM:-0300
TZOFFSETTO:-0300
TZNAME:-03
DTSTART:20220101T000000
END:STANDARD
END:VTIMEZONE
BEGIN:VEVENT
DTSTART;TZID=America/Argentina/Buenos_Aires:20220317T163000
DTEND;TZID=America/Argentina/Buenos_Aires:20220317T173000
DTSTAMP:20260420T075431
CREATED:20220309T133633Z
LAST-MODIFIED:20220317T195503Z
UID:50174-1647534600-1647538200@www.ucsf.edu.ar
SUMMARY:El desafío de la narrativa transmedia para pensar\, crear y diseñar nuevas estrategias educativas.
DESCRIPTION:La Secretaría de Ciencia y Técnica\, y Extensión de la UCSF\, a través del “Programa Universidad Abierta” y la Facultad de Derecho y Ciencia Política\, comunican que se encuentra abierta la inscripción para el Seminario “El desafío de la narrativa transmedia para pensar\, crear y diseñar nuevas estrategias educativas”. \nHablar de narrativa transmedia implica hablar de nuevos contextos de comunicación (redes sociales)\, de nuevos formatos de comunicación (escrito\, audiovisual\, multimedia\, etc.)\, de nuevos paradigmas en el proceso de educación y aprendizaje (construcción colaborativa del conocimiento vs. transmisión del conocimiento; gestión de la información vs. acumulación enciclopedista de conocimiento)\, de nuevos roles de los partícipes del proceso (el alumno es “prosumidor“\, productor y consumidor\, de conocimiento vs. alumno recipiente del conocimiento del docente; el docente es facilitador de la construcción colaborativa del conocimiento vs. el docente único portador del conocimiento). \nObjetivos generales: \n1. Compartir una experiencia educativa en la enseñanza de la Metodología de la Investigación en el segundo año de la carrera de Abogacía.\n2. Proponer a la narrativa transmedia como una estrategia didáctica posible para la enseñanza de la Metodología del Investigación.\n3. Compartir propuestas educativas posibles que prioricen el desarrollo de las cuatro habilidades centrales del Siglo XXI en la enseñanza de la Metodología del Investigación. \nDisertante: Dr. Mario Fioravante \nDía y horario: 17 de marzo\, a las 16:30 hs. \nDestinatarios: Comunidad de la UCSF. Docentes; investigadores; alumnos; público en general. \nModalidad: virtual \nInscripciones: https://www.eventbrite.com.ar/e/el-desafio-de-la-narrativa-transmedia-para-pensar-crear-y-disenar-nuevas-e-tickets-293768679027?aff=Inscripciones \n  \nUnirse a la reunión Zoom \n https://zoom.us/j/93060130418 \nID de reunión: 930 6013 0418 \n  \nCV abreviado del disertante: \nAbogado\, docente universitario y especialista en la creación\, diseño\, administración y tutorización de aulas virtuales. \nCurso virtual “Creación y Administración de Cursos Online”\, del Departamento de Desarrollo Humano\, Educación y Empleo (DHDEE) de la Organización de los Estados Americanos (OEA)\, (2019).\nCurso virtual “Formación en Tutorías Virtual 2.0 10ma. edición”\, del Departamento de Desarrollo Humano\, Educación y Empleo (DHDEE) de la Organización de los Estados Americanos (OEA)\, (2018).\nCurso virtual “Clases mediadas por TIC. Nuevos formatos para aulas virtuales”\, del Departamento de Teleformación de la Universidad Católica de Santa Fe\, (2018).\nCurso virtual “Diseño de propuestas educativas con modalidad a distancia virtual y blended learning”\, del Departamento de Teleformación de la Universidad Católica de Santa Fe (2017).\nCurso virtual “Formación de tutores para planificar y desarrollar cursos virtuales en la UCSF”\, Departamento de Teleformación de la Universidad Católica de Santa Fe (2017).\nCurso virtual “Prácticas Educativas Mediadas por Tecnologías”\, del Departamento de Teleformación de la Universidad Católica de Santa Fe (2016).\nAutodidacta en la creación\, diseño\, administración y tutorización de las aulas virtuales de Introducción al Derecho\, Taller I – Técnicas de razonamiento jurídico\, Taller II – Técnicas de Expresión Jurídica\, Introducción al Conocimiento y a la Investigación Científica y Filosofía del Derecho de la Facultad de Derecho y Ciencia Política\, Sede Santos Mártires. \nSe otorgarán certificados. \nInformes: Dra. Vanina Sturla: Coordinadora PUA. nsturla@ucsf.edu.ar
URL:https://www.ucsf.edu.ar/evento/el-desafio-de-la-narrativa-transmedia-para-pensar-crear-y-disenar-nuevas-estrategias-educativas/
LOCATION:UCSF Santa Fe\, Echagüe 7151\, Santa Fe\, Santa Fe\, Argentina
CATEGORIES:Santa Fe,Alumnos,Docentes,Rosario,Posadas,Personal UCSF,Reconquista,Rafaela,Gualeguaychú,Sedes,Extensión,Investigación
ORGANIZER;CN="Vicerrectorado%20Acad%C3%A9mico":MAILTO:vrecacad@ucsf.edu.ar
GEO:-31.6069451;-60.6709418
X-APPLE-STRUCTURED-LOCATION;VALUE=URI;X-ADDRESS=UCSF Santa Fe Echagüe 7151 Santa Fe Santa Fe Argentina;X-APPLE-RADIUS=500;X-TITLE=Echagüe 7151:geo:-60.6709418,-31.6069451
END:VEVENT
BEGIN:VEVENT
DTSTART;TZID=America/Argentina/Buenos_Aires:20220317T180000
DTEND;TZID=America/Argentina/Buenos_Aires:20220317T190000
DTSTAMP:20260420T075431
CREATED:20220222T192330Z
LAST-MODIFIED:20220222T193420Z
UID:49902-1647540000-1647543600@www.ucsf.edu.ar
SUMMARY:Charla Informativa - Doctorado en Ciencia Jurídica UCSF
DESCRIPTION:  \nCharla Informativa Virtual- Doctorado en Ciencia Jurídica – Universidad Católica de Santa Fe – \n  \nEl día 17 de marzo de 2022\, a las 18 hs.\, se llevará a cabo de modo virtual\, a través de zoom\, la charla informativa del Doctorado en Ciencia Jurídica\, en la que la directora de la carrera\, Dra. María Marta Didier explicará a los interesados el plan de estudios\, objetivos\, requisitos de admisión y demás cuestiones académicas del referido Doctorado\, por el que la Universidad Católica de Santa Fe otorga el máximo título académico en materia jurídica. \nQuienes deseen participar deberán inscribirse para recibir por mail los datos de la reunión de zoom. \nPara inscripciones Haga click aquí \n 
URL:https://www.ucsf.edu.ar/evento/charla-informativa-doctorado-en-ciencia-juridica-ucsf/
LOCATION:Vía Zoom\, Argentina
CATEGORIES:Santa Fe,Alumnos,Docentes,Personal UCSF,Carreras de Posgrado,Doctorado en Ciencias Jurídicas,Sedes
ATTACH;FMTTYPE=image/jpeg:https://www.ucsf.edu.ar/wp-content/uploads/2022/02/CIENCIA-JURIDICA-charla.jpg
END:VEVENT
END:VCALENDAR