BEGIN:VCALENDAR
VERSION:2.0
PRODID:-//UCSF - Universidad Católica de Santa Fe - ECPv5.14.2.1//NONSGML v1.0//EN
CALSCALE:GREGORIAN
METHOD:PUBLISH
X-WR-CALNAME:UCSF - Universidad Católica de Santa Fe
X-ORIGINAL-URL:https://www.ucsf.edu.ar
X-WR-CALDESC:Events for UCSF - Universidad Católica de Santa Fe
REFRESH-INTERVAL;VALUE=DURATION:PT1H
X-Robots-Tag:noindex
X-PUBLISHED-TTL:PT1H
BEGIN:VTIMEZONE
TZID:America/Argentina/Buenos_Aires
BEGIN:STANDARD
TZOFFSETFROM:-0300
TZOFFSETTO:-0300
TZNAME:-03
DTSTART:20220101T000000
END:STANDARD
END:VTIMEZONE
BEGIN:VEVENT
DTSTART;TZID=America/Argentina/Buenos_Aires:20220409T000000
DTEND;TZID=America/Argentina/Buenos_Aires:20220719T000000
DTSTAMP:20260420T075428
CREATED:20220202T162825Z
LAST-MODIFIED:20220719T122432Z
UID:49481-1649462400-1658188800@www.ucsf.edu.ar
SUMMARY:Diplomatura en Prácticas Estratégicas (DiPraEs)
DESCRIPTION:El “Programa Universidad Abierta para la Casa Común“\, dependiente de la Secretaría de Ciencia y Técnica\, y Extensión\, en conjunto con la Fundación EPYCA ((Equipo de producción y construcción alternativa) comunican que se encuentra abierta la inscripción para la “Diplomatura en Prácticas Estratégicas”. \nFinalidad\nFormar estratégicamente mediante el desarrollo de ensambles prosumidores. \nTítulo \nCertificado de Aprobación y / o Cursado de la Diplomatura en Prácticas Estratégicas (DiPraEs) \nObjetivos de la Diplomatura \nObjetivo General\nEstrategizar prácticas socioproductivas tendientes al bien común \nObjetivos Específicos \n• Diseñar y desarrollar prácticas socioproductivas con los cursantes.\n• Superar y/o resolver situaciones sociales\, culturales\, políticas\, epistemológicas\, metodológicas y\nproductivas\, estrategizando integralmente.\n• Entramar prácticas locales\, provinciales\, regionales\, nacionales\, latinoamericanas e internacionales. \nDestinatarios\nDiPraEs está dirigida a la población en general: profesionales\, productores\, militantes sociales\, técnicos\, docentes\ny estudiantes. No requiere formación previa. \nComienzo de cursado: sábado 9 de abril (Una vez por mes). Duración: 9 meses \nInscripciones online: https://www.eventbrite.com.ar/e/diplomatura-en-practicas-estrategicas-tickets-261021541457?aff=Inscripciones \nCoordinación general: Dra. Mercedes Gagneten \nCV  abreviado: \nDoctorado UBA\, Facultad de Filosofía y Letras\, 2008 / Maestría en Historia Latinoamericana\, Universidad\nInternacional de Andalucía\, España\, 1999 / Trabajadora Social / Profesora Titular Jubilada “Seminario de Cultura\nPopular”\, Carrera de Trabajo Social\, Facultad de Ciencias Sociales\, Universidad de Buenos Aires\, 1993 a 2016 /\nProfesora Titular Jubilada “Seminario Educación Ambiental y Antropología Cultural”\, Facultad de Bioquímica y\nCiencias Biológicas\, Universidad Nacional del Litoral\, 1999 a 2014 / Profesora Titular “Seminario Observación y\nAnálisis de Problemas Sociales”\, Carrera de Nutrición\, Facultad de Ciencias de la Salud\, Universidad Católica de\nSanta Fe\, 2012 a la fecha / Presidenta Fundación EPyCA (Equipo de Producción y Construcción Alternativa\, 2005\na la fecha). \nCoordinación Académica: Dr. Guillermo Kerz \nCV  abreviado:\nDoctor en Medicina KAAD – BONN – ALEMANIA / Vicerrector Académico de la Universidad Católica de Santa Fe\n/ Miembro de la Comisión de Educación Medica Continua de Postgrado en Colegio de Médicos de Santa Fe /\nDocente titular de la Cátedra de fisiología de la Licenciatura en Obstetricia / Médico Especialista en Ginecología y\nObstetricia. \nPara informes: contactarse vía E-mail a ysilva@epyca.org.ar y/o nmachado@epyca.org.ar
URL:https://www.ucsf.edu.ar/evento/diplomatura-en-practicas-estrategicas-dipraes/
LOCATION:Santa Fe
CATEGORIES:Alumnos,Santa Fe,Docentes,Rosario,Personal UCSF,Posadas,Reconquista,Rafaela,Gualeguaychú,Sedes,Extensión,Investigación
ATTACH;FMTTYPE=image/jpeg:https://www.ucsf.edu.ar/wp-content/uploads/2022/02/Diplomatura-en-Practicas-Estrategicas.jpg
END:VEVENT
BEGIN:VEVENT
DTSTART;TZID=America/Argentina/Buenos_Aires:20220520T160000
DTEND;TZID=America/Argentina/Buenos_Aires:20220520T180000
DTSTAMP:20260420T075428
CREATED:20220330T201603Z
LAST-MODIFIED:20220330T205938Z
UID:50577-1653062400-1653069600@www.ucsf.edu.ar
SUMMARY:Defensa de Tesis - Maestría en Relaciones Internacionales- Departamento de Posgrado UCSF
DESCRIPTION:  \nEl Departamento de Posgrado de la Universidad Católica de Santa Fe invita al acto de Defensa de Tesis que se llevará a cabo el próximo viernes 20 de mayo del corriente año\, comprendida dentro del marco de la Carrera de Posgrado\, Maestría en Relaciones Internacionales. \n  \nCandidata: María Victoria Roverano. \nDirectora de Tesis: Dra. Clarisa Giacagglia. \n  \nTítulo de Tesis: \n“La enseñanza de problemáticas contemporáneas mundiales desde los aportes académicos de las Relaciones Internacionales. Propuestas didácticas para su abordaje en los quintos años de Ciencias Sociales y Ciencias Sociales y Humanidades de la Educación Secundaria Orientada de la Provincia de Santa Fe”. \n  \nMiembros del tribunal examinador: \nDra. María Noel Dussort. \nDra. Laura Lucía Bogado Bordazar. \nMgter. Ignacio José de la Torre. \n  \nHorario de Defensa:  16:00 hs   –  Modalidad Zoom\n  \nUnirse a la reunión Zoom  \nhttps://zoom.us/j/99092496599?pwd=VUJHSDd2N1I2NUlCMzVYa1ZoQkJVQT09  \n  \nID de reunión: 990 9249 6599  \nCódigo de acceso: 20052022  \n 
URL:https://www.ucsf.edu.ar/evento/defensa-de-tesis-maestria-en-relaciones-internacionales-departamento-de-posgrado-ucsf/
LOCATION:Vía Zoom\, Argentina
CATEGORIES:Santa Fe,Alumnos,Docentes,Personal UCSF,Carreras de Posgrado,Doctorado en Educación,Sedes,Maestría en Relaciones Internacionales
ATTACH;FMTTYPE=image/jpeg:https://www.ucsf.edu.ar/wp-content/uploads/2022/03/BROCHURE-RELACIONES-INTERNACIONALES-2022-1_page-0001.jpg
END:VEVENT
END:VCALENDAR