BEGIN:VCALENDAR
VERSION:2.0
PRODID:-//UCSF - Universidad Católica de Santa Fe - ECPv5.14.2.1//NONSGML v1.0//EN
CALSCALE:GREGORIAN
METHOD:PUBLISH
X-WR-CALNAME:UCSF - Universidad Católica de Santa Fe
X-ORIGINAL-URL:https://www.ucsf.edu.ar
X-WR-CALDESC:Events for UCSF - Universidad Católica de Santa Fe
REFRESH-INTERVAL;VALUE=DURATION:PT1H
X-Robots-Tag:noindex
X-PUBLISHED-TTL:PT1H
BEGIN:VTIMEZONE
TZID:America/Argentina/Buenos_Aires
BEGIN:STANDARD
TZOFFSETFROM:-0300
TZOFFSETTO:-0300
TZNAME:-03
DTSTART:20220101T000000
END:STANDARD
END:VTIMEZONE
BEGIN:VEVENT
DTSTART;TZID=America/Argentina/Buenos_Aires:20220409T000000
DTEND;TZID=America/Argentina/Buenos_Aires:20220719T000000
DTSTAMP:20260420T075428
CREATED:20220202T162825Z
LAST-MODIFIED:20220719T122432Z
UID:49481-1649462400-1658188800@www.ucsf.edu.ar
SUMMARY:Diplomatura en Prácticas Estratégicas (DiPraEs)
DESCRIPTION:El “Programa Universidad Abierta para la Casa Común“\, dependiente de la Secretaría de Ciencia y Técnica\, y Extensión\, en conjunto con la Fundación EPYCA ((Equipo de producción y construcción alternativa) comunican que se encuentra abierta la inscripción para la “Diplomatura en Prácticas Estratégicas”. \nFinalidad\nFormar estratégicamente mediante el desarrollo de ensambles prosumidores. \nTítulo \nCertificado de Aprobación y / o Cursado de la Diplomatura en Prácticas Estratégicas (DiPraEs) \nObjetivos de la Diplomatura \nObjetivo General\nEstrategizar prácticas socioproductivas tendientes al bien común \nObjetivos Específicos \n• Diseñar y desarrollar prácticas socioproductivas con los cursantes.\n• Superar y/o resolver situaciones sociales\, culturales\, políticas\, epistemológicas\, metodológicas y\nproductivas\, estrategizando integralmente.\n• Entramar prácticas locales\, provinciales\, regionales\, nacionales\, latinoamericanas e internacionales. \nDestinatarios\nDiPraEs está dirigida a la población en general: profesionales\, productores\, militantes sociales\, técnicos\, docentes\ny estudiantes. No requiere formación previa. \nComienzo de cursado: sábado 9 de abril (Una vez por mes). Duración: 9 meses \nInscripciones online: https://www.eventbrite.com.ar/e/diplomatura-en-practicas-estrategicas-tickets-261021541457?aff=Inscripciones \nCoordinación general: Dra. Mercedes Gagneten \nCV  abreviado: \nDoctorado UBA\, Facultad de Filosofía y Letras\, 2008 / Maestría en Historia Latinoamericana\, Universidad\nInternacional de Andalucía\, España\, 1999 / Trabajadora Social / Profesora Titular Jubilada “Seminario de Cultura\nPopular”\, Carrera de Trabajo Social\, Facultad de Ciencias Sociales\, Universidad de Buenos Aires\, 1993 a 2016 /\nProfesora Titular Jubilada “Seminario Educación Ambiental y Antropología Cultural”\, Facultad de Bioquímica y\nCiencias Biológicas\, Universidad Nacional del Litoral\, 1999 a 2014 / Profesora Titular “Seminario Observación y\nAnálisis de Problemas Sociales”\, Carrera de Nutrición\, Facultad de Ciencias de la Salud\, Universidad Católica de\nSanta Fe\, 2012 a la fecha / Presidenta Fundación EPyCA (Equipo de Producción y Construcción Alternativa\, 2005\na la fecha). \nCoordinación Académica: Dr. Guillermo Kerz \nCV  abreviado:\nDoctor en Medicina KAAD – BONN – ALEMANIA / Vicerrector Académico de la Universidad Católica de Santa Fe\n/ Miembro de la Comisión de Educación Medica Continua de Postgrado en Colegio de Médicos de Santa Fe /\nDocente titular de la Cátedra de fisiología de la Licenciatura en Obstetricia / Médico Especialista en Ginecología y\nObstetricia. \nPara informes: contactarse vía E-mail a ysilva@epyca.org.ar y/o nmachado@epyca.org.ar
URL:https://www.ucsf.edu.ar/evento/diplomatura-en-practicas-estrategicas-dipraes/
LOCATION:Santa Fe
CATEGORIES:Santa Fe,Alumnos,Rosario,Docentes,Posadas,Personal UCSF,Reconquista,Rafaela,Gualeguaychú,Sedes,Extensión,Investigación
ATTACH;FMTTYPE=image/jpeg:https://www.ucsf.edu.ar/wp-content/uploads/2022/02/Diplomatura-en-Practicas-Estrategicas.jpg
END:VEVENT
BEGIN:VEVENT
DTSTART;TZID=America/Argentina/Buenos_Aires:20220524T160000
DTEND;TZID=America/Argentina/Buenos_Aires:20220524T160000
DTSTAMP:20260420T075428
CREATED:20220519T155138Z
LAST-MODIFIED:20220520T154757Z
UID:51829-1653408000-1653408000@www.ucsf.edu.ar
SUMMARY:Acto en conmemoración del Día de la Patria
DESCRIPTION:Invitamos a toda la Comunidad UCSF de la sede Virgen de Guadalupe\, a unirse al breve acto que realizaremos en el hall\, el día martes 24\, a las 16hs\, para conmemorar la Revolución de Mayo.
URL:https://www.ucsf.edu.ar/evento/acto-en-conmemoracion-del-dia-de-la-patria/
LOCATION:UCSF Santa Fe\, Echagüe 7151\, Santa Fe\, Santa Fe\, Argentina
CATEGORIES:Graduados,Santa Fe,Facultades,Alumnos,Carreras de Grado,Docentes,Personal UCSF,Sedes
ATTACH;FMTTYPE=image/jpeg:https://www.ucsf.edu.ar/wp-content/uploads/2022/05/invitacion-25-de-mayo_Mesa-de-trabajo-1-1.jpg
GEO:-31.6069451;-60.6709418
X-APPLE-STRUCTURED-LOCATION;VALUE=URI;X-ADDRESS=UCSF Santa Fe Echagüe 7151 Santa Fe Santa Fe Argentina;X-APPLE-RADIUS=500;X-TITLE=Echagüe 7151:geo:-60.6709418,-31.6069451
END:VEVENT
BEGIN:VEVENT
DTSTART;TZID=America/Argentina/Buenos_Aires:20220524T160000
DTEND;TZID=America/Argentina/Buenos_Aires:20220524T163000
DTSTAMP:20260420T075428
CREATED:20220629T203728Z
LAST-MODIFIED:20220629T210813Z
UID:52699-1653408000-1653409800@www.ucsf.edu.ar
SUMMARY:Acto por el 25 de mayo
DESCRIPTION:En conmemoración de la Revolución de Mayo\, realizaremos un acto en el Hall principal de la Sede Virgen de Guadalupe\, para entonar el Himno Nacional y celebrar. \nSerá el martes 24\, a las 16 horas. \n¡Los esperamos!
URL:https://www.ucsf.edu.ar/evento/acto-por-el-25-de-mayo/
LOCATION:UCSF Santa Fe\, Echagüe 7151\, Santa Fe\, Santa Fe\, Argentina
CATEGORIES:Santa Fe,Facultades,Alumnos,Carreras de Grado,Docentes,Personal UCSF,Sedes
ATTACH;FMTTYPE=image/png:https://www.ucsf.edu.ar/wp-content/uploads/2022/06/25mayo.png
GEO:-31.6069451;-60.6709418
X-APPLE-STRUCTURED-LOCATION;VALUE=URI;X-ADDRESS=UCSF Santa Fe Echagüe 7151 Santa Fe Santa Fe Argentina;X-APPLE-RADIUS=500;X-TITLE=Echagüe 7151:geo:-60.6709418,-31.6069451
END:VEVENT
BEGIN:VEVENT
DTSTART;TZID=America/Argentina/Buenos_Aires:20220524T180000
DTEND;TZID=America/Argentina/Buenos_Aires:20220524T190000
DTSTAMP:20260420T075428
CREATED:20220516T205416Z
LAST-MODIFIED:20220516T215139Z
UID:51741-1653415200-1653418800@www.ucsf.edu.ar
SUMMARY:Tertulia de Investigación
DESCRIPTION:El Instituto de Investigaciones de la Facultad de Ciencias de la Salud invita a docentes\, alumnos y egresados al primer encuentro de Tertulia de Investigación 2022. \nEl mismo contará con la presencia de la docente de la carrera de Licenciatura en Nutrición de la UCSF\, la Lic. Julieta Gijena quien compartirá su trabajo final presentado para la obtención del título de Especialidad en Metodologías de la investigación (UNER)\, titulado:  SIGNIFICADOS Y SUPUESTOS TEÓRICOS SOBRE LA EDUCACIÓN ALIMENTARIA NUTRICIONAL DEL EQUIPO TÉCNICO DEL SERVICIO ALIMENTARIO DEL MINISTERIO DE DESARROLLO SOCIAL DE SANTA FE. \nLa actividad se realizará de modo presencial el día martes 24 de mayo a las 18 hs en el aula 5.51. \nNo se requiere inscripción previa.
URL:https://www.ucsf.edu.ar/evento/tertulia-de-investigacion/
LOCATION:UCSF Santa Fe\, Echagüe 7151\, Santa Fe\, Santa Fe\, Argentina
CATEGORIES:Alumnos,Docentes,IIFCS Instituto de Investigación de la Facultad de Ciencias de la Salud
ATTACH;FMTTYPE=image/jpeg:https://www.ucsf.edu.ar/wp-content/uploads/2022/05/76212d47-cf93-433f-89b6-b5133007b585.jpg
ORGANIZER;CN="Instituto%20de%20Investigaciones%20de%20la%20Facultad%20de%20Ciencias%20de%20la%20Salud":MAILTO:iifcs@ucsf.edu.ar
GEO:-31.6069451;-60.6709418
X-APPLE-STRUCTURED-LOCATION;VALUE=URI;X-ADDRESS=UCSF Santa Fe Echagüe 7151 Santa Fe Santa Fe Argentina;X-APPLE-RADIUS=500;X-TITLE=Echagüe 7151:geo:-60.6709418,-31.6069451
END:VEVENT
END:VCALENDAR