BEGIN:VCALENDAR
VERSION:2.0
PRODID:-//UCSF - Universidad Católica de Santa Fe - ECPv5.14.2.1//NONSGML v1.0//EN
CALSCALE:GREGORIAN
METHOD:PUBLISH
X-WR-CALNAME:UCSF - Universidad Católica de Santa Fe
X-ORIGINAL-URL:https://www.ucsf.edu.ar
X-WR-CALDESC:Events for UCSF - Universidad Católica de Santa Fe
REFRESH-INTERVAL;VALUE=DURATION:PT1H
X-Robots-Tag:noindex
X-PUBLISHED-TTL:PT1H
BEGIN:VTIMEZONE
TZID:America/Argentina/Buenos_Aires
BEGIN:STANDARD
TZOFFSETFROM:-0300
TZOFFSETTO:-0300
TZNAME:-03
DTSTART:20220101T000000
END:STANDARD
END:VTIMEZONE
BEGIN:VEVENT
DTSTART;TZID=America/Argentina/Buenos_Aires:20220409T000000
DTEND;TZID=America/Argentina/Buenos_Aires:20220719T000000
DTSTAMP:20260420T075428
CREATED:20220202T162825Z
LAST-MODIFIED:20220719T122432Z
UID:49481-1649462400-1658188800@www.ucsf.edu.ar
SUMMARY:Diplomatura en Prácticas Estratégicas (DiPraEs)
DESCRIPTION:El “Programa Universidad Abierta para la Casa Común“\, dependiente de la Secretaría de Ciencia y Técnica\, y Extensión\, en conjunto con la Fundación EPYCA ((Equipo de producción y construcción alternativa) comunican que se encuentra abierta la inscripción para la “Diplomatura en Prácticas Estratégicas”. \nFinalidad\nFormar estratégicamente mediante el desarrollo de ensambles prosumidores. \nTítulo \nCertificado de Aprobación y / o Cursado de la Diplomatura en Prácticas Estratégicas (DiPraEs) \nObjetivos de la Diplomatura \nObjetivo General\nEstrategizar prácticas socioproductivas tendientes al bien común \nObjetivos Específicos \n• Diseñar y desarrollar prácticas socioproductivas con los cursantes.\n• Superar y/o resolver situaciones sociales\, culturales\, políticas\, epistemológicas\, metodológicas y\nproductivas\, estrategizando integralmente.\n• Entramar prácticas locales\, provinciales\, regionales\, nacionales\, latinoamericanas e internacionales. \nDestinatarios\nDiPraEs está dirigida a la población en general: profesionales\, productores\, militantes sociales\, técnicos\, docentes\ny estudiantes. No requiere formación previa. \nComienzo de cursado: sábado 9 de abril (Una vez por mes). Duración: 9 meses \nInscripciones online: https://www.eventbrite.com.ar/e/diplomatura-en-practicas-estrategicas-tickets-261021541457?aff=Inscripciones \nCoordinación general: Dra. Mercedes Gagneten \nCV  abreviado: \nDoctorado UBA\, Facultad de Filosofía y Letras\, 2008 / Maestría en Historia Latinoamericana\, Universidad\nInternacional de Andalucía\, España\, 1999 / Trabajadora Social / Profesora Titular Jubilada “Seminario de Cultura\nPopular”\, Carrera de Trabajo Social\, Facultad de Ciencias Sociales\, Universidad de Buenos Aires\, 1993 a 2016 /\nProfesora Titular Jubilada “Seminario Educación Ambiental y Antropología Cultural”\, Facultad de Bioquímica y\nCiencias Biológicas\, Universidad Nacional del Litoral\, 1999 a 2014 / Profesora Titular “Seminario Observación y\nAnálisis de Problemas Sociales”\, Carrera de Nutrición\, Facultad de Ciencias de la Salud\, Universidad Católica de\nSanta Fe\, 2012 a la fecha / Presidenta Fundación EPyCA (Equipo de Producción y Construcción Alternativa\, 2005\na la fecha). \nCoordinación Académica: Dr. Guillermo Kerz \nCV  abreviado:\nDoctor en Medicina KAAD – BONN – ALEMANIA / Vicerrector Académico de la Universidad Católica de Santa Fe\n/ Miembro de la Comisión de Educación Medica Continua de Postgrado en Colegio de Médicos de Santa Fe /\nDocente titular de la Cátedra de fisiología de la Licenciatura en Obstetricia / Médico Especialista en Ginecología y\nObstetricia. \nPara informes: contactarse vía E-mail a ysilva@epyca.org.ar y/o nmachado@epyca.org.ar
URL:https://www.ucsf.edu.ar/evento/diplomatura-en-practicas-estrategicas-dipraes/
LOCATION:Santa Fe
CATEGORIES:Santa Fe,Alumnos,Rosario,Docentes,Posadas,Personal UCSF,Reconquista,Rafaela,Gualeguaychú,Sedes,Extensión,Investigación
ATTACH;FMTTYPE=image/jpeg:https://www.ucsf.edu.ar/wp-content/uploads/2022/02/Diplomatura-en-Practicas-Estrategicas.jpg
END:VEVENT
BEGIN:VEVENT
DTSTART;TZID=America/Argentina/Buenos_Aires:20220527T100000
DTEND;TZID=America/Argentina/Buenos_Aires:20220527T120000
DTSTAMP:20260420T075428
CREATED:20220517T224348Z
LAST-MODIFIED:20220517T225601Z
UID:51668-1653645600-1653652800@www.ucsf.edu.ar
SUMMARY:Defensa de Tesis Fabiana Montenegro – “Doctorado en Educación” - Departamento de Posgrado UCSF
DESCRIPTION:  \nEl Departamento de Posgrado de la Universidad Católica de Santa Fe invita al acto de Defensa de Tesis que se llevará a cabo el próximo viernes 27 de mayo del corriente año\, comprendida dentro del marco de la carrera de Posgrado\, Doctorado en Educación. \n  \nCandidata: Fabiana Guadalupe Montenegro \nDirección de Tesis: Dr. Marcelo Daniel Pocholu \n                                                                    Co-dirección: Dra. María Mercedes Civarolo \n  \nTítulo de Tesis: \n“CARACTERIZACIÓN DE LAS TAREAS DE MATEMÁTICA QUE SE PROPONEN EN UNA FORMACIÓN CONTINUA DE PROFESORES CUANDO LAS TIC SE ESTABLECEN COMO RECURSO PRIORITARIO”. \nMiembros del tribunal examinador: \n                                                                                           – Dra. Liliana Tauber \n                                                                                           – Dra. María Virginia Luna \n                                                                                           – Dra. Verónica Rebaudino \n  \nHorario de Defensa: 10:00 hs  –  Modalidad Zoom \n  \nUnirse a la reunión Zoom  \nhttps://zoom.us/j/97635175537?pwd=SXlXUnhTS244TURuaDNaRXpGWW5Udz09  \n  \nID de reunión: 976 3517 5537  \nCódigo de acceso: 27052022  \n 
URL:https://www.ucsf.edu.ar/evento/defensa-de-tesis-fabiana-montenegro-doctorado-en-educacion-departamento-de-posgrado-ucsf/
LOCATION:Vía Zoom\, Argentina
CATEGORIES:Santa Fe,Alumnos,Docentes,Personal UCSF,Carreras de Posgrado,Doctorado en Educación,Sedes
ATTACH;FMTTYPE=image/png:https://www.ucsf.edu.ar/wp-content/uploads/2022/05/png_20220517_193923_0000.png
END:VEVENT
BEGIN:VEVENT
DTSTART;TZID=America/Argentina/Buenos_Aires:20220527T150000
DTEND;TZID=America/Argentina/Buenos_Aires:20220527T170000
DTSTAMP:20260420T075428
CREATED:20220212T220127Z
LAST-MODIFIED:20220316T201750Z
UID:49655-1653663600-1653670800@www.ucsf.edu.ar
SUMMARY:Cátedra abierta de Derechos Humanos
DESCRIPTION:  \n \n  \n  \nLa Cátedra Abierta de Derechos Humanos  procura instaurar una ‘plataforma horizontal de intercambio de saberes’ sobre problemáticas actuales relacionadas con los Derechos Humanos. Este proyecto de extensión surge a partir de la necesidad y conveniencia no sólo de comunicar y difundir los avances y resultados obtenidos\, sino ante todo de consolidar lazos con otras instituciones académicas\, así como de intercambiar perspectivas con otros ámbitos\, incluso no estríctamente académicos como la política\, la economía y la práctica jurídica. \n  \nInformación para unirse a la reunión de Google Meet\nVínculo a la videollamada: https://meet.google.com/wou-opat-qpj \n  \n  \nen Colaboración con el Programa Universidad para la Casa Común de la Secretaría de Ciencia\, Técnica y Extensión de la UCSF y Fundación Ecoceno \n  \n  \n  \n  \n \n  \n  \n  \n  \n  \n 
URL:https://www.ucsf.edu.ar/evento/catedra-abierta-de-derechos-humanos-4-2022-05-27/
LOCATION:UCSF Santa Fe\, Echagüe 7151\, Santa Fe\, Santa Fe\, Argentina
CATEGORIES:Investigación Ecojurídica,Alumnos,Docentes,Personal UCSF
ORGANIZER;CN="Equipo%20de%20Investigaci%C3%B3n%20Socio-Eco-Jur%C3%ADdica":MAILTO:ecojurinvestiga@ucsf.edu.ar
GEO:-31.6069451;-60.6709418
X-APPLE-STRUCTURED-LOCATION;VALUE=URI;X-ADDRESS=UCSF Santa Fe Echagüe 7151 Santa Fe Santa Fe Argentina;X-APPLE-RADIUS=500;X-TITLE=Echagüe 7151:geo:-60.6709418,-31.6069451
END:VEVENT
BEGIN:VEVENT
DTSTART;TZID=America/Argentina/Buenos_Aires:20220527T163000
DTEND;TZID=America/Argentina/Buenos_Aires:20220527T203000
DTSTAMP:20260420T075428
CREATED:20220405T161916Z
LAST-MODIFIED:20220405T161916Z
UID:50793-1653669000-1653683400@www.ucsf.edu.ar
SUMMARY:Actualización en Literatura comparada
DESCRIPTION:Actualización en Literatura comparada \nLic. Gustavo Esquivo \nEl objetivo de este seminario es brindar a los asistentes un panorama del origen y la evolución de una disciplina que pasó por varias crisis importantes desde mediados del siglo XIX hasta la actualidad. \nEn estos momentos\, la interdisciplinariedad – desde siempre presente en la metodología comparatista – ha abierto sus puertas a nuevas tendencias\, más afines a la época actual. En interacción y cercanía con otras artes y saberes\, se ha redefinido el objeto y el método. En este sentido\, la globalización ha requerido de una fundamentación en estrecha interacción con los estudios comparados de la cultura\, el criterio del canon literario (cultural) se ha derrumbado\, y los aspectos estéticos tradicionales han perdido su exclusividad\, integrándose a las tendencias multiculturales\, sociológicas y pragmáticas. \nEs necesario ubicarse en este contexto y conocer la especificidad de los cambios\, para poder abordar desde la perspectiva comparatista los temas relacionados con las problemáticas anteriormente mencionadas y para reflexionar sobre el hecho literario en la actualidad. \nLa Actualización es de cursado intensivo los viernes de 16.30 a 20.30 y los sábados de 8.30 a 12.30\, hasta el 8 de julio\, inclusive. \nLas clases serán en modalidad distribuida\, esto es encuentros presenciales\, sincrónicos a través de Zoom y asincrónicos mediante el Campus UCSF.
URL:https://www.ucsf.edu.ar/evento/actualizacion-en-literatura-comparada/
LOCATION:UCSF Sede Gualeguaychú\, Primera Junta 75\, Gualeguaychú\, Entre Ríos\, Argentina
CATEGORIES:Graduados,Santa Fe,Facultades,Alumnos,Carreras de Grado,Docentes,Personal UCSF,Sistema de Bibliotecas,Filosofía y Humanidades,Gualeguaychú,Licenciatura  en Letras (CCC),Sedes,Extensión,Institutos,IIEA Instituto de Investigaciones en Educación Argentina
ATTACH;FMTTYPE=image/jpeg:https://www.ucsf.edu.ar/wp-content/uploads/2022/04/Actualizacion-en-lengua-y-literatura_literatura-comparada.jpg
END:VEVENT
END:VCALENDAR