BEGIN:VCALENDAR
VERSION:2.0
PRODID:-//UCSF - Universidad Católica de Santa Fe - ECPv5.14.2.1//NONSGML v1.0//EN
CALSCALE:GREGORIAN
METHOD:PUBLISH
X-WR-CALNAME:UCSF - Universidad Católica de Santa Fe
X-ORIGINAL-URL:https://www.ucsf.edu.ar
X-WR-CALDESC:Events for UCSF - Universidad Católica de Santa Fe
REFRESH-INTERVAL;VALUE=DURATION:PT1H
X-Robots-Tag:noindex
X-PUBLISHED-TTL:PT1H
BEGIN:VTIMEZONE
TZID:America/Argentina/Buenos_Aires
BEGIN:STANDARD
TZOFFSETFROM:-0300
TZOFFSETTO:-0300
TZNAME:-03
DTSTART:20220101T000000
END:STANDARD
END:VTIMEZONE
BEGIN:VEVENT
DTSTART;TZID=America/Argentina/Buenos_Aires:20220409T000000
DTEND;TZID=America/Argentina/Buenos_Aires:20220719T000000
DTSTAMP:20260420T012936
CREATED:20220202T162825Z
LAST-MODIFIED:20220719T122432Z
UID:49481-1649462400-1658188800@www.ucsf.edu.ar
SUMMARY:Diplomatura en Prácticas Estratégicas (DiPraEs)
DESCRIPTION:El “Programa Universidad Abierta para la Casa Común“\, dependiente de la Secretaría de Ciencia y Técnica\, y Extensión\, en conjunto con la Fundación EPYCA ((Equipo de producción y construcción alternativa) comunican que se encuentra abierta la inscripción para la “Diplomatura en Prácticas Estratégicas”. \nFinalidad\nFormar estratégicamente mediante el desarrollo de ensambles prosumidores. \nTítulo \nCertificado de Aprobación y / o Cursado de la Diplomatura en Prácticas Estratégicas (DiPraEs) \nObjetivos de la Diplomatura \nObjetivo General\nEstrategizar prácticas socioproductivas tendientes al bien común \nObjetivos Específicos \n• Diseñar y desarrollar prácticas socioproductivas con los cursantes.\n• Superar y/o resolver situaciones sociales\, culturales\, políticas\, epistemológicas\, metodológicas y\nproductivas\, estrategizando integralmente.\n• Entramar prácticas locales\, provinciales\, regionales\, nacionales\, latinoamericanas e internacionales. \nDestinatarios\nDiPraEs está dirigida a la población en general: profesionales\, productores\, militantes sociales\, técnicos\, docentes\ny estudiantes. No requiere formación previa. \nComienzo de cursado: sábado 9 de abril (Una vez por mes). Duración: 9 meses \nInscripciones online: https://www.eventbrite.com.ar/e/diplomatura-en-practicas-estrategicas-tickets-261021541457?aff=Inscripciones \nCoordinación general: Dra. Mercedes Gagneten \nCV  abreviado: \nDoctorado UBA\, Facultad de Filosofía y Letras\, 2008 / Maestría en Historia Latinoamericana\, Universidad\nInternacional de Andalucía\, España\, 1999 / Trabajadora Social / Profesora Titular Jubilada “Seminario de Cultura\nPopular”\, Carrera de Trabajo Social\, Facultad de Ciencias Sociales\, Universidad de Buenos Aires\, 1993 a 2016 /\nProfesora Titular Jubilada “Seminario Educación Ambiental y Antropología Cultural”\, Facultad de Bioquímica y\nCiencias Biológicas\, Universidad Nacional del Litoral\, 1999 a 2014 / Profesora Titular “Seminario Observación y\nAnálisis de Problemas Sociales”\, Carrera de Nutrición\, Facultad de Ciencias de la Salud\, Universidad Católica de\nSanta Fe\, 2012 a la fecha / Presidenta Fundación EPyCA (Equipo de Producción y Construcción Alternativa\, 2005\na la fecha). \nCoordinación Académica: Dr. Guillermo Kerz \nCV  abreviado:\nDoctor en Medicina KAAD – BONN – ALEMANIA / Vicerrector Académico de la Universidad Católica de Santa Fe\n/ Miembro de la Comisión de Educación Medica Continua de Postgrado en Colegio de Médicos de Santa Fe /\nDocente titular de la Cátedra de fisiología de la Licenciatura en Obstetricia / Médico Especialista en Ginecología y\nObstetricia. \nPara informes: contactarse vía E-mail a ysilva@epyca.org.ar y/o nmachado@epyca.org.ar
URL:https://www.ucsf.edu.ar/evento/diplomatura-en-practicas-estrategicas-dipraes/
LOCATION:Santa Fe
CATEGORIES:Alumnos,Santa Fe,Docentes,Rosario,Personal UCSF,Posadas,Reconquista,Rafaela,Gualeguaychú,Sedes,Extensión,Investigación
ATTACH;FMTTYPE=image/jpeg:https://www.ucsf.edu.ar/wp-content/uploads/2022/02/Diplomatura-en-Practicas-Estrategicas.jpg
END:VEVENT
BEGIN:VEVENT
DTSTART;TZID=America/Argentina/Buenos_Aires:20220602T100000
DTEND;TZID=America/Argentina/Buenos_Aires:20220622T220221
DTSTAMP:20260420T012936
CREATED:20220622T220218Z
LAST-MODIFIED:20220622T220218Z
UID:52508-1654164000-1655935341@www.ucsf.edu.ar
SUMMARY:Conmemoración de la Guerra de Malvinas
DESCRIPTION:A los 40 años del hundimiento del Crucero General Belgrano en la Guerra de Malvinas\, realizaremos un acto en el hall de la Universidad\, sede Virgen de Guadalupe\, al que invitamos a toda la comunidad. \nNos acompañarán Veteranos y familiares de caídos en Malvinas\, a quienes queremos recordar y homenajear\, en este aniversario y por siempre. \n¡Los esperamos!
URL:https://www.ucsf.edu.ar/evento/conmemoracion-de-la-guerra-de-malvinas/
LOCATION:UCSF Santa Fe\, Echagüe 7151\, Santa Fe\, Santa Fe\, Argentina
CATEGORIES:Home principal,Alumnos,Santa Fe,Facultades,Docentes,Carreras de Grado,Personal UCSF,Sedes,Extensión
ATTACH;FMTTYPE=image/png:https://www.ucsf.edu.ar/wp-content/uploads/2022/06/malvinas.png
GEO:-31.6069451;-60.6709418
X-APPLE-STRUCTURED-LOCATION;VALUE=URI;X-ADDRESS=UCSF Santa Fe Echagüe 7151 Santa Fe Santa Fe Argentina;X-APPLE-RADIUS=500;X-TITLE=Echagüe 7151:geo:-60.6709418,-31.6069451
END:VEVENT
BEGIN:VEVENT
DTSTART;TZID=America/Argentina/Buenos_Aires:20220609T073000
DTEND;TZID=America/Argentina/Buenos_Aires:20220622T210448
DTSTAMP:20260420T012936
CREATED:20220622T210445Z
LAST-MODIFIED:20220622T210445Z
UID:52490-1654759800-1655931888@www.ucsf.edu.ar
SUMMARY:Chocolatada por los 65 años de la Universidad
DESCRIPTION:Con motivo de los 65 baños de nuestra Universidad\, queremos celebrar en comunidad\, compartiendo una chocolatada en cada una de las sedes. \nLos horarios son los siguientes: \nSanta Fe: 10 y 16hs\nRafaela: 10 y 17hs\nRosario: 10 y 17.30hs\nPosadas: 9.30 y 16.30hs\nReconquista: 10 y 17.30hs\nGualeguaychú: 18hs \n¡Los esperamos a todos!
URL:https://www.ucsf.edu.ar/evento/chocolatada-por-los-65-anos-de-la-universidad/
LOCATION:UCSF\, Echagüe 7151\, Santa Fe Capital\, Santa Fe\, 3000\, Argentina
CATEGORIES:Home principal,Facultades,Alumnos,Santa Fe,Carreras de Grado,Docentes,Rosario,Personal UCSF,Posadas,Reconquista,Rafaela,Gualeguaychú,Sedes,Extensión
ATTACH;FMTTYPE=image/jpeg:https://www.ucsf.edu.ar/wp-content/uploads/2022/06/CHOCOLATE-novedades-2.jpg
END:VEVENT
BEGIN:VEVENT
DTSTART;TZID=America/Argentina/Buenos_Aires:20220609T180000
DTEND;TZID=America/Argentina/Buenos_Aires:20220609T200000
DTSTAMP:20260420T012936
CREATED:20220622T212832Z
LAST-MODIFIED:20220622T212832Z
UID:52493-1654797600-1654804800@www.ucsf.edu.ar
SUMMARY:Acto por los 65 años de la Universidad
DESCRIPTION:Los festejos en la sede Virgen de Guadalupe\, comenzarán a las 18hs con una misa presidida por el Vice Canciller\, Pbro. Lic. Ernesto Agüera\, en agradecimiento por la historia recorrida. Será en la Capilla Universitaria. \nLuego\, a las 19hs se realizará un acto en el aula 1.27\, que finalizará con la participación del Coro Universitario\, y un Vino de Honor. \n¡Los esperamos para compartir juntos esta fiesta!
URL:https://www.ucsf.edu.ar/evento/acto-por-los-65-anos-de-la-universidad/
LOCATION:UCSF Santa Fe\, Echagüe 7151\, Santa Fe\, Santa Fe\, Argentina
CATEGORIES:UVT, Unidad de Vincullación Tecnológica,Home principal,Alumnos,Santa Fe,Facultades,Docentes,Carreras de Grado,Personal UCSF,Sedes,Extensión
ATTACH;FMTTYPE=image/png:https://www.ucsf.edu.ar/wp-content/uploads/2022/06/logo-65-azul-png.png
GEO:-31.6069451;-60.6709418
X-APPLE-STRUCTURED-LOCATION;VALUE=URI;X-ADDRESS=UCSF Santa Fe Echagüe 7151 Santa Fe Santa Fe Argentina;X-APPLE-RADIUS=500;X-TITLE=Echagüe 7151:geo:-60.6709418,-31.6069451
END:VEVENT
END:VCALENDAR